From mboxrd@z Thu Jan 1 00:00:00 1970 Return-Path: Received: from mails.dpdk.org (mails.dpdk.org [217.70.189.124]) by inbox.dpdk.org (Postfix) with ESMTP id 52F7C48964 for ; Sat, 18 Oct 2025 06:15:12 +0200 (CEST) Received: from mails.dpdk.org (localhost [127.0.0.1]) by mails.dpdk.org (Postfix) with ESMTP id 2D8B5400D7; Sat, 18 Oct 2025 06:15:12 +0200 (CEST) Received: from mail-pl1-f225.google.com (mail-pl1-f225.google.com [209.85.214.225]) by mails.dpdk.org (Postfix) with ESMTP id A0606400D7 for ; Sat, 18 Oct 2025 06:15:10 +0200 (CEST) Received: by mail-pl1-f225.google.com with SMTP id d9443c01a7336-290b48e09a7so28614185ad.0 for ; Fri, 17 Oct 2025 21:15:10 -0700 (PDT) DKIM-Signature: v=1; a=rsa-sha256; c=relaxed/relaxed; d=iol.unh.edu; s=unh-iol; t=1760760910; x=1761365710; darn=dpdk.org; h=references:in-reply-to:cc:to:from:subject:message-id:date:from:to :cc:subject:date:message-id:reply-to; bh=WcGbcGiwzs0yYZfsgU3SJJkbS/P07Pf6xi+Foup5Wx8=; b=DFz+OJ3B2Bsb9FLMOTqz013HfwWsSlguBd9Bt2KXUs4n5Ed3tOZACCaXbcqqPs96+e UrtnHuAiX2NkZVgRMUf9u9Yox6e0i+Tsrkx+sSdsi4q4DbvL3tBIBKE33NjtxM2CG3W0 9eimcD7a3obHAI6fhlYsR8tW6REG6bTdRiTFA= X-Google-DKIM-Signature: v=1; a=rsa-sha256; c=relaxed/relaxed; d=1e100.net; s=20230601; t=1760760910; x=1761365710; h=references:in-reply-to:cc:to:from:subject:message-id:date :x-gm-message-state:from:to:cc:subject:date:message-id:reply-to; bh=WcGbcGiwzs0yYZfsgU3SJJkbS/P07Pf6xi+Foup5Wx8=; b=bd5FXxkEX+tWImE0MTl6ricJs0AkHcShv4i+a5mvEm0+X/ToyhyWicbkiBDL7h3r0V X6Abd/BMUcH6pXdw8L2HulyhMJJdOKD6N5ZP4YgEhAxKQHzVPQl+CTQmnHn4OyNt2o6E sfpCdyTNV8xglV97YzINYznxD7rKxta1bbZDZ83+A4d7A8UJk5Q8J5jgPLiB21a71mRK Mcj+MfcT8n/+cdev5kS0uKTenfocfzgEk9cY0lAQhOeICaM40FKdZ+MBUlyECJm//kE9 5TjkPBIORg1AWJsRz8v/QkDfPtGyMxkZDDlEkijdkQkHXRYdLFfEts2PRwP9+oz/fwy5 k2Yw== X-Gm-Message-State: AOJu0YwVSytgrZ4fWKDw0LMp9j3Chr9tdtTUTAdN5WMRPfmQTbPq/MYH uCix56yRG7xBBRt61f1jisaE3LcnxRVH2p5qIPyQXfooF45AeggtPeIEkU712WweGdako+VTmMT EQCkUHtdzOdHKi4r/UUNbClATcafPaQRKMxDFdjROtLjjWAH1dn87pKuRnShu X-Gm-Gg: ASbGncvaNcuPRec6eUi21MGAGVR4udLqur0znWoVgOO0cxIoXP/6wdkYTRIR/Qj/BO2 NH2TijL76kht9YRXBeh1KKa0u5FbT+IZxt34tm12rQ5Oo6BtzPtVCwbwypO4K2ibUtcFx3+owGw EsQ5hZKdt+X5d7f/6tnbDSCdQkm7QJR6a7VWGlMRIxWzYwNvlEftv+9vs33LIIeAXlF6bxvHdDn PmyMJhDJ7lPmdVeGQz/EWq12iXCzVQJMDW+4VQx/e7NurevdgUfw+upTeP2g5X2521uW1nJg80B N3skp6VxoXsI45wNNUj2aPRzPWncEWDW+sJNlz/lqmDpPJem2P8GGdM/xYa2Nm+k2fqer3kLrf2 78GTZlEKh X-Google-Smtp-Source: AGHT+IFHU6PGfNX/eq/+5z1fgX6kosgnxWKEiZDNdyFz+ApSqaC7Krs8XmL58COG7HQnbgqAZMBSB/xZrcHM X-Received: by 2002:a17:902:f54b:b0:290:55d5:41dd with SMTP id d9443c01a7336-290c9c89dafmr78649245ad.5.1760760909759; Fri, 17 Oct 2025 21:15:09 -0700 (PDT) Received: from postal.iol.unh.edu (postal.iol.unh.edu. [2606:4100:3880:1234::84]) by smtp-relay.gmail.com with ESMTPS id d9443c01a7336-292470185a3sm1219915ad.25.2025.10.17.21.15.09 (version=TLS1_2 cipher=ECDHE-ECDSA-AES128-GCM-SHA256 bits=128/128); Fri, 17 Oct 2025 21:15:09 -0700 (PDT) X-Relaying-Domain: iol.unh.edu Date: Fri, 17 Oct 2025 21:15:09 -0700 (PDT) Message-ID: <68f3144d.170a0220.15df1e.60dcSMTPIN_ADDED_MISSING@mx.google.com> Received: from [172.21.0.4] (unknown [172.18.0.240]) by postal.iol.unh.edu (Postfix) with ESMTP id 053CC6051830; Sat, 18 Oct 2025 00:15:09 -0400 (EDT) Subject: |SUCCESS| pw157778-157782 [PATCH] [v5,6/6] net/dpaa: fix resource le From: dpdklab@iol.unh.edu To: Test Report Cc: dpdk-test-reports@iol.unh.edu, Stephen Hemminger In-Reply-To: <20251017044848.3269627-7-g.singh@nxp.com> References: <20251017044848.3269627-7-g.singh@nxp.com> Content-Type: text/plain X-BeenThere: test-report@dpdk.org X-Mailman-Version: 2.1.29 Precedence: list List-Id: automatic DPDK test reports List-Unsubscribe: , List-Archive: List-Post: List-Help: List-Subscribe: , Errors-To: test-report-bounces@dpdk.org Test-Label: iol-unit-arm64-testing Test-Status: SUCCESS http://dpdk.org/patch/157782 _Testing PASS_ Submitter: Gagandeep Singh Date: Friday, October 17 2025 04:48:48 DPDK git baseline: Repo:dpdk-next-net Branch: master CommitID:535c49b6264f1df239703b8250b070e4c4cda2e9 157778-157782 --> testing pass Upstream job id: Generic-Unit-Test-DPDK#382518 Test environment and result as below: +------------------------------+---------------------------+--------------+------------------------------+----------------+ | Environment | cryptodev_sw_zuc_autotest | lpm_autotest | cryptodev_sw_snow3g_autotest | dpdk_unit_test | +==============================+===========================+==============+==============================+================+ | Debian 12 (arm) | PASS | SKIPPED | PASS | SKIPPED | +------------------------------+---------------------------+--------------+------------------------------+----------------+ | Ubuntu 20.04 | SKIPPED | PASS | SKIPPED | PASS | +------------------------------+---------------------------+--------------+------------------------------+----------------+ | CentOS Stream 9 | SKIPPED | SKIPPED | SKIPPED | PASS | +------------------------------+---------------------------+--------------+------------------------------+----------------+ | Ubuntu 22.04 | SKIPPED | SKIPPED | SKIPPED | PASS | +------------------------------+---------------------------+--------------+------------------------------+----------------+ | Debian GNU/Linux 12 | SKIPPED | SKIPPED | SKIPPED | PASS | +------------------------------+---------------------------+--------------+------------------------------+----------------+ | CentOS Stream 10 | SKIPPED | SKIPPED | SKIPPED | PASS | +------------------------------+---------------------------+--------------+------------------------------+----------------+ | Fedora Linux 40 | SKIPPED | SKIPPED | SKIPPED | PASS | +------------------------------+---------------------------+--------------+------------------------------+----------------+ | Fedora Linux 41 | SKIPPED | SKIPPED | SKIPPED | PASS | +------------------------------+---------------------------+--------------+------------------------------+----------------+ | Fedora Linux 42 | SKIPPED | SKIPPED | SKIPPED | PASS | +------------------------------+---------------------------+--------------+------------------------------+----------------+ | Ubuntu 24.04 | SKIPPED | SKIPPED | SKIPPED | PASS | +------------------------------+---------------------------+--------------+------------------------------+----------------+ | Red Hat Enterprise Linux 9.5 | SKIPPED | SKIPPED | SKIPPED | PASS | +------------------------------+---------------------------+--------------+------------------------------+----------------+ Debian 12 (arm) Kernel: Depends on container host Compiler: gcc (Debian 12.2.0-14) 12.2.0 Ubuntu 20.04 Kernel: 5.4 Compiler: gcc gcc (Ubuntu 9.4.0-1ubuntu1~20.04.2) 9.4.0 CentOS Stream 9 Kernel: 5.4 Compiler: gcc gcc (GCC) 11.5.0 20240719 (Red Hat 11.5.0-11) Ubuntu 22.04 Kernel: 5.15 Compiler: gcc gcc (Ubuntu 11.4.0-1ubuntu1~22.04.2) 11.4.0 Debian GNU/Linux 12 Kernel: 5.4 Compiler: gcc gcc (Debian 12.2.0-14+deb12u1) 12.2.0 CentOS Stream 10 Kernel: 5.4 Compiler: gcc gcc (GCC) 14.2.1 20250110 (Red Hat 14.2.1-8) Fedora Linux 40 Kernel: 5.4 Compiler: gcc gcc (GCC) 14.2.1 20240912 (Red Hat 14.2.1-3) Fedora Linux 41 Kernel: 5.4 Compiler: gcc gcc (GCC) 14.3.1 20250523 (Red Hat 14.3.1-1) Fedora Linux 42 Kernel: 5.4 Compiler: clang gcc (GCC) 15.2.1 20250808 (Red Hat 15.2.1-1) Ubuntu 24.04 Kernel: 5.4 Compiler: gcc gcc (Ubuntu 13.3.0-6ubuntu2~24.04) 13.3.0 Red Hat Enterprise Linux 9.5 Kernel: 5.4 Compiler: gcc gcc (GCC) 11.5.0 20240719 (Red Hat 11.5.0-2) To view detailed results, visit: https://lab.dpdk.org/results/dashboard/patchsets/34306/ UNH-IOL DPDK Community Lab To manage your email subscriptions, visit: https://lab.dpdk.org/results/dashboard/preferences/subscriptions/