From mboxrd@z Thu Jan 1 00:00:00 1970 Return-Path: Received: from mails.dpdk.org (mails.dpdk.org [217.70.189.124]) by inbox.dpdk.org (Postfix) with ESMTP id C1A4248964 for ; Sat, 18 Oct 2025 06:20:16 +0200 (CEST) Received: from mails.dpdk.org (localhost [127.0.0.1]) by mails.dpdk.org (Postfix) with ESMTP id BD7AD400D7; Sat, 18 Oct 2025 06:20:16 +0200 (CEST) Received: from mail-pl1-f227.google.com (mail-pl1-f227.google.com [209.85.214.227]) by mails.dpdk.org (Postfix) with ESMTP id 125EA400D7 for ; Sat, 18 Oct 2025 06:20:16 +0200 (CEST) Received: by mail-pl1-f227.google.com with SMTP id d9443c01a7336-27c369f898fso36179135ad.3 for ; Fri, 17 Oct 2025 21:20:16 -0700 (PDT) DKIM-Signature: v=1; a=rsa-sha256; c=relaxed/relaxed; d=iol.unh.edu; s=unh-iol; t=1760761215; x=1761366015; darn=dpdk.org; h=cc:to:from:subject:message-id:date:from:to:cc:subject:date :message-id:reply-to; bh=NKlN10PUCeeI9CfkavWhMhksl0qYY8/69UUZ6GaWlK4=; b=USjypRT4DwgxOCZLeKzpCKiYAFDZpxf65ddj2a/GXTfqxB8UkzAElZE/1sjdummTK2 eBVsq6jFwjzof/5cU0Rr19SX+roye597nd+Pu84w9i/hKTp0lED7wrN7+YKNLcTa1r3B njQFfrsOEfjqykqFcQrTOKREULjslpGWYrXVg= X-Google-DKIM-Signature: v=1; a=rsa-sha256; c=relaxed/relaxed; d=1e100.net; s=20230601; t=1760761215; x=1761366015; h=cc:to:from:subject:message-id:date:x-gm-message-state:from:to:cc :subject:date:message-id:reply-to; bh=NKlN10PUCeeI9CfkavWhMhksl0qYY8/69UUZ6GaWlK4=; b=rfloglqHQHd/wkvVebDVRd2569I56lNFRfaXAFZYncrxtsX26dJzWNOIgxqHOS0Cx1 RaXvJimxgButQXx6robUSYpcce3WoUd6vjcOEF4lsf0uKTTDQZgN1JKeWm2yuZ8YYzro O8sfaMQZ0oU2t2ydT19h70qFE63Qs8jOQz5SUTQ66/PJWhfoDq8PlWxuZK+S49+JQYRk YcTe0RoleCoz77dyn0n+gpk8zdI+ph2wFu7H0hdzUYlTRpr9Xhyh7IDgTw4VrNIJ345S f/FlFiuHbIW7FMfeozGcfYKFjjlT4pUVVY5q5EQG/KCnmiXJKV5llDtrXpd7NYHbcuZF KgPw== X-Gm-Message-State: AOJu0YxIeu8l9HSsmLoUaJjNBVIF06etuaiSN7yUnIpmXH1x0PeyOi+4 MjKOpj68SlhBl7I6ircwz+IANQpCIH/GKVtq+3fRNrSOOjZGVPpe0m2nUsm8GJGQ9xboTedNkTv M90rfQEXfLXEy9O92iKTsjY4cfWiqQrmxMqH/ X-Gm-Gg: ASbGncvSEzHVfOHSi8pfmknhGgt3VMANdnuciyxWIO8BcTMTFB1os8JZn6As2rEstrs t1l369OiExq1mNcCZex9/LMC27x/4zEHk0C0/jy4CkOAAp3p4pZiVxTAbLceyOz6KbIsXGChrfZ t32wcw/yd8kPqLLx7dq0dOYMpwqmOI9e0ARmGFgSWhi58TGSjVVJaVkEwOXbYmY7moUqR+q5lHi 8jFXyyQ9+UvyV4DbmGgDolLwDaqLARF9bhU0FV4NEfNquUfqSHxCWQMD4bDGrF1DqPZZbSHzEqr L8WY88cbIAEH20AZNz2wDKl7+g9KavfEaF9tiFY4W6sbpi0SZGmT+W+eOTV4hpaS9WmtR6inBIv 64lzPtarzlKuSC3CsT+A6tUhZ5GwKjWg= X-Google-Smtp-Source: AGHT+IGqWL3vJX4cXQ047GL/2FHXsIJzEq+pvK9MaaC3/hYcQXoeEtvaqdg1S1vsHDanl4TRYd+UziAwmQRD X-Received: by 2002:a17:902:dad0:b0:24b:270e:56c7 with SMTP id d9443c01a7336-290c9c93b02mr81761925ad.7.1760761215268; Fri, 17 Oct 2025 21:20:15 -0700 (PDT) Received: from postal.iol.unh.edu (postal.iol.unh.edu. [132.177.123.84]) by smtp-relay.gmail.com with ESMTPS id d9443c01a7336-292471c6830sm1244785ad.37.2025.10.17.21.20.15 (version=TLS1_2 cipher=ECDHE-ECDSA-AES128-GCM-SHA256 bits=128/128); Fri, 17 Oct 2025 21:20:15 -0700 (PDT) X-Relaying-Domain: iol.unh.edu Date: Fri, 17 Oct 2025 21:20:15 -0700 (PDT) Message-ID: <68f3157f.170a0220.3a54b7.6415SMTPIN_ADDED_MISSING@mx.google.com> Received: from [172.21.0.2] (unknown [172.18.0.240]) by postal.iol.unh.edu (Postfix) with ESMTP id 8737D6051830; Sat, 18 Oct 2025 00:20:14 -0400 (EDT) Subject: |SUCCESS| [GIT MASTER] 3b43ce3f4a54468e7ef65760c2fd7b4d6ee6d9fc From: dpdklab@iol.unh.edu To: Test Report Cc: dpdk-test-reports@iol.unh.edu, Xueming Li , Christian Ehrhardt , Kevin Traynor , Luca Boccassi Content-Type: text/plain X-BeenThere: test-report@dpdk.org X-Mailman-Version: 2.1.29 Precedence: list List-Id: automatic DPDK test reports List-Unsubscribe: , List-Archive: List-Post: List-Help: List-Subscribe: , Errors-To: test-report-bounces@dpdk.org _Testing PASS_ Branch: tags/v22.11 3b43ce3f4a54468e7ef65760c2fd7b4d6ee6d9fc --> testing pass Upstream job id: Generic-VM-DPDK-Compile-Meson#39099 Test environment and result as below: +---------------------+--------------------+-------------------------+----------------------+ | Environment | dpdk_meson_compile | dpdk_llvm_clang_compile | dpdk_mingw64_compile | +=====================+====================+=========================+======================+ | Ubuntu 20.04 | PASS | SKIPPED | SKIPPED | +---------------------+--------------------+-------------------------+----------------------+ | FreeBSD 14.2 | PASS | SKIPPED | SKIPPED | +---------------------+--------------------+-------------------------+----------------------+ | Windows Server 2022 | SKIPPED | PASS | PASS | +---------------------+--------------------+-------------------------+----------------------+ Ubuntu 20.04 Kernel: 4.19 Compiler: gcc gcc (Ubuntu 9.4.0-1ubuntu1~20.04.2) 9.4.0 FreeBSD 14.2 Kernel: 14.2-RELEASE Compiler: clang 18.1.6 Windows Server 2022 Kernel: 10.0.20348.2031 Compiler: clang 15.0.7, gcc 14.1.0 (MinGW), and MSVC VS 19.39.33521 To view detailed results, visit: https://lab.dpdk.org/results/dashboard/tarballs/35263/ UNH-IOL DPDK Community Lab To manage your email subscriptions, visit: https://lab.dpdk.org/results/dashboard/preferences/subscriptions/