From mboxrd@z Thu Jan 1 00:00:00 1970 Return-Path: Received: from mails.dpdk.org (mails.dpdk.org [217.70.189.124]) by inbox.dpdk.org (Postfix) with ESMTP id DBAE448964 for ; Sat, 18 Oct 2025 06:21:12 +0200 (CEST) Received: from mails.dpdk.org (localhost [127.0.0.1]) by mails.dpdk.org (Postfix) with ESMTP id D9778400D7; Sat, 18 Oct 2025 06:21:12 +0200 (CEST) Received: from mail-io1-f100.google.com (mail-io1-f100.google.com [209.85.166.100]) by mails.dpdk.org (Postfix) with ESMTP id 30C97400D7 for ; Sat, 18 Oct 2025 06:21:12 +0200 (CEST) Received: by mail-io1-f100.google.com with SMTP id ca18e2360f4ac-93ba2eb817aso232798039f.2 for ; Fri, 17 Oct 2025 21:21:12 -0700 (PDT) DKIM-Signature: v=1; a=rsa-sha256; c=relaxed/relaxed; d=iol.unh.edu; s=unh-iol; t=1760761271; x=1761366071; darn=dpdk.org; h=cc:to:from:subject:message-id:date:from:to:cc:subject:date :message-id:reply-to; bh=HKcoUdzRpiOwnuQPQBkmPF7BR/Hz8z1br6IQ3spC29Y=; b=YEE5AQAMwEZ/NNbXgspLTrybaWfVQxxS2EFUUnqmTviXVrddexoSk3nh7RZR4JJtnj gdeH7iRK1XQmbMvbnP276tGr0wdSe3cX1+NjW5/JQxrb2Ccp7aFepq4PlHT77yDp2d19 EKFCWt8qgZKNKscXKI/L/MeeIBEWleuSNWJh4= X-Google-DKIM-Signature: v=1; a=rsa-sha256; c=relaxed/relaxed; d=1e100.net; s=20230601; t=1760761271; x=1761366071; h=cc:to:from:subject:message-id:date:x-gm-message-state:from:to:cc :subject:date:message-id:reply-to; bh=HKcoUdzRpiOwnuQPQBkmPF7BR/Hz8z1br6IQ3spC29Y=; b=pjh5picsPj0dZfStwo8QBaDt0dLOZOQ/u2erL06RfoLa07VnqxrDKaHI+gwYlEjX+6 uD7RZYL2YfLtBzChMzf0HmXdqj0SIw5pzYJ8nf/Wv6Haf+zr3uj8ucYLu38yqgKRxvZZ ICI0YSWUG22PIpjHPZCaJMYZE9JELaIUJevUAw9/nCvbEsc4OKrj0JDTmlRcxV9C3hAS GtH10aEqvzDFaPpayhTcH7nNLOWWv61n3u5fisZEoCedtXoS6H0hsdVd4/LxIXj8t0xW JZkeS1mASbOQFX8XHE7B67PKp9asyqs+b+acJcWGI8WNQ+AIIaXT7ZZYdw2JGkECT6FN qV8Q== X-Gm-Message-State: AOJu0Yxuu459Q1zIT9jECPdXjGf3kdWd63AU0he8mMEjZ4vfh7tp9dIE C5hXO4iRbQujfqrCT8zUjmbd8+Bo47Lo1+yNhW28uiicRBGW1eMRzOQIiJZlH6n1+foXzO1iVJC b790SBTOqonrGjJ4V08gCM4YxPzW94JqTCTmDbPAI8sdTaRJHmNfS X-Gm-Gg: ASbGncv20QJo7+rmBb3lMEoIIY6lxg1fVUDI071E7jzjiMsNH0U7GMv0vUQdScGSIPj SF4B2F53a+YLDr/T+FutoYglKzB2w9NkIYNccgODrGFD1r0TwLRqT4xQ3YxDEJRtWWJf50QWwLJ EcNUUhWo/q/ju14ZQVwrXk38mFGmxpnbhH6MlVsHPNMMeR6khpA5P2p16kPbTCiXBfjQeSJiKZO +bw4zy1bBHeFTAGp9wyhxyscQjT7LgK9M3NJJfOC3410nWPOJFyziEBQ/k4yXtyC7k6M6UiBEla n3QNoi/9+mt8nZWpkFrJtSitSSVJLR9r76zcY8MLaTjnd7U3UFMix0aCIRp4kU4znwDN6lCRkPW icvqT3bCT X-Google-Smtp-Source: AGHT+IGWSVDLrSan2RP8arKZB1el6rb9OBFeGtolDcJkHZFefEqv2B13CWdCoqOgNslhHvEdqRhi8cUR9ITQ X-Received: by 2002:a05:6e02:1fe8:b0:430:c403:97ea with SMTP id e9e14a558f8ab-430c524fbb3mr98567295ab.2.1760761271502; Fri, 17 Oct 2025 21:21:11 -0700 (PDT) Received: from postal.iol.unh.edu (postal.iol.unh.edu. [2606:4100:3880:1234::84]) by smtp-relay.gmail.com with ESMTPS id e9e14a558f8ab-430d072a4efsm1382635ab.15.2025.10.17.21.21.11 (version=TLS1_2 cipher=ECDHE-ECDSA-AES128-GCM-SHA256 bits=128/128); Fri, 17 Oct 2025 21:21:11 -0700 (PDT) X-Relaying-Domain: iol.unh.edu Date: Fri, 17 Oct 2025 21:21:11 -0700 (PDT) Message-ID: <68f315b7.050a0220.3b21b9.7033SMTPIN_ADDED_MISSING@mx.google.com> Received: from [172.21.0.2] (unknown [172.18.0.240]) by postal.iol.unh.edu (Postfix) with ESMTP id 176086051830; Sat, 18 Oct 2025 00:21:11 -0400 (EDT) Subject: |SUCCESS| [GIT MASTER] b287e404643aeab5bb5db084c142789df187844e From: dpdklab@iol.unh.edu To: Test Report Cc: dpdk-test-reports@iol.unh.edu, Xueming Li , Christian Ehrhardt , Kevin Traynor , Luca Boccassi Content-Type: text/plain X-BeenThere: test-report@dpdk.org X-Mailman-Version: 2.1.29 Precedence: list List-Id: automatic DPDK test reports List-Unsubscribe: , List-Archive: List-Post: List-Help: List-Subscribe: , Errors-To: test-report-bounces@dpdk.org _Testing PASS_ Branch: tags/v24.11 b287e404643aeab5bb5db084c142789df187844e --> testing pass Upstream job id: Windows-Compile-DPDK-Native#31735 Test environment and result as below: +---------------------+--------------------+-------------------+-------------------------+ | Environment | dpdk_meson_compile | dpdk_msvc_compile | dpdk_llvm_clang_compile | +=====================+====================+===================+=========================+ | Ubuntu 20.04 | PASS | SKIPPED | SKIPPED | +---------------------+--------------------+-------------------+-------------------------+ | FreeBSD 14.2 | PASS | SKIPPED | SKIPPED | +---------------------+--------------------+-------------------+-------------------------+ | Windows Server 2022 | SKIPPED | PASS | PASS | +---------------------+--------------------+-------------------+-------------------------+ Ubuntu 20.04 Kernel: 4.19 Compiler: gcc gcc (Ubuntu 9.4.0-1ubuntu1~20.04.2) 9.4.0 FreeBSD 14.2 Kernel: 14.2-RELEASE Compiler: clang 18.1.6 Windows Server 2022 Kernel: 10.0.20348.2031 Compiler: clang 15.0.7, gcc 14.1.0 (MinGW), and MSVC VS 19.39.33521 To view detailed results, visit: https://lab.dpdk.org/results/dashboard/tarballs/35265/ UNH-IOL DPDK Community Lab To manage your email subscriptions, visit: https://lab.dpdk.org/results/dashboard/preferences/subscriptions/