From mboxrd@z Thu Jan 1 00:00:00 1970 Return-Path: Received: from mails.dpdk.org (mails.dpdk.org [217.70.189.124]) by inbox.dpdk.org (Postfix) with ESMTP id 2112E48964 for ; Sat, 18 Oct 2025 06:22:55 +0200 (CEST) Received: from mails.dpdk.org (localhost [127.0.0.1]) by mails.dpdk.org (Postfix) with ESMTP id 1C452400D7; Sat, 18 Oct 2025 06:22:55 +0200 (CEST) Received: from mail-pl1-f228.google.com (mail-pl1-f228.google.com [209.85.214.228]) by mails.dpdk.org (Postfix) with ESMTP id BEC20400D7 for ; Sat, 18 Oct 2025 06:22:53 +0200 (CEST) Received: by mail-pl1-f228.google.com with SMTP id d9443c01a7336-269af38418aso28443895ad.1 for ; Fri, 17 Oct 2025 21:22:53 -0700 (PDT) DKIM-Signature: v=1; a=rsa-sha256; c=relaxed/relaxed; d=iol.unh.edu; s=unh-iol; t=1760761373; x=1761366173; darn=dpdk.org; h=cc:to:from:subject:message-id:date:from:to:cc:subject:date :message-id:reply-to; bh=ZEOxyktK+I0t7dI0YICn6H8/B5H6CRyXTXSnFnX7/mo=; b=V/To80SeGeTA5dSEIIxYg5JPunsezzlEAEYWBbIZQBe0zpsRCcj+7xGvEiCj9BqO91 iKvZUlY2A/NLlkXbyBkYZy4fEjKs7xEeMeTaSGf6csv0KPLQPVevlNy3ozB6c9I2a4Wg P815qE5iU9gpJBR4+U2HPllySi1cIDb82tj/U= X-Google-DKIM-Signature: v=1; a=rsa-sha256; c=relaxed/relaxed; d=1e100.net; s=20230601; t=1760761373; x=1761366173; h=cc:to:from:subject:message-id:date:x-gm-message-state:from:to:cc :subject:date:message-id:reply-to; bh=ZEOxyktK+I0t7dI0YICn6H8/B5H6CRyXTXSnFnX7/mo=; b=IXceNa3Ii4RgpM4MMjY8HFdC9bC54HiBpYJp2doVjc2Oe2Ck63qpg/lNgpnfC6lcf4 bLyEd4wwjWe2m/YvdjlnfdoexRbLveUbyYgRb9Q6JytipwOKcaQpcs0e47Ng1HrRwA9t Gdajs47zMRxvBliYDrgjLh3K00D2Flk3Nxm72UdHjtPAngocCVT8IRFNo/PD0ucpqcKL ADfJPR2aRp4+1qFaoJ+V/ZH34AwgWNkNDjbYygyBUthAKE2HcSOXjlDubzvIYAIdD/Ov 9f9pDUPPXWly+sRAns8WzafgBLoJaSscgPS28LA/gmzq+rqC3rZ2IQuCfvqTXMh/Maw6 zc8g== X-Gm-Message-State: AOJu0YzZrmCebXb0SdKCDbeQuqLeshf82cjsI7NWSDBIrbTrJGY2FhHq Eg59TtIULrDK1Na4zclLWkeJKFb05r79ut7hPK2uwol/bGlzSAYRbE7g7DCliOSGwOy6IBE6eB4 CL2mlwDOnW+kqGdSps2fS6hA9KWjmbqofsqFt X-Gm-Gg: ASbGncuZzY1oIjBHhr7AEX185XC+2i273/zgvmDjD4pmYaT9fZhUMoGN8vumGSdliDS +jwSurvk+idpRUUrHzsOzdRKFwM5p38BmKtopmxvx6PUSbLZK6e+1JZp8BtxDGPsLLxvDrO6ZGz 7TQfOeMHzFK+10uPXTBXSWZKvJXcsM8KINnSCJ17nRrPlGfTAotR8N3Wz/M9tjGVUQ2eXkIIAhj r5CGr4SjTobhwP/FS7C9ieEwisd7H4gi6+dtikbjUVDxjxFKHbfpcFM2dYI1FXTPljHNk5Je9o4 E+dUixSxZ1YWGLsxtKIzoYzEDGygvqNgrVLAOkWPJDF7YKRkS0ra4LDEy5ycQEcdPLhjUMo6cc5 oRhCIuD+iHVdeLlQXLywADSTz3jxLdw0= X-Google-Smtp-Source: AGHT+IGnfxzGfYQHs+5MGuy2ZMRdJs2CZ2x+qI8cG6bbLouNDpQikwlhTDuvA/BWCFpPK0W/QCeupIKyl5FQ X-Received: by 2002:a17:902:dac6:b0:290:b158:5db8 with SMTP id d9443c01a7336-290cb65b668mr76738945ad.44.1760761372932; Fri, 17 Oct 2025 21:22:52 -0700 (PDT) Received: from postal.iol.unh.edu (postal.iol.unh.edu. [132.177.123.84]) by smtp-relay.gmail.com with ESMTPS id d9443c01a7336-29246feeae8sm1287345ad.3.2025.10.17.21.22.52 (version=TLS1_2 cipher=ECDHE-ECDSA-AES128-GCM-SHA256 bits=128/128); Fri, 17 Oct 2025 21:22:52 -0700 (PDT) X-Relaying-Domain: iol.unh.edu Date: Fri, 17 Oct 2025 21:22:52 -0700 (PDT) Message-ID: <68f3161c.170a0220.3191c2.6912SMTPIN_ADDED_MISSING@mx.google.com> Received: from [172.21.0.2] (unknown [172.18.0.240]) by postal.iol.unh.edu (Postfix) with ESMTP id 339FB6051830; Sat, 18 Oct 2025 00:22:52 -0400 (EDT) Subject: |SUCCESS| [GIT MASTER] b287e404643aeab5bb5db084c142789df187844e From: dpdklab@iol.unh.edu To: Test Report Cc: dpdk-test-reports@iol.unh.edu, Xueming Li , Christian Ehrhardt , Kevin Traynor , Luca Boccassi Content-Type: text/plain X-BeenThere: test-report@dpdk.org X-Mailman-Version: 2.1.29 Precedence: list List-Id: automatic DPDK test reports List-Unsubscribe: , List-Archive: List-Post: List-Help: List-Subscribe: , Errors-To: test-report-bounces@dpdk.org _Testing PASS_ Branch: tags/v24.11 b287e404643aeab5bb5db084c142789df187844e --> testing pass Upstream job id: Windows-Compile-DPDK-Native#31736 Test environment and result as below: +---------------------+--------------------+-------------------+-------------------------+----------------------+ | Environment | dpdk_meson_compile | dpdk_msvc_compile | dpdk_llvm_clang_compile | dpdk_mingw64_compile | +=====================+====================+===================+=========================+======================+ | Ubuntu 20.04 | PASS | SKIPPED | SKIPPED | SKIPPED | +---------------------+--------------------+-------------------+-------------------------+----------------------+ | FreeBSD 14.2 | PASS | SKIPPED | SKIPPED | SKIPPED | +---------------------+--------------------+-------------------+-------------------------+----------------------+ | Windows Server 2022 | SKIPPED | PASS | PASS | PASS | +---------------------+--------------------+-------------------+-------------------------+----------------------+ Ubuntu 20.04 Kernel: 4.19 Compiler: gcc gcc (Ubuntu 9.4.0-1ubuntu1~20.04.2) 9.4.0 FreeBSD 14.2 Kernel: 14.2-RELEASE Compiler: clang 18.1.6 Windows Server 2022 Kernel: 10.0.20348.2031 Compiler: clang 15.0.7, gcc 14.1.0 (MinGW), and MSVC VS 19.39.33521 To view detailed results, visit: https://lab.dpdk.org/results/dashboard/tarballs/35265/ UNH-IOL DPDK Community Lab To manage your email subscriptions, visit: https://lab.dpdk.org/results/dashboard/preferences/subscriptions/