automatic DPDK test reports
 help / color / mirror / Atom feed
From: dpdklab@iol.unh.edu
To: Test Report <test-report@dpdk.org>
Cc: dpdk-test-reports@iol.unh.edu
Subject: |SUCCESS| pw157783 [PATCH] [v4,1/1] lib/dma: introduce inter-process
Date: Fri, 17 Oct 2025 22:20:19 -0700 (PDT)	[thread overview]
Message-ID: <68f32393.050a0220.278424.6c48SMTPIN_ADDED_MISSING@mx.google.com> (raw)
In-Reply-To: <20251017054210.3105218-1-vattunuru@marvell.com>

Test-Label: iol-unit-arm64-testing
Test-Status: SUCCESS
http://dpdk.org/patch/157783

_Testing PASS_

Submitter: Vamsi Krishna <vattunuru@marvell.com>
Date: Friday, October 17 2025 05:42:10 
DPDK git baseline: Repo:dpdk
  Branch: master
  CommitID:438491733c2d8a109574449d3d6de9b25a05c07c

157783 --> testing pass

Upstream job id: Generic-Unit-Test-DPDK#382544

Test environment and result as below:

+------------------------------+------------------------------+---------------------------+--------------+----------------+
|         Environment          | cryptodev_sw_snow3g_autotest | cryptodev_sw_zuc_autotest | lpm_autotest | dpdk_unit_test |
+==============================+==============================+===========================+==============+================+
| Debian 12 (arm)              | PASS                         | PASS                      | SKIPPED      | SKIPPED        |
+------------------------------+------------------------------+---------------------------+--------------+----------------+
| Ubuntu 20.04                 | SKIPPED                      | SKIPPED                   | PASS         | PASS           |
+------------------------------+------------------------------+---------------------------+--------------+----------------+
| Ubuntu 22.04                 | SKIPPED                      | SKIPPED                   | SKIPPED      | PASS           |
+------------------------------+------------------------------+---------------------------+--------------+----------------+
| CentOS Stream 10             | SKIPPED                      | SKIPPED                   | SKIPPED      | PASS           |
+------------------------------+------------------------------+---------------------------+--------------+----------------+
| Fedora Linux 40              | SKIPPED                      | SKIPPED                   | SKIPPED      | PASS           |
+------------------------------+------------------------------+---------------------------+--------------+----------------+
| CentOS Stream 9              | SKIPPED                      | SKIPPED                   | SKIPPED      | PASS           |
+------------------------------+------------------------------+---------------------------+--------------+----------------+
| Debian GNU/Linux 12          | SKIPPED                      | SKIPPED                   | SKIPPED      | PASS           |
+------------------------------+------------------------------+---------------------------+--------------+----------------+
| Fedora Linux 41              | SKIPPED                      | SKIPPED                   | SKIPPED      | PASS           |
+------------------------------+------------------------------+---------------------------+--------------+----------------+
| Fedora Linux 42              | SKIPPED                      | SKIPPED                   | SKIPPED      | PASS           |
+------------------------------+------------------------------+---------------------------+--------------+----------------+
| Red Hat Enterprise Linux 9.5 | SKIPPED                      | SKIPPED                   | SKIPPED      | PASS           |
+------------------------------+------------------------------+---------------------------+--------------+----------------+
| Ubuntu 24.04                 | SKIPPED                      | SKIPPED                   | SKIPPED      | PASS           |
+------------------------------+------------------------------+---------------------------+--------------+----------------+


Debian 12 (arm)
	Kernel: Depends on container host
	Compiler: gcc (Debian 12.2.0-14) 12.2.0

Ubuntu 20.04
	Kernel: 5.4
	Compiler: gcc gcc (Ubuntu 9.4.0-1ubuntu1~20.04.2) 9.4.0

Ubuntu 22.04
	Kernel: 5.15
	Compiler: gcc gcc (Ubuntu 11.4.0-1ubuntu1~22.04.2) 11.4.0

CentOS Stream 10
	Kernel: 5.4
	Compiler: gcc gcc (GCC) 14.2.1 20250110 (Red Hat 14.2.1-8)

Fedora Linux 40
	Kernel: 5.4
	Compiler: gcc gcc (GCC) 14.2.1 20240912 (Red Hat 14.2.1-3)

CentOS Stream 9
	Kernel: 5.4
	Compiler: gcc gcc (GCC) 11.5.0 20240719 (Red Hat 11.5.0-11)

Debian GNU/Linux 12
	Kernel: 5.4
	Compiler: gcc gcc (Debian 12.2.0-14+deb12u1) 12.2.0

Fedora Linux 41
	Kernel: 5.4
	Compiler: gcc gcc (GCC) 14.3.1 20250523 (Red Hat 14.3.1-1)

Fedora Linux 42
	Kernel: 5.4
	Compiler: clang gcc (GCC) 15.2.1 20250808 (Red Hat 15.2.1-1)

Red Hat Enterprise Linux 9.5
	Kernel: 5.4
	Compiler: gcc gcc (GCC) 11.5.0 20240719 (Red Hat 11.5.0-2)

Ubuntu 24.04
	Kernel: 5.4
	Compiler: gcc gcc (Ubuntu 13.3.0-6ubuntu2~24.04) 13.3.0

To view detailed results, visit:
https://lab.dpdk.org/results/dashboard/patchsets/34308/

UNH-IOL DPDK Community Lab

To manage your email subscriptions, visit: 
https://lab.dpdk.org/results/dashboard/preferences/subscriptions/

      parent reply	other threads:[~2025-10-18  5:20 UTC|newest]

Thread overview: 29+ messages / expand[flat|nested]  mbox.gz  Atom feed  top
     [not found] <20251017054210.3105218-1-vattunuru@marvell.com>
2025-10-17  5:07 ` |SUCCESS| pw157783 [PATCH v4 1/1] lib/dma: introduce inter-process and inter-OS DMA qemudev
2025-10-17  5:12 ` qemudev
2025-10-17  5:42 ` checkpatch
2025-10-17  6:10 ` |PENDING| pw157783 [PATCH] [v4,1/1] lib/dma: introduce inter-process dpdklab
2025-10-17  6:14 ` |SUCCESS| " dpdklab
2025-10-17  6:19 ` dpdklab
2025-10-17  6:23 ` |PENDING| " dpdklab
2025-10-17  6:32 ` |SUCCESS| " dpdklab
2025-10-17  6:33 ` dpdklab
2025-10-17  6:34 ` |PENDING| " dpdklab
2025-10-17  6:36 ` |SUCCESS| " dpdklab
2025-10-17  6:51 ` |PENDING| " dpdklab
2025-10-17  7:03 ` |SUCCESS| " dpdklab
2025-10-17  7:11 ` dpdklab
2025-10-17  7:13 ` |SUCCESS| pw157783 [PATCH v4 1/1] lib/dma: introduce inter-process and inter-OS DMA 0-day Robot
2025-10-17  7:13 ` 0-day Robot
2025-10-17  7:16 ` |SUCCESS| pw157783 [PATCH] [v4,1/1] lib/dma: introduce inter-process dpdklab
2025-10-17  7:39 ` dpdklab
2025-10-17  7:43 ` dpdklab
2025-10-17  8:09 ` dpdklab
2025-10-17  8:32 ` dpdklab
2025-10-17 12:51 ` |WARNING| " dpdklab
2025-10-17 13:02 ` |PENDING| " dpdklab
2025-10-17 13:33 ` |WARNING| " dpdklab
2025-10-17 13:55 ` dpdklab
2025-10-17 14:34 ` dpdklab
2025-10-17 18:32 ` |SUCCESS| " dpdklab
2025-10-17 21:37 ` dpdklab
2025-10-18  5:20 ` dpdklab [this message]

Reply instructions:

You may reply publicly to this message via plain-text email
using any one of the following methods:

* Save the following mbox file, import it into your mail client,
  and reply-to-all from there: mbox

  Avoid top-posting and favor interleaved quoting:
  https://en.wikipedia.org/wiki/Posting_style#Interleaved_style

* Reply using the --to, --cc, and --in-reply-to
  switches of git-send-email(1):

  git send-email \
    --in-reply-to=68f32393.050a0220.278424.6c48SMTPIN_ADDED_MISSING@mx.google.com \
    --to=dpdklab@iol.unh.edu \
    --cc=dpdk-test-reports@iol.unh.edu \
    --cc=test-report@dpdk.org \
    /path/to/YOUR_REPLY

  https://kernel.org/pub/software/scm/git/docs/git-send-email.html

* If your mail client supports setting the In-Reply-To header
  via mailto: links, try the mailto: link
Be sure your reply has a Subject: header at the top and a blank line before the message body.
This is a public inbox, see mirroring instructions
for how to clone and mirror all data and code used for this inbox;
as well as URLs for NNTP newsgroup(s).