From mboxrd@z Thu Jan 1 00:00:00 1970 Return-Path: Received: from mails.dpdk.org (mails.dpdk.org [217.70.189.124]) by inbox.dpdk.org (Postfix) with ESMTP id 7AA6E48964 for ; Sat, 18 Oct 2025 07:20:21 +0200 (CEST) Received: from mails.dpdk.org (localhost [127.0.0.1]) by mails.dpdk.org (Postfix) with ESMTP id 75E97400D7; Sat, 18 Oct 2025 07:20:21 +0200 (CEST) Received: from mail-il1-f225.google.com (mail-il1-f225.google.com [209.85.166.225]) by mails.dpdk.org (Postfix) with ESMTP id 75CDB400D7 for ; Sat, 18 Oct 2025 07:20:20 +0200 (CEST) Received: by mail-il1-f225.google.com with SMTP id e9e14a558f8ab-430a5fe0c5cso21022595ab.0 for ; Fri, 17 Oct 2025 22:20:20 -0700 (PDT) DKIM-Signature: v=1; a=rsa-sha256; c=relaxed/relaxed; d=iol.unh.edu; s=unh-iol; t=1760764820; x=1761369620; darn=dpdk.org; h=references:in-reply-to:cc:to:from:subject:message-id:date:from:to :cc:subject:date:message-id:reply-to; bh=Dam2NuPPVkNeEnhPkDe2aYQcvnWtlkwJsHI4WdIDdw0=; b=ehORNEhYXaEPfrVx/BdPfCb8o8Mv/KT39q54PDOoD/TlfkRsgR4FYK876Ki7pPSpAJ jgcjFGCa54uGtCds6Dkc3ulSyAu7DvYADIoyIaChCWgB41HYFRMpAMU+UiDhNEInLOvv nMhjIZRBKZU2ZXQdKcHBJ1VtQrtq9/9qAuD9c= X-Google-DKIM-Signature: v=1; a=rsa-sha256; c=relaxed/relaxed; d=1e100.net; s=20230601; t=1760764820; x=1761369620; h=references:in-reply-to:cc:to:from:subject:message-id:date :x-gm-message-state:from:to:cc:subject:date:message-id:reply-to; bh=Dam2NuPPVkNeEnhPkDe2aYQcvnWtlkwJsHI4WdIDdw0=; b=a6vwIUMhpYtbNoOhPvCHoXUZK1/Or100U6ggXIVdihkTapnfJJradw8sO5vq/t3Os/ X96PflrjQw8opkzlRFArdJ2H6UCvboB+2+CkkLzttyNKfViTi/J3UXXTI3vpjZIWc9GB NLBbCnsuf1N/MLVYVjW3eJl6aa4A/SoZyqMMBMFhVZbU6/LWcCo3AjANrc3W3nsmm8GB ZAQOKaphkLwuzsvWu/G6j5mEBoxg+FuU6YS4e5kXrdwpbAlO8QTfxbyMwtu093kP8hYW DTMG8Z+2DzgGjpXRPBIs+l4nQKrD8EGtp870hGJq9Pi6l6nqVkH+Tb7xfnVAqWtlUg0w 3lvQ== X-Gm-Message-State: AOJu0YyWolRYQU4KHYwvnqZN5c4ujxBKX4+cTTljhawQJyqes/UOrCdy jZw8bZkQbZLn6M77SOg0lm3537CANJcNqf4ot1MJbDyHOqYC4XGHfDt3Y+eTGBYkDAydfkyrgHj H4U0OiuIH01OxPpU4tAcS3z2GBx05G+BgcPVmL2/7s4lX X-Gm-Gg: ASbGnctSDOTk28ROxRWMELGdEX7bVTDjynNsBq8NnL2kh4KpM2h8dtVoe5ahXslPGPd cs0flBzaAWDwRWFzXgd8LbM1V1cqkb7SVw0BTKdQirrUcEiFS7vdyS+U7w0VkS6SM6qvugZxDUI gvtM3pHHoyxS5fJVKWWR08PShLa+wyM8SobCCf5ZoPQ/dqw46jUBqo/+y7VrgEDiqnx5Sk4CPlS mNcGr2wGrN1wvazDZOGyXviRrx3sh6k0WKOTiwroB5vQzcMVoGeQgAYZ68pSGgcKcS7oEjk3yuh 2i2hHttoO8kesrTEmbKZgVHdl8MSlZ7rHJBG0mipaZT4NPDN1BF/v9BfBj1gKxMqADMQQmfjepP 8NLZoJm2SwCeaqUDDcuyj+6WhPO/aed0= X-Google-Smtp-Source: AGHT+IG8i4sl2zcNgU+v5cbCQvQYauajcqgWrz/gCqNT5ibktWPBdctvvkj0vJcQUt0F9IUpX+ZuMl4a/vU+ X-Received: by 2002:a05:6e02:1a46:b0:430:b05a:ecbe with SMTP id e9e14a558f8ab-430c5234cd7mr97081705ab.4.1760764819760; Fri, 17 Oct 2025 22:20:19 -0700 (PDT) Received: from postal.iol.unh.edu (postal.iol.unh.edu. [132.177.123.84]) by smtp-relay.gmail.com with ESMTPS id 8926c6da1cb9f-5a8a9745b6dsm136374173.25.2025.10.17.22.20.19 (version=TLS1_2 cipher=ECDHE-ECDSA-AES128-GCM-SHA256 bits=128/128); Fri, 17 Oct 2025 22:20:19 -0700 (PDT) X-Relaying-Domain: iol.unh.edu Date: Fri, 17 Oct 2025 22:20:19 -0700 (PDT) Message-ID: <68f32393.050a0220.278424.6c48SMTPIN_ADDED_MISSING@mx.google.com> Received: from [172.21.0.2] (unknown [172.18.0.240]) by postal.iol.unh.edu (Postfix) with ESMTP id 68EBC6051830; Sat, 18 Oct 2025 01:20:19 -0400 (EDT) Subject: |SUCCESS| pw157783 [PATCH] [v4,1/1] lib/dma: introduce inter-process From: dpdklab@iol.unh.edu To: Test Report Cc: dpdk-test-reports@iol.unh.edu In-Reply-To: <20251017054210.3105218-1-vattunuru@marvell.com> References: <20251017054210.3105218-1-vattunuru@marvell.com> Content-Type: text/plain X-BeenThere: test-report@dpdk.org X-Mailman-Version: 2.1.29 Precedence: list List-Id: automatic DPDK test reports List-Unsubscribe: , List-Archive: List-Post: List-Help: List-Subscribe: , Errors-To: test-report-bounces@dpdk.org Test-Label: iol-unit-arm64-testing Test-Status: SUCCESS http://dpdk.org/patch/157783 _Testing PASS_ Submitter: Vamsi Krishna Date: Friday, October 17 2025 05:42:10 DPDK git baseline: Repo:dpdk Branch: master CommitID:438491733c2d8a109574449d3d6de9b25a05c07c 157783 --> testing pass Upstream job id: Generic-Unit-Test-DPDK#382544 Test environment and result as below: +------------------------------+------------------------------+---------------------------+--------------+----------------+ | Environment | cryptodev_sw_snow3g_autotest | cryptodev_sw_zuc_autotest | lpm_autotest | dpdk_unit_test | +==============================+==============================+===========================+==============+================+ | Debian 12 (arm) | PASS | PASS | SKIPPED | SKIPPED | +------------------------------+------------------------------+---------------------------+--------------+----------------+ | Ubuntu 20.04 | SKIPPED | SKIPPED | PASS | PASS | +------------------------------+------------------------------+---------------------------+--------------+----------------+ | Ubuntu 22.04 | SKIPPED | SKIPPED | SKIPPED | PASS | +------------------------------+------------------------------+---------------------------+--------------+----------------+ | CentOS Stream 10 | SKIPPED | SKIPPED | SKIPPED | PASS | +------------------------------+------------------------------+---------------------------+--------------+----------------+ | Fedora Linux 40 | SKIPPED | SKIPPED | SKIPPED | PASS | +------------------------------+------------------------------+---------------------------+--------------+----------------+ | CentOS Stream 9 | SKIPPED | SKIPPED | SKIPPED | PASS | +------------------------------+------------------------------+---------------------------+--------------+----------------+ | Debian GNU/Linux 12 | SKIPPED | SKIPPED | SKIPPED | PASS | +------------------------------+------------------------------+---------------------------+--------------+----------------+ | Fedora Linux 41 | SKIPPED | SKIPPED | SKIPPED | PASS | +------------------------------+------------------------------+---------------------------+--------------+----------------+ | Fedora Linux 42 | SKIPPED | SKIPPED | SKIPPED | PASS | +------------------------------+------------------------------+---------------------------+--------------+----------------+ | Red Hat Enterprise Linux 9.5 | SKIPPED | SKIPPED | SKIPPED | PASS | +------------------------------+------------------------------+---------------------------+--------------+----------------+ | Ubuntu 24.04 | SKIPPED | SKIPPED | SKIPPED | PASS | +------------------------------+------------------------------+---------------------------+--------------+----------------+ Debian 12 (arm) Kernel: Depends on container host Compiler: gcc (Debian 12.2.0-14) 12.2.0 Ubuntu 20.04 Kernel: 5.4 Compiler: gcc gcc (Ubuntu 9.4.0-1ubuntu1~20.04.2) 9.4.0 Ubuntu 22.04 Kernel: 5.15 Compiler: gcc gcc (Ubuntu 11.4.0-1ubuntu1~22.04.2) 11.4.0 CentOS Stream 10 Kernel: 5.4 Compiler: gcc gcc (GCC) 14.2.1 20250110 (Red Hat 14.2.1-8) Fedora Linux 40 Kernel: 5.4 Compiler: gcc gcc (GCC) 14.2.1 20240912 (Red Hat 14.2.1-3) CentOS Stream 9 Kernel: 5.4 Compiler: gcc gcc (GCC) 11.5.0 20240719 (Red Hat 11.5.0-11) Debian GNU/Linux 12 Kernel: 5.4 Compiler: gcc gcc (Debian 12.2.0-14+deb12u1) 12.2.0 Fedora Linux 41 Kernel: 5.4 Compiler: gcc gcc (GCC) 14.3.1 20250523 (Red Hat 14.3.1-1) Fedora Linux 42 Kernel: 5.4 Compiler: clang gcc (GCC) 15.2.1 20250808 (Red Hat 15.2.1-1) Red Hat Enterprise Linux 9.5 Kernel: 5.4 Compiler: gcc gcc (GCC) 11.5.0 20240719 (Red Hat 11.5.0-2) Ubuntu 24.04 Kernel: 5.4 Compiler: gcc gcc (Ubuntu 13.3.0-6ubuntu2~24.04) 13.3.0 To view detailed results, visit: https://lab.dpdk.org/results/dashboard/patchsets/34308/ UNH-IOL DPDK Community Lab To manage your email subscriptions, visit: https://lab.dpdk.org/results/dashboard/preferences/subscriptions/