From mboxrd@z Thu Jan 1 00:00:00 1970 Return-Path: Received: from mails.dpdk.org (mails.dpdk.org [217.70.189.124]) by inbox.dpdk.org (Postfix) with ESMTP id D057148964 for ; Sat, 18 Oct 2025 07:55:10 +0200 (CEST) Received: from mails.dpdk.org (localhost [127.0.0.1]) by mails.dpdk.org (Postfix) with ESMTP id A8B39400D7; Sat, 18 Oct 2025 07:55:10 +0200 (CEST) Received: from mail-pl1-f227.google.com (mail-pl1-f227.google.com [209.85.214.227]) by mails.dpdk.org (Postfix) with ESMTP id 50397400D7 for ; Sat, 18 Oct 2025 07:55:10 +0200 (CEST) Received: by mail-pl1-f227.google.com with SMTP id d9443c01a7336-290cd62acc3so19908365ad.2 for ; Fri, 17 Oct 2025 22:55:10 -0700 (PDT) DKIM-Signature: v=1; a=rsa-sha256; c=relaxed/relaxed; d=iol.unh.edu; s=unh-iol; t=1760766909; x=1761371709; darn=dpdk.org; h=references:in-reply-to:cc:to:from:subject:message-id:date:from:to :cc:subject:date:message-id:reply-to; bh=+Icv35kdbEvMMI5A2DelkBfl/iJGZNCruPwkC/3Cbb0=; b=W42/+efqM9fBp4jukgdgpZbI0NlQX5yCI1cN0posJU07JSl91ziIJt10TiMbWL7n4W vEs1b2doRB/miuGLv16KQKUJjlJ4cdis9ps4+QTNPYNEMyRg2779w18/hlhxkjlvsHQw xxn7/sJs5Fbu66/GtYX0O1284XpyJitaWEVZM= X-Google-DKIM-Signature: v=1; a=rsa-sha256; c=relaxed/relaxed; d=1e100.net; s=20230601; t=1760766909; x=1761371709; h=references:in-reply-to:cc:to:from:subject:message-id:date :x-gm-message-state:from:to:cc:subject:date:message-id:reply-to; bh=+Icv35kdbEvMMI5A2DelkBfl/iJGZNCruPwkC/3Cbb0=; b=F7lRJUZzODRHOYXvIdTZfz0P9cv7BbzUPplBHK7YjUr9i+fI3yCxSNcWuKBPPmIkqo tnspmJGRLMADttUBD89Zh5/aqrAJogoc6mEZEe7yC7qr5ijGlCH9HQbr3bU2Edt6iMm8 /3aAPMDfdIeLGIJTY6/mhoaze5sZ5TeuN7oTO+fiulxc7ZytRoU7Fmi7k4nuJssK4HbW h1Up9IbtOG5aJJHNNdwSB0Ar7FH1uKoI3JAICZROsSY0TsZqGCPTzh7zIi4hZ8YdCDcv meXpE98eff+cMIERMTrP/yHD0UD3uqm/MIYLmiAyE8/iV86Cp/4+SRDC15Kgb4QaViIK PN5Q== X-Gm-Message-State: AOJu0YzlP6HsZH2B3NzYdjlE5bclmfNRWv0BgAasBHByey1E+u3UaeLr zRfeEcDTVwBvbQ3ns7+pvT305PeOzJQNOOMS70Te2N2x9TX/fIV8W2vXrsV0l9QHxgMmwE4YggG mXVHHqX3DxFt0YwEPy1ZgqyWRgykeC8nnBFEmrJgp2dUP X-Gm-Gg: ASbGnctSXlitTY2cNXBwgUxt2vekz8tJ1lpZT/orpUXo3Lb5Q8VD1VCJBCYR58/ec0o KGqOqTkWx4itJgK93+9PcYE02c4pjLFRCKmeS/souIK3DJ70r1DqvSZdzeldjR8gohFxZZ/7vQu PARtNkafv+ZVakdrxUUeAI/RgAhPjAWfNYkWkDOqRRnoMGmgVdpOf6RFjGAWlNSHA6mzRJgMStK PhrS5gpZLsu6E5NhX6ktDt+Dg9kEeseqbcvXCf880UQOE/FU8IiiRH9qJ0WDFPUFPHKtiAkHTwF i8XKG9XcXS8xuJA4s48ZKegDaa50Kzi84k87guZz0TfW8Ze1AvAn7G8i0nasgWAgald8xdhUnB+ jdktG20UJ8SAcK4fjDXt4lgTI8wX3jjE= X-Google-Smtp-Source: AGHT+IEvENyDKTILCKaUmy/Dhiz61XzfSrHcp+rdGxdpMwsqgdiKTygRK3+oMvCQhnga6HWbJ2WPYohsUNX2 X-Received: by 2002:a17:902:cf42:b0:282:eea8:764d with SMTP id d9443c01a7336-290cb9476a7mr74031765ad.35.1760766909408; Fri, 17 Oct 2025 22:55:09 -0700 (PDT) Received: from postal.iol.unh.edu (postal.iol.unh.edu. [132.177.123.84]) by smtp-relay.gmail.com with ESMTPS id d9443c01a7336-29246feeae8sm1452435ad.3.2025.10.17.22.55.09 (version=TLS1_2 cipher=ECDHE-ECDSA-AES128-GCM-SHA256 bits=128/128); Fri, 17 Oct 2025 22:55:09 -0700 (PDT) X-Relaying-Domain: iol.unh.edu Date: Fri, 17 Oct 2025 22:55:09 -0700 (PDT) Message-ID: <68f32bbd.170a0220.3191c2.7468SMTPIN_ADDED_MISSING@mx.google.com> Received: from [172.21.0.3] (unknown [172.18.0.240]) by postal.iol.unh.edu (Postfix) with ESMTP id A0BCC60003EA; Sat, 18 Oct 2025 01:55:08 -0400 (EDT) Subject: |SUCCESS| pw157802-157804 [PATCH] [RFC,3/3] app/testpmd: support por From: dpdklab@iol.unh.edu To: Test Report Cc: dpdk-test-reports@iol.unh.edu, Stephen Hemminger In-Reply-To: <20251017111109.1734792-4-ciara.loftus@intel.com> References: <20251017111109.1734792-4-ciara.loftus@intel.com> Content-Type: text/plain X-BeenThere: test-report@dpdk.org X-Mailman-Version: 2.1.29 Precedence: list List-Id: automatic DPDK test reports List-Unsubscribe: , List-Archive: List-Post: List-Help: List-Subscribe: , Errors-To: test-report-bounces@dpdk.org Test-Label: iol-compile-arm64-testing Test-Status: SUCCESS http://dpdk.org/patch/157804 _Testing PASS_ Submitter: Loftus, Ciara Date: Friday, October 17 2025 11:11:09 DPDK git baseline: Repo:dpdk-next-net Branch: master CommitID:535c49b6264f1df239703b8250b070e4c4cda2e9 157802-157804 --> testing pass Upstream job id: Generic-DPDK-Compile-Meson#435478 Test environment and result as below: +------------------------------+--------------------+ | Environment | dpdk_meson_compile | +==============================+====================+ | Red Hat Enterprise Linux 9.5 | PASS | +------------------------------+--------------------+ | Ubuntu 20.04 | PASS | +------------------------------+--------------------+ | Debian GNU/Linux 12 | PASS | +------------------------------+--------------------+ | Fedora Linux 42 | PASS | +------------------------------+--------------------+ | Ubuntu 22.04 | PASS | +------------------------------+--------------------+ | Ubuntu 24.04 | PASS | +------------------------------+--------------------+ | CentOS Stream 9 | PASS | +------------------------------+--------------------+ | CentOS Stream 10 | PASS | +------------------------------+--------------------+ Red Hat Enterprise Linux 9.5 Kernel: 5.4 Compiler: gcc gcc (GCC) 11.5.0 20240719 (Red Hat 11.5.0-2) Ubuntu 20.04 Kernel: 5.15 Compiler: aarch64-linux-gnu-gcc gcc (Ubuntu 9.4.0-1ubuntu1~20.04.2) 9.4.0 Debian GNU/Linux 12 Kernel: 5.4 Compiler: gcc gcc (Debian 12.2.0-14+deb12u1) 12.2.0 Fedora Linux 42 Kernel: 5.4 Compiler: gcc gcc (GCC) 15.2.1 20250808 (Red Hat 15.2.1-1) Ubuntu 22.04 Kernel: 5.4 Compiler: gcc gcc (Ubuntu 11.4.0-1ubuntu1~22.04) 11.4.0 Ubuntu 24.04 Kernel: 5.4 Compiler: gcc gcc (Ubuntu 13.3.0-6ubuntu2~24.04) 13.3.0 CentOS Stream 9 Kernel: 5.4 Compiler: gcc gcc (GCC) 11.5.0 20240719 (Red Hat 11.5.0-11) CentOS Stream 10 Kernel: 5.4 Compiler: gcc gcc (GCC) 14.2.1 20250110 (Red Hat 14.2.1-8) To view detailed results, visit: https://lab.dpdk.org/results/dashboard/patchsets/34313/ UNH-IOL DPDK Community Lab To manage your email subscriptions, visit: https://lab.dpdk.org/results/dashboard/preferences/subscriptions/