From mboxrd@z Thu Jan 1 00:00:00 1970 Return-Path: Received: from mails.dpdk.org (mails.dpdk.org [217.70.189.124]) by inbox.dpdk.org (Postfix) with ESMTP id BF48D48964 for ; Sat, 18 Oct 2025 07:55:23 +0200 (CEST) Received: from mails.dpdk.org (localhost [127.0.0.1]) by mails.dpdk.org (Postfix) with ESMTP id BA718400D7; Sat, 18 Oct 2025 07:55:23 +0200 (CEST) Received: from mail-il1-f225.google.com (mail-il1-f225.google.com [209.85.166.225]) by mails.dpdk.org (Postfix) with ESMTP id 7FB00400D7 for ; Sat, 18 Oct 2025 07:55:22 +0200 (CEST) Received: by mail-il1-f225.google.com with SMTP id e9e14a558f8ab-430c52703b3so18427535ab.1 for ; Fri, 17 Oct 2025 22:55:22 -0700 (PDT) DKIM-Signature: v=1; a=rsa-sha256; c=relaxed/relaxed; d=iol.unh.edu; s=unh-iol; t=1760766922; x=1761371722; darn=dpdk.org; h=references:in-reply-to:cc:to:from:subject:message-id:date:from:to :cc:subject:date:message-id:reply-to; bh=G9gcGz3DMJ7nIYIX+zvPSez+jWHlrhT9CIqy+FxVVQI=; b=glhR2Tuo/gwkQTnfp8zt7E+nJCnPZuo3+LvdwvpbT/4Qq4nQjUtJEqAbtWYMrFrn3j mZDK9SGkLu15VF6DEI6P4xWSmUMoEZ7HvBLxFN1wL2cHDDDPc+MnKjl/xaw+PJ1JAMC9 tBEo9Pu8hLqy0qh5uwofX+WYKI6T7rHTZ65RA= X-Google-DKIM-Signature: v=1; a=rsa-sha256; c=relaxed/relaxed; d=1e100.net; s=20230601; t=1760766922; x=1761371722; h=references:in-reply-to:cc:to:from:subject:message-id:date :x-gm-message-state:from:to:cc:subject:date:message-id:reply-to; bh=G9gcGz3DMJ7nIYIX+zvPSez+jWHlrhT9CIqy+FxVVQI=; b=PLlrfhZrRANbPCSR07XGBshwiX1dEx+gVjLMc8bZn23jL9usjykGbRo8JQsAntsPY8 wY0P856h6wN4TuOXxlnzps6VdIGIjnxCT9m4VBqRLE5lWAcDyIvJ47C9zpDX/cAw9ep5 Ix/vXZfR614VInO7rKF1rPZlOXxyaihrQBpntny0rTfoeodk4h+F+4ll0tHtkOEHSafJ 9RtgpPw5Zp1K6sx1wM35sPzDn5BGWyy/xWDy9cwoYJTtUsnL9pzyzCN5iRFBd8WclF/y t5T3CK9+Tq3a5jPfkEnmBFpZ4z1OHOcFa1pDMZYIicGev7X6sBXDv3dRyoK35RuKdq2F zILQ== X-Gm-Message-State: AOJu0YwCuzxSuFvpRxFUdkXQiq5zzIj8h7o66Fz1kGljWPapPz5GGnHU v9Zi+Q+bppW8rklnS8Uj78sa7k+cezAVUhC5GEL6aRnIJjFsbSE1YahV8POYgsMVGfnzxPsgYYp xAMph4zhYfF7YKCDpRtsKAMhCzGrWf+kwfHERMncLWWLo X-Gm-Gg: ASbGncvPvEKakP4/0Amf8TaTPpJdo4FxNFbJkW3yhTcbW2y85p4eTn8EpOidZTZoCjg yaykQyJxAEQhP1sjQFaUtq+TaPRKRJnA19C4rmLfFTqUDhjg7UIURr8mDND9EgTdPRqoU6fpl8r 80sRtJS3ZoRPcPjOpju4Mc51mby0JoaJcSQtp95k/BfTFutovCxg0AI5tH+9ov+8T3h/1nQUh9u jVdCN391pQnPXA277F1hDQibrmkBEn4udqoC3e5dMTZuSyrYntOgTlb4ymgvxR6JL6+tsxldnGs qXhEbPG32Za8A760BUICdrgkYkIMIKmhFmJDJj5JMUvR47d1MPD4EHGn3QnI2e3m7XNvd/myySA DAcasKOHqFUVmUaGz3XHrDFF90Fl8by0= X-Google-Smtp-Source: AGHT+IHtCyu6IBwe+m+peroA4TdgVIkyjqpBdoIIl4Q6glmK6czymyLKjBTQLz4lzid7qvzBT3KzM7kspzhZ X-Received: by 2002:a05:6e02:3e06:b0:430:9f96:23c7 with SMTP id e9e14a558f8ab-430c524fcd9mr93866375ab.4.1760766921886; Fri, 17 Oct 2025 22:55:21 -0700 (PDT) Received: from postal.iol.unh.edu (postal.iol.unh.edu. [132.177.123.84]) by smtp-relay.gmail.com with ESMTPS id 8926c6da1cb9f-5a8a95feddbsm150232173.7.2025.10.17.22.55.21 (version=TLS1_2 cipher=ECDHE-ECDSA-AES128-GCM-SHA256 bits=128/128); Fri, 17 Oct 2025 22:55:21 -0700 (PDT) X-Relaying-Domain: iol.unh.edu Date: Fri, 17 Oct 2025 22:55:21 -0700 (PDT) Message-ID: <68f32bc9.050a0220.1578a1.78faSMTPIN_ADDED_MISSING@mx.google.com> Received: from [172.21.0.3] (unknown [172.18.0.240]) by postal.iol.unh.edu (Postfix) with ESMTP id 5EB4A6051830; Sat, 18 Oct 2025 01:55:21 -0400 (EDT) Subject: |SUCCESS| pw157805 [PATCH] net/tap: fix interrupt callback crash aft From: dpdklab@iol.unh.edu To: Test Report Cc: dpdk-test-reports@iol.unh.edu, Stephen Hemminger In-Reply-To: <20251017121946.421658-2-rjarry@redhat.com> References: <20251017121946.421658-2-rjarry@redhat.com> Content-Type: text/plain X-BeenThere: test-report@dpdk.org X-Mailman-Version: 2.1.29 Precedence: list List-Id: automatic DPDK test reports List-Unsubscribe: , List-Archive: List-Post: List-Help: List-Subscribe: , Errors-To: test-report-bounces@dpdk.org Test-Label: iol-compile-arm64-testing Test-Status: SUCCESS http://dpdk.org/patch/157805 _Testing PASS_ Submitter: Robin Jarry Date: Friday, October 17 2025 12:19:47 DPDK git baseline: Repo:dpdk-next-net Branch: master CommitID:535c49b6264f1df239703b8250b070e4c4cda2e9 157805 --> testing pass Upstream job id: Generic-DPDK-Compile-Meson#435504 Test environment and result as below: +------------------------------+--------------------+ | Environment | dpdk_meson_compile | +==============================+====================+ | Red Hat Enterprise Linux 9.5 | PASS | +------------------------------+--------------------+ | Ubuntu 20.04 | PASS | +------------------------------+--------------------+ | Debian GNU/Linux 12 | PASS | +------------------------------+--------------------+ | Fedora Linux 42 | PASS | +------------------------------+--------------------+ | Ubuntu 22.04 | PASS | +------------------------------+--------------------+ | Ubuntu 24.04 | PASS | +------------------------------+--------------------+ | CentOS Stream 9 | PASS | +------------------------------+--------------------+ | CentOS Stream 10 | PASS | +------------------------------+--------------------+ Red Hat Enterprise Linux 9.5 Kernel: 5.4 Compiler: gcc gcc (GCC) 11.5.0 20240719 (Red Hat 11.5.0-2) Ubuntu 20.04 Kernel: 5.15 Compiler: aarch64-linux-gnu-gcc gcc (Ubuntu 9.4.0-1ubuntu1~20.04.2) 9.4.0 Debian GNU/Linux 12 Kernel: 5.4 Compiler: gcc gcc (Debian 12.2.0-14+deb12u1) 12.2.0 Fedora Linux 42 Kernel: 5.4 Compiler: gcc gcc (GCC) 15.2.1 20250808 (Red Hat 15.2.1-1) Ubuntu 22.04 Kernel: 5.4 Compiler: gcc gcc (Ubuntu 11.4.0-1ubuntu1~22.04) 11.4.0 Ubuntu 24.04 Kernel: 5.4 Compiler: gcc gcc (Ubuntu 13.3.0-6ubuntu2~24.04) 13.3.0 CentOS Stream 9 Kernel: 5.4 Compiler: gcc gcc (GCC) 11.5.0 20240719 (Red Hat 11.5.0-11) CentOS Stream 10 Kernel: 5.4 Compiler: gcc gcc (GCC) 14.2.1 20250110 (Red Hat 14.2.1-8) To view detailed results, visit: https://lab.dpdk.org/results/dashboard/patchsets/34314/ UNH-IOL DPDK Community Lab To manage your email subscriptions, visit: https://lab.dpdk.org/results/dashboard/preferences/subscriptions/