From mboxrd@z Thu Jan 1 00:00:00 1970 Return-Path: Received: from mails.dpdk.org (mails.dpdk.org [217.70.189.124]) by inbox.dpdk.org (Postfix) with ESMTP id 5DB1948969 for ; Sat, 18 Oct 2025 08:01:13 +0200 (CEST) Received: from mails.dpdk.org (localhost [127.0.0.1]) by mails.dpdk.org (Postfix) with ESMTP id 4C2D8400D7; Sat, 18 Oct 2025 08:01:13 +0200 (CEST) Received: from mail-il1-f228.google.com (mail-il1-f228.google.com [209.85.166.228]) by mails.dpdk.org (Postfix) with ESMTP id A57FC400D7 for ; Sat, 18 Oct 2025 08:01:12 +0200 (CEST) Received: by mail-il1-f228.google.com with SMTP id e9e14a558f8ab-430c180d829so9578325ab.3 for ; Fri, 17 Oct 2025 23:01:12 -0700 (PDT) DKIM-Signature: v=1; a=rsa-sha256; c=relaxed/relaxed; d=iol.unh.edu; s=unh-iol; t=1760767272; x=1761372072; darn=dpdk.org; h=references:in-reply-to:cc:to:from:subject:message-id:date:from:to :cc:subject:date:message-id:reply-to; bh=3A6fBc+K1hG6DLsMwgKq5obO/sVFkSJ7FQ99RPTRpfs=; b=bXbIUfvI4FDK9mqrS/4m3wfCrrIKyB6g00BVrfQSAusWweOECbozykCGu+UALXwvWV mBsLQAXKA06rUOdYwDt6RmU86R8RjZMXvGnHKFfl0TJijoM8eDl3OLO3wB+VSALyNw+1 ngSxm0C3dNZrJenhlNFM7rSE8YcanwosogFuM= X-Google-DKIM-Signature: v=1; a=rsa-sha256; c=relaxed/relaxed; d=1e100.net; s=20230601; t=1760767272; x=1761372072; h=references:in-reply-to:cc:to:from:subject:message-id:date :x-gm-message-state:from:to:cc:subject:date:message-id:reply-to; bh=3A6fBc+K1hG6DLsMwgKq5obO/sVFkSJ7FQ99RPTRpfs=; b=L7A5/teKj631ThVDWI5FLT5yKbmoI5C1SqcjyBAl1fs1XV8HBFI+2/gfMB6yriDtnH NgE2MfN995aIVU7uSaXaXD6opMBZEhp9vzBQgoDb4YNb9rexKw5nwW0Z5G0r+as1l+Bc Wf7wBL+ujWLwlRWADNQp4667xBVsvHLRfHOGCdGsMNvINFnc2z7wHvfhnaCCK0yFK15M F3BxpHyV2Vq2+yvaNgv13jl8+sPGa3MNP3tBdwAlHiXz0hENklKbOyIVFg0YZebAIUI4 0UKVkzgd3L5CpnrvQl3Zh0cmK7tqBX9XwOwX52MY/DQXTOZoW+uySzqKsnrJDffn7+pn DrRw== X-Gm-Message-State: AOJu0YwEsC1VVS+Xeggii3vSk9XPMf4Dan89PLPjvyOo88srNUsVvkC5 wCAgmV1QruIoUeKmB8ysYhv5gYsUI5jD1UaXvnJjWO+HjSPhdK7Fn+7o5fPNxb9dld6p/C/p6/Z /9oSoFfBesz4Ivd4NSG7r55Q6GOIwj28tN1Euj3JK9LPL X-Gm-Gg: ASbGncvvQOv6cRiOyCPNPFDEC4onF3gyMcWJa1VXe2Fk9eaiZyamIzVs0anL/+Y4Ya4 YUEDOLKkGQVHvfiRxgUX8Zy6QNs54W8Exy03YhXW9yBh/dOoHXR+WtRdk6htoo9v2ON+P/ZQCHl uzDwj3zPTUGssZZV2xiB8w7bLXDC+WgYdSR5DK8H8PH5aNcU9NEcMRTv3uWsy0nItzy10bEIskJ tAS4NwvlP0yUgpx1O6hL6lXWqRIz1h7urm1xJROjqWyvpqKIcMdA2uLAUyNXYZHUib6guXJW0tF 5CqW8mwumt1PhW1f8HtRQ23/Hldds2Vht/0WfKjvFinAGQnMSEnpJOLfy1YyeReTXmnQNIHCEZ4 r7UOohGdwWXAqLC/UlH/7GekCX8X0QUY= X-Google-Smtp-Source: AGHT+IHn5GvExtIK/c804UFbroWj2i3aASSnjgILcPS+ZOSge+zVlTMODbxCx7Tv4EYkqHLp08urFL6q+N/Q X-Received: by 2002:a05:6e02:1686:b0:430:b2a2:829f with SMTP id e9e14a558f8ab-430c5245f6cmr100931295ab.6.1760767271983; Fri, 17 Oct 2025 23:01:11 -0700 (PDT) Received: from postal.iol.unh.edu (postal.iol.unh.edu. [132.177.123.84]) by smtp-relay.gmail.com with ESMTPS id 8926c6da1cb9f-5a8a9778ba1sm144466173.36.2025.10.17.23.01.11 (version=TLS1_2 cipher=ECDHE-ECDSA-AES128-GCM-SHA256 bits=128/128); Fri, 17 Oct 2025 23:01:11 -0700 (PDT) X-Relaying-Domain: iol.unh.edu Date: Fri, 17 Oct 2025 23:01:11 -0700 (PDT) Message-ID: <68f32d27.050a0220.1dd793.7467SMTPIN_ADDED_MISSING@mx.google.com> Received: from [172.21.0.3] (unknown [172.18.0.240]) by postal.iol.unh.edu (Postfix) with ESMTP id 98F4C6051830; Sat, 18 Oct 2025 02:01:11 -0400 (EDT) Subject: |SUCCESS| pw157807-157808 [PATCH] [v3,2/2] mailmap: sort mailmap From: dpdklab@iol.unh.edu To: Test Report Cc: dpdk-test-reports@iol.unh.edu In-Reply-To: <20251017133812.1109638-3-bruce.richardson@intel.com> References: <20251017133812.1109638-3-bruce.richardson@intel.com> Content-Type: text/plain X-BeenThere: test-report@dpdk.org X-Mailman-Version: 2.1.29 Precedence: list List-Id: automatic DPDK test reports List-Unsubscribe: , List-Archive: List-Post: List-Help: List-Subscribe: , Errors-To: test-report-bounces@dpdk.org Test-Label: iol-compile-arm64-testing Test-Status: SUCCESS http://dpdk.org/patch/157808 _Testing PASS_ Submitter: Bruce Richardson Date: Friday, October 17 2025 13:38:08 DPDK git baseline: Repo:dpdk Branch: master CommitID:438491733c2d8a109574449d3d6de9b25a05c07c 157807-157808 --> testing pass Upstream job id: Generic-DPDK-Compile-Meson#435539 Test environment and result as below: +------------------------------+--------------------+ | Environment | dpdk_meson_compile | +==============================+====================+ | Red Hat Enterprise Linux 9.5 | PASS | +------------------------------+--------------------+ | Ubuntu 20.04 | PASS | +------------------------------+--------------------+ | Debian GNU/Linux 12 | PASS | +------------------------------+--------------------+ | Fedora Linux 42 | PASS | +------------------------------+--------------------+ | Ubuntu 24.04 | PASS | +------------------------------+--------------------+ | Ubuntu 22.04 | PASS | +------------------------------+--------------------+ | CentOS Stream 9 | PASS | +------------------------------+--------------------+ | CentOS Stream 10 | PASS | +------------------------------+--------------------+ Red Hat Enterprise Linux 9.5 Kernel: 5.4 Compiler: gcc gcc (GCC) 11.5.0 20240719 (Red Hat 11.5.0-2) Ubuntu 20.04 Kernel: 5.15 Compiler: aarch64-linux-gnu-gcc gcc (Ubuntu 9.4.0-1ubuntu1~20.04.2) 9.4.0 Debian GNU/Linux 12 Kernel: 5.4 Compiler: gcc gcc (Debian 12.2.0-14+deb12u1) 12.2.0 Fedora Linux 42 Kernel: 5.4 Compiler: gcc gcc (GCC) 15.2.1 20250808 (Red Hat 15.2.1-1) Ubuntu 24.04 Kernel: 5.4 Compiler: gcc gcc (Ubuntu 13.3.0-6ubuntu2~24.04) 13.3.0 Ubuntu 22.04 Kernel: 5.4 Compiler: gcc gcc (Ubuntu 11.4.0-1ubuntu1~22.04) 11.4.0 CentOS Stream 9 Kernel: 5.4 Compiler: gcc gcc (GCC) 11.5.0 20240719 (Red Hat 11.5.0-11) CentOS Stream 10 Kernel: 5.4 Compiler: gcc gcc (GCC) 14.2.1 20250110 (Red Hat 14.2.1-8) To view detailed results, visit: https://lab.dpdk.org/results/dashboard/patchsets/34316/ UNH-IOL DPDK Community Lab To manage your email subscriptions, visit: https://lab.dpdk.org/results/dashboard/preferences/subscriptions/