From mboxrd@z Thu Jan 1 00:00:00 1970 Return-Path: Received: from mails.dpdk.org (mails.dpdk.org [217.70.189.124]) by inbox.dpdk.org (Postfix) with ESMTP id 416AB4896A for ; Sat, 18 Oct 2025 08:10:17 +0200 (CEST) Received: from mails.dpdk.org (localhost [127.0.0.1]) by mails.dpdk.org (Postfix) with ESMTP id 0C74B400D7; Sat, 18 Oct 2025 08:10:17 +0200 (CEST) Received: from mail-il1-f227.google.com (mail-il1-f227.google.com [209.85.166.227]) by mails.dpdk.org (Postfix) with ESMTP id D2B6D400D7 for ; Sat, 18 Oct 2025 08:10:15 +0200 (CEST) Received: by mail-il1-f227.google.com with SMTP id e9e14a558f8ab-42d8b15548eso13933655ab.2 for ; Fri, 17 Oct 2025 23:10:15 -0700 (PDT) DKIM-Signature: v=1; a=rsa-sha256; c=relaxed/relaxed; d=iol.unh.edu; s=unh-iol; t=1760767815; x=1761372615; darn=dpdk.org; h=cc:to:from:subject:message-id:date:from:to:cc:subject:date :message-id:reply-to; bh=VMZhFL6nEtYg2DgN/pMK1UYSRuIv9D6NOySg/PA9gAo=; b=XQA4BAhnLV3ptmNMaE6MtM9lFjLcmBsCEZLc4zmUC80bakNislx3qvC9EzkqhKyavW jLULujP4snKVpZGHs2/7K2XA7Yt1bweGkh4oCgMdt3DpCjWxzt1XL6zRx7/ffR+WoENK 0BAovCHFZcTFSMx3jS8i/VcWmWagFScam9pLk= X-Google-DKIM-Signature: v=1; a=rsa-sha256; c=relaxed/relaxed; d=1e100.net; s=20230601; t=1760767815; x=1761372615; h=cc:to:from:subject:message-id:date:x-gm-message-state:from:to:cc :subject:date:message-id:reply-to; bh=VMZhFL6nEtYg2DgN/pMK1UYSRuIv9D6NOySg/PA9gAo=; b=OnmmNHSMR01DN94sarVBta4SLmxPX0Z0KoT669BMzLI75k6ENs5VawGNen8dI4v6eA cka9weZw7BSnkpSyc3oSgSRMko1EtfaShcnsD0HyyGe7ogc93NvMj6WdDUS6x3ydv1HS xqK/tsizW3rrtDuPG5KHszZiki+/yPN8xHRNcqw6tnmiO+TB/cKaibR9Q18JL07LI3Is 5suwJ/PGio477jID3JV8VR4TMrIYgLeZig0/PpyIyDFDQLuzLHwEH2wIPnXslLAesSds FFrvQpoI7nRfMzzSPc9kZZDPHnqldj6wJa7MBqWxx9Tx1X4SM9xwJ63/DkG0wpbunrio aqLg== X-Gm-Message-State: AOJu0YwM/02uqZwkxHvVQQTnZ3O6qhHpHDrhUz3uuU8tAO5b3JTTVzje 1kuYiH7L0OJgkAnTK4zvow85B3bByKfFSL/QTBtunDH59Jdxl9Pad88OMg+2jBzMuJzb9bGHyJl kOjct9DCQxHAE/rSz53G3qckUEKAMbLDvHxEn X-Gm-Gg: ASbGncuLsErw0z9sGsvFHKttEe5i7T5DzDyn2zw2rqrQ+wFjWuNZJ1ZpJ/mPie0I57J V90Ilg/uJ5/Bf3f7zClL08Iijv52QPqNSNTV/9U5iU9Jhmjy8+aqsgN36zi6APQoyefLobfLfd7 mOpwcZbpUUp3l5v20i7FQZR7+q31lNhr8egDwV/xqqwSXmZzzY7szJHnxI94DDkaHBhHRaL8tm1 4gZRX6f/MmiehKuIZI3AG38FhB8VebyQl3IAEa6KXcwkLSjekNPCB/sJyekd0HSwa9AQBfuoNWM i70t73Q62RIRb8L12bpIPl6Mysv5VyokzJcglt5ftYl3biYdS18e/cMu/+doSDZfVwObHrKPOY9 NvzznOn5EUSjthKr8tKMeCdglhyAeIu4= X-Google-Smtp-Source: AGHT+IF23FSCzOzXMUb/yKK3v9QGJJkXUzup9sk39g07jli/1eSpYWPTdbKqKMWqQbafn/otL6PhTscQds/Q X-Received: by 2002:a05:6e02:156c:b0:430:ad98:981f with SMTP id e9e14a558f8ab-430c524b96bmr90775935ab.4.1760767815126; Fri, 17 Oct 2025 23:10:15 -0700 (PDT) Received: from postal.iol.unh.edu (postal.iol.unh.edu. [132.177.123.84]) by smtp-relay.gmail.com with ESMTPS id 8926c6da1cb9f-5a8a95fed57sm149122173.1.2025.10.17.23.10.15 (version=TLS1_2 cipher=ECDHE-ECDSA-AES128-GCM-SHA256 bits=128/128); Fri, 17 Oct 2025 23:10:15 -0700 (PDT) X-Relaying-Domain: iol.unh.edu Date: Fri, 17 Oct 2025 23:10:15 -0700 (PDT) Message-ID: <68f32f47.050a0220.188866.7ac7SMTPIN_ADDED_MISSING@mx.google.com> Received: from [172.21.0.2] (unknown [172.18.0.240]) by postal.iol.unh.edu (Postfix) with ESMTP id A2E9E6051830; Sat, 18 Oct 2025 02:10:14 -0400 (EDT) Subject: |SUCCESS| [GIT MASTER] b287e404643aeab5bb5db084c142789df187844e From: dpdklab@iol.unh.edu To: Test Report Cc: dpdk-test-reports@iol.unh.edu, Xueming Li , Christian Ehrhardt , Kevin Traynor , Luca Boccassi Content-Type: text/plain X-BeenThere: test-report@dpdk.org X-Mailman-Version: 2.1.29 Precedence: list List-Id: automatic DPDK test reports List-Unsubscribe: , List-Archive: List-Post: List-Help: List-Subscribe: , Errors-To: test-report-bounces@dpdk.org _Testing PASS_ Branch: tags/v24.11 b287e404643aeab5bb5db084c142789df187844e --> testing pass Upstream job id: Generic-Unit-Test-DPDK#383088 Test environment and result as below: +-------------------------------+----------------+ | Environment | dpdk_unit_test | +===============================+================+ | CentOS Stream 9 | PASS | +-------------------------------+----------------+ | CentOS Stream 10 | PASS | +-------------------------------+----------------+ | Fedora Linux 40 | PASS | +-------------------------------+----------------+ | Red Hat Enterprise Linux 9.5 | PASS | +-------------------------------+----------------+ | Debian GNU/Linux 12 | PASS | +-------------------------------+----------------+ | Fedora Linux 41 | PASS | +-------------------------------+----------------+ | Fedora Linux 42 | PASS | +-------------------------------+----------------+ | Ubuntu 20.04 | PASS | +-------------------------------+----------------+ | Red Hat Enterprise Linux 8.10 | PASS | +-------------------------------+----------------+ | Ubuntu 22.04 | PASS | +-------------------------------+----------------+ | Ubuntu 24.04 | PASS | +-------------------------------+----------------+ | Windows Server 2022 | PASS | +-------------------------------+----------------+ CentOS Stream 9 Kernel: 5.15 Compiler: gcc gcc (GCC) 11.5.0 20240719 (Red Hat 11.5.0-11) CentOS Stream 10 Kernel: 5.15 Compiler: gcc gcc (GCC) 14.2.1 20250110 (Red Hat 14.2.1-8) Fedora Linux 40 Kernel: 5.15 Compiler: clang gcc (GCC) 14.2.1 20240912 (Red Hat 14.2.1-3) Red Hat Enterprise Linux 9.5 Kernel: 5.15 Compiler: gcc gcc (GCC) 11.5.0 20240719 (Red Hat 11.5.0-2) Debian GNU/Linux 12 Kernel: 5.15 Compiler: gcc gcc (Debian 12.2.0-14+deb12u1) 12.2.0 Fedora Linux 41 Kernel: 5.15 Compiler: gcc gcc (GCC) 14.3.1 20250523 (Red Hat 14.3.1-1) Fedora Linux 42 Kernel: 5.15 Compiler: gcc gcc (GCC) 15.2.1 20250808 (Red Hat 15.2.1-1) Ubuntu 20.04 Kernel: 5.15 Compiler: gcc gcc (Ubuntu 9.4.0-1ubuntu1~20.04.2) 9.4.0 Red Hat Enterprise Linux 8.10 Kernel: 5.15 Compiler: gcc gcc (GCC) 8.5.0 20210514 (Red Hat 8.5.0-22) Ubuntu 22.04 Kernel: 5.15 Compiler: gcc gcc (Ubuntu 11.4.0-1ubuntu1~22.04) 11.4.0 Ubuntu 24.04 Kernel: 5.15 Compiler: gcc gcc (Ubuntu 13.3.0-6ubuntu2~24.04) 13.3.0 Windows Server 2022 Kernel: 10.0.20348.2031 Compiler: clang 15.0.7, gcc 14.1.0 (MinGW), and MSVC VS 19.39.33521 To view detailed results, visit: https://lab.dpdk.org/results/dashboard/tarballs/35265/ UNH-IOL DPDK Community Lab To manage your email subscriptions, visit: https://lab.dpdk.org/results/dashboard/preferences/subscriptions/