From mboxrd@z Thu Jan 1 00:00:00 1970 Return-Path: Received: from mails.dpdk.org (mails.dpdk.org [217.70.189.124]) by inbox.dpdk.org (Postfix) with ESMTP id 0E0454896A for ; Sat, 18 Oct 2025 09:00:08 +0200 (CEST) Received: from mails.dpdk.org (localhost [127.0.0.1]) by mails.dpdk.org (Postfix) with ESMTP id 078B1400D7; Sat, 18 Oct 2025 09:00:08 +0200 (CEST) Received: from mail-ot1-f97.google.com (mail-ot1-f97.google.com [209.85.210.97]) by mails.dpdk.org (Postfix) with ESMTP id 57B56400D7 for ; Sat, 18 Oct 2025 09:00:06 +0200 (CEST) Received: by mail-ot1-f97.google.com with SMTP id 46e09a7af769-7827025e548so1057521a34.2 for ; Sat, 18 Oct 2025 00:00:06 -0700 (PDT) DKIM-Signature: v=1; a=rsa-sha256; c=relaxed/relaxed; d=iol.unh.edu; s=unh-iol; t=1760770805; x=1761375605; darn=dpdk.org; h=references:in-reply-to:cc:to:from:subject:message-id:date:from:to :cc:subject:date:message-id:reply-to; bh=4PdHkTusruQk0om4TnboumSEQdTfwEZRhNyW7k3LIOE=; b=EVUXoMNGuBVSfysI40J665DFt744QmlYN4ieDWZjjtZIjKmBEmqyPRJ10ENUkXhEfp 0AzBuWvcC3OeuKKHMZoYNY4cqhPWDtkzp129Zu3ulmswPYIyxE893YK5SSUXtnBL8ngw kY+njfa+Mi0qBdQQ0sO6vWzseKwpLQI40psKg= X-Google-DKIM-Signature: v=1; a=rsa-sha256; c=relaxed/relaxed; d=1e100.net; s=20230601; t=1760770805; x=1761375605; h=references:in-reply-to:cc:to:from:subject:message-id:date :x-gm-message-state:from:to:cc:subject:date:message-id:reply-to; bh=4PdHkTusruQk0om4TnboumSEQdTfwEZRhNyW7k3LIOE=; b=dwfxDsYsYGRTIaS6ra6R+YGXCspQvG8zARwxqASwW2wGmtVAhaRwgICwIJA+sV/PwB sPq2sGT4oW7O3v+DwMNnJku2feYpzzOjSe+aOKi8vDUIgVT2st0GlMSgtqdz1etP1aKt YsGFpbO5tAPMLigI3gZXRkfwJEt4EGHM8TgBPFNNhqU0gYuFWZpG0ct+83dT7njhZE4C wX2h4GbL0JVCgAdxuWcc7L1sJb4T0G/Qte08imAkYi/ihN+uKm8VQXnEON1KTSa9M7pK LtkpTe9k/4zV3aj1jVKlAGFj5UWhrccN98BNPvl7UAwxtgecFO+UMpGNeL6CevdxRt3u V2GA== X-Gm-Message-State: AOJu0Yxo3hlEHTfMhnDtMI+JybHpo3AogfNJgqe1yUuhrBJsDVUV08Jz mLifVOxTvcsvgv49EbMKanrflVOwuczo6KuzZhBElqjDjJ9Nn/gcO9R95D9L0r+18Uo4hzxP4oX k3qqR07LAooPKR11h/Ptzdu4tuyRxWb6A87+yZyhJLkSt X-Gm-Gg: ASbGncuCPtaN/0oEM1yETRPyjiVyfebazPr5GQEoGj+fxMf2vnamidsCZEFS3yWqvkh eKUVngBc2hY3F2WD6xNbtovOJPjYWw5v/vWi1GRggZycSxD28KKP0ycIdR6zf3Om5RPd30tDkwS X2DT4tZjBbZvZih/hmJumQWi1XJfVRN8k4D1/ZBUiID+eduFxis5cN4nfx1mkzrR08UFLf9sqF+ rbcVHZ7V1ivDX6DSUITPnmYhY3dBiu2YJbZu5ojVCkHZ0kPmmQ+EWpial/g2TGOgC1ncFruTqMN v4/KCVs1H6hpgifX+8KAsshPCXewNTuXUVJEpQ/yFwK22SqKMKnMSC6dcO8NPsq0JKyYS5EBIr0 ZZjG3a+qHBVPPqIRgrrSSyrawfWMYKis= X-Google-Smtp-Source: AGHT+IHDhxHUmUuGUQhzJ5NjYZ2GZs0ovZ+ZXoZRs6NMOczn/HHvCpSfHO8uYxND3k9IYHpPymipB4WBTzCR X-Received: by 2002:a05:6870:2215:b0:348:7139:66b8 with SMTP id 586e51a60fabf-3c98d17fc30mr2810729fac.38.1760770805497; Sat, 18 Oct 2025 00:00:05 -0700 (PDT) Received: from postal.iol.unh.edu (postal.iol.unh.edu. [132.177.123.84]) by smtp-relay.gmail.com with ESMTPS id 586e51a60fabf-3c9af2603f2sm167927fac.16.2025.10.18.00.00.05 (version=TLS1_2 cipher=ECDHE-ECDSA-AES128-GCM-SHA256 bits=128/128); Sat, 18 Oct 2025 00:00:05 -0700 (PDT) X-Relaying-Domain: iol.unh.edu Date: Sat, 18 Oct 2025 00:00:05 -0700 (PDT) Message-ID: <68f33af5.050a0220.144c15.8daeSMTPIN_ADDED_MISSING@mx.google.com> Received: from [172.21.0.5] (unknown [172.18.0.240]) by postal.iol.unh.edu (Postfix) with ESMTP id 07BC66050A61; Sat, 18 Oct 2025 03:00:05 -0400 (EDT) Subject: |SUCCESS| pw157812-157813 [PATCH] [v2,2/2] usertools/dpdk-telemetry- From: dpdklab@iol.unh.edu To: Test Report Cc: dpdk-test-reports@iol.unh.edu In-Reply-To: <20251017141927.1156370-3-bruce.richardson@intel.com> References: <20251017141927.1156370-3-bruce.richardson@intel.com> Content-Type: text/plain X-BeenThere: test-report@dpdk.org X-Mailman-Version: 2.1.29 Precedence: list List-Id: automatic DPDK test reports List-Unsubscribe: , List-Archive: List-Post: List-Help: List-Subscribe: , Errors-To: test-report-bounces@dpdk.org Test-Label: iol-compile-arm64-testing Test-Status: SUCCESS http://dpdk.org/patch/157813 _Testing PASS_ Submitter: Bruce Richardson Date: Friday, October 17 2025 14:19:27 DPDK git baseline: Repo:dpdk Branch: master CommitID:438491733c2d8a109574449d3d6de9b25a05c07c 157812-157813 --> testing pass Upstream job id: Generic-DPDK-Compile-Meson#435553 Test environment and result as below: +------------------------------+--------------------+ | Environment | dpdk_meson_compile | +==============================+====================+ | Red Hat Enterprise Linux 9.5 | PASS | +------------------------------+--------------------+ | Ubuntu 20.04 | PASS | +------------------------------+--------------------+ | Debian GNU/Linux 12 | PASS | +------------------------------+--------------------+ | Fedora Linux 42 | PASS | +------------------------------+--------------------+ | Ubuntu 22.04 | PASS | +------------------------------+--------------------+ | Ubuntu 24.04 | PASS | +------------------------------+--------------------+ | CentOS Stream 9 | PASS | +------------------------------+--------------------+ | CentOS Stream 10 | PASS | +------------------------------+--------------------+ Red Hat Enterprise Linux 9.5 Kernel: 5.4 Compiler: gcc gcc (GCC) 11.5.0 20240719 (Red Hat 11.5.0-2) Ubuntu 20.04 Kernel: 5.4 Compiler: gcc gcc (Ubuntu 9.4.0-1ubuntu1~20.04.2) 9.4.0 Debian GNU/Linux 12 Kernel: 5.4 Compiler: gcc gcc (Debian 12.2.0-14+deb12u1) 12.2.0 Fedora Linux 42 Kernel: 5.4 Compiler: gcc gcc (GCC) 15.2.1 20250808 (Red Hat 15.2.1-1) Ubuntu 22.04 Kernel: 5.4 Compiler: gcc gcc (Ubuntu 11.4.0-1ubuntu1~22.04) 11.4.0 Ubuntu 24.04 Kernel: 5.4 Compiler: gcc gcc (Ubuntu 13.3.0-6ubuntu2~24.04) 13.3.0 CentOS Stream 9 Kernel: 5.4 Compiler: gcc gcc (GCC) 11.5.0 20240719 (Red Hat 11.5.0-11) CentOS Stream 10 Kernel: 5.4 Compiler: gcc gcc (GCC) 14.2.1 20250110 (Red Hat 14.2.1-8) To view detailed results, visit: https://lab.dpdk.org/results/dashboard/patchsets/34319/ UNH-IOL DPDK Community Lab To manage your email subscriptions, visit: https://lab.dpdk.org/results/dashboard/preferences/subscriptions/