From mboxrd@z Thu Jan 1 00:00:00 1970 Return-Path: Received: from mails.dpdk.org (mails.dpdk.org [217.70.189.124]) by inbox.dpdk.org (Postfix) with ESMTP id 194A74896A for ; Sat, 18 Oct 2025 09:00:16 +0200 (CEST) Received: from mails.dpdk.org (localhost [127.0.0.1]) by mails.dpdk.org (Postfix) with ESMTP id 13364400D7; Sat, 18 Oct 2025 09:00:16 +0200 (CEST) Received: from mail-ot1-f100.google.com (mail-ot1-f100.google.com [209.85.210.100]) by mails.dpdk.org (Postfix) with ESMTP id 35DB2400D7 for ; Sat, 18 Oct 2025 09:00:14 +0200 (CEST) Received: by mail-ot1-f100.google.com with SMTP id 46e09a7af769-79d36a6298dso993238a34.0 for ; Sat, 18 Oct 2025 00:00:14 -0700 (PDT) DKIM-Signature: v=1; a=rsa-sha256; c=relaxed/relaxed; d=iol.unh.edu; s=unh-iol; t=1760770813; x=1761375613; darn=dpdk.org; h=cc:to:from:subject:message-id:date:from:to:cc:subject:date :message-id:reply-to; bh=62ZEOnx6f8GZ1jFhD2BqddGCUtVmdLhiM3HUUamUAfE=; b=QZqrlvtQvY88IqhgEVUfrs/2PPuGvHs7mHLW1dY3aCAvwZj9DIKjvTAmdQmalvBK9t ScYOa3FfEb/EJDJ8nTB1QxS2Mp3mkqcroWWmxRXz8jlGtNSLF2FM4gN+DM5Y9usiwTgd T4AirqsdTZoMianWt1VnOvF1SJSltXGbYkYnE= X-Google-DKIM-Signature: v=1; a=rsa-sha256; c=relaxed/relaxed; d=1e100.net; s=20230601; t=1760770813; x=1761375613; h=cc:to:from:subject:message-id:date:x-gm-message-state:from:to:cc :subject:date:message-id:reply-to; bh=62ZEOnx6f8GZ1jFhD2BqddGCUtVmdLhiM3HUUamUAfE=; b=M2GKHsLPvZdjxed/A15ssLtlFHezaXMVY6rO7ykQY8K2s0J/PuMPZ5B2zFh2KNUSef jKR8V/spQoS4VkVv/KNTq8J48ZYJkGq4FcXDSssGVyXoA87rCLTmpQrbCOvff2P3HGzm GcP7LiNLOo/wsmCFGINj8u20ADnL45oeMpKWBlxPhHc5c6qc9RV+AKRD8qhYHgKHtbDm o4fIWANp6LDS+McBhPPSz1B2ZKgxkO7LVw2eZlMaZWfh95NLsFw9t57LBiMlVAc+i/rS aitCCuaq19LvKpvBRL4OcT1dA8YNOJiedkQKDe1/eAvRxH3AKjMWFyc1b/IO+ZHPoSJc fKFQ== X-Gm-Message-State: AOJu0YzpMayN9uWh3PjzILgvxfxMv53BRmn94ryTzJwg68w3FB2QWeS5 eX20d7yd8jFrrXNBYqR8yha/A+aNirwWifNOm59C0voXTxK78KwMx73f0yyCWIF8aM4KywkF+NU ihOB+tXJSdisSHSJCfs6Pbnpn5Zp4zmcheyYJ6GOsvvjpauh16zADvZuJgfQa X-Gm-Gg: ASbGnctH2T56rJw01HpRPk4VmJBnMSOE9rXOp3osZulCmWqjASMNxPkYuhoul09/KUi MJ+qNoP8bQ+jhpR1i4qSrfauDnMj1kggMsZFOxNtMMORYOS6YnlJy/sBUg7UGsKjMWGJ9u3Nwdv +eHogVkg+BCtIToArGj2TUm4vj3KNiQCUjsPavBhuddIcehVPPxIMiwgC1b+bwgolc1lTkQVwZT ZuF3KORkz5c3ud001f/mvM/GvjtpNboSnVSScIGmGfNOh1Qf/XcefZe4vtexLCM+VuFxNA90c+U 7/+AQPqbGQHLhv0hNOBt6J8yT0SqCvmzRs3Wx8ZLDoPffVBEsQdWdirpdVR3RuoPLxOhRkt/8tj sOuw2ueHZ X-Google-Smtp-Source: AGHT+IGknGEs/t/wTPR3/IzgBIk2mbj6wypq4XHGIfz+FyF3oH6w6+XVhActRStuD6DGbKZJTFq28T1shtvu X-Received: by 2002:a05:6830:719e:b0:7bc:626c:3b30 with SMTP id 46e09a7af769-7c27cc84a58mr2826952a34.26.1760770813533; Sat, 18 Oct 2025 00:00:13 -0700 (PDT) Received: from postal.iol.unh.edu (postal.iol.unh.edu. [2606:4100:3880:1234::84]) by smtp-relay.gmail.com with ESMTPS id 46e09a7af769-7c28874f807sm164729a34.2.2025.10.18.00.00.13 (version=TLS1_2 cipher=ECDHE-ECDSA-AES128-GCM-SHA256 bits=128/128); Sat, 18 Oct 2025 00:00:13 -0700 (PDT) X-Relaying-Domain: iol.unh.edu Date: Sat, 18 Oct 2025 00:00:13 -0700 (PDT) Message-ID: <68f33afd.050a0220.1006a4.821dSMTPIN_ADDED_MISSING@mx.google.com> Received: from [172.21.0.5] (unknown [172.18.0.240]) by postal.iol.unh.edu (Postfix) with ESMTP id 14AB36050A61; Sat, 18 Oct 2025 03:00:13 -0400 (EDT) Subject: |SUCCESS| [GIT MASTER] 3ae1e87388139b3c92c368203b0885a386eb9295 From: dpdklab@iol.unh.edu To: Test Report Cc: dpdk-test-reports@iol.unh.edu, Stephen Hemminger Content-Type: text/plain X-BeenThere: test-report@dpdk.org X-Mailman-Version: 2.1.29 Precedence: list List-Id: automatic DPDK test reports List-Unsubscribe: , List-Archive: List-Post: List-Help: List-Subscribe: , Errors-To: test-report-bounces@dpdk.org _Testing PASS_ Branch: dpdk-next-net 3ae1e87388139b3c92c368203b0885a386eb9295 --> testing pass Upstream job id: Windows-Compile-DPDK-Native#31738 Test environment and result as below: +---------------------+-------------------------+--------------------+-------------------+----------------------+ | Environment | dpdk_llvm_clang_compile | dpdk_meson_compile | dpdk_msvc_compile | dpdk_mingw64_compile | +=====================+=========================+====================+===================+======================+ | Windows Server 2022 | PASS | SKIPPED | PASS | PASS | +---------------------+-------------------------+--------------------+-------------------+----------------------+ | Ubuntu 20.04 | SKIPPED | PASS | SKIPPED | SKIPPED | +---------------------+-------------------------+--------------------+-------------------+----------------------+ | FreeBSD 14.2 | SKIPPED | PASS | SKIPPED | SKIPPED | +---------------------+-------------------------+--------------------+-------------------+----------------------+ Windows Server 2022 Kernel: 10.0.20348.2031 Compiler: clang 15.0.7, gcc 14.1.0 (MinGW), and MSVC VS 19.39.33521 Ubuntu 20.04 Kernel: 4.19 Compiler: gcc gcc (Ubuntu 9.4.0-1ubuntu1~20.04.2) 9.4.0 FreeBSD 14.2 Kernel: 14.2-RELEASE Compiler: clang 18.1.6 To view detailed results, visit: https://lab.dpdk.org/results/dashboard/tarballs/35266/ UNH-IOL DPDK Community Lab To manage your email subscriptions, visit: https://lab.dpdk.org/results/dashboard/preferences/subscriptions/