From mboxrd@z Thu Jan 1 00:00:00 1970 Return-Path: Received: from mails.dpdk.org (mails.dpdk.org [217.70.189.124]) by inbox.dpdk.org (Postfix) with ESMTP id CB2D64896A for ; Sat, 18 Oct 2025 09:18:24 +0200 (CEST) Received: from mails.dpdk.org (localhost [127.0.0.1]) by mails.dpdk.org (Postfix) with ESMTP id C6F7D400D7; Sat, 18 Oct 2025 09:18:24 +0200 (CEST) Received: from mail-qv1-f100.google.com (mail-qv1-f100.google.com [209.85.219.100]) by mails.dpdk.org (Postfix) with ESMTP id 7CB00400D7 for ; Sat, 18 Oct 2025 09:18:23 +0200 (CEST) Received: by mail-qv1-f100.google.com with SMTP id 6a1803df08f44-87c13813464so48175186d6.1 for ; Sat, 18 Oct 2025 00:18:23 -0700 (PDT) DKIM-Signature: v=1; a=rsa-sha256; c=relaxed/relaxed; d=iol.unh.edu; s=unh-iol; t=1760771903; x=1761376703; darn=dpdk.org; h=references:in-reply-to:cc:to:from:subject:message-id:date:from:to :cc:subject:date:message-id:reply-to; bh=nrZRMzq6S7gU6r7AebN4ZFz4gPpU8WTu8Rl59lyohv0=; b=Oa8ybVP4Pn0VUPelGR9D1MUi56di/d/ouAFKBwWmtdOSBB4KTlXFBkKujo0NlQnsSS q7QgMF70thIn0Tt6uMZ9xibVsZyIgSexM2hK3RPnuh8NDvA6wEccId2jRyydRiqttgQH PPxHd1K47ILyT+RLTpF6U+o8dxGt2VNHUh7Gs= X-Google-DKIM-Signature: v=1; a=rsa-sha256; c=relaxed/relaxed; d=1e100.net; s=20230601; t=1760771903; x=1761376703; h=references:in-reply-to:cc:to:from:subject:message-id:date :x-gm-message-state:from:to:cc:subject:date:message-id:reply-to; bh=nrZRMzq6S7gU6r7AebN4ZFz4gPpU8WTu8Rl59lyohv0=; b=tCfwibGabSc6VnGGP233DCzQw3O3V74FbpqWvfDKgfv4aGU8HkISkrn8I8S/Ii+bk7 J49xPx8or/hKjbLZeQTNpbrOCWjUmcg3hyMboDJUvsCEKjDXUj3gg9souuzTO83itX4s UxnK8KiJ++QVryY36CWl2Zr7rhe7UiyH+OQ+Vl0By4auECZg8gUXNsihkvg50AiUmwFX KFwAs77YXaQ1/vh+bI6LvCrkWHBwXeRSHf5UNwABK+b4LemD0l/HVpHY3vP+Um+aVxpY KBzpF5Z/FXAKkLLBfjPyFPlk6CUhQ+kA4rKYz0QLgq7cTUkk3pHumbH8ThZjHfFPrxw5 mT4g== X-Gm-Message-State: AOJu0Yw9z5mYbte68eWPF7IAW+/KUhnoBKaXWF3mD5WgWjsn7vzQPBIG GcWE9xABpgeCrDplHOUiUXp6AAVkQ7rmQ92vHKzR32uAhd5prF/dVUsTq1dzfr80j0t5Fyu0tnz hmDubYwgE1EHuPgHpIqohC4gI23I2Cq3vQxRsTgUL8AEsutIbFPEvTtsrcv3B X-Gm-Gg: ASbGncuBtFiOn1togz1uuDargs0LWPGmyslBTXzPXFqZL+8FPVTArJbONv4gYMrBRGk Q1l2UTdRzfeh5QFBKfanjwmnhB13rSKgciv5v7TK0dZ0KWeLB6+jNc/lnR142kbDkdp6lJ3zYHF M9K/5HhmzBXc26imUm2hfhYAPZr4hVvkJnpdWzOwsc8NS6vTuzZq2A/6gejxdbu6bkjED4NejJO Tb1bOpMO68ug5oyNDudhaxKpWRIc1LHprTVDQWhmfMKtPcWDg1D7qu1Y1zfs7Ujc+ywP9GfkVbv Q0WBoZElpQgZFhQjt02M/fM0oCzXGjl1+O+PQp56AjSYfi2hqz7fcWx7a6CTQ8PjTkXP4ns0ty0 GjMIyMb95 X-Google-Smtp-Source: AGHT+IGSibDvspfyqH4fRricm7ZRtURg8gogCopiKfAwsvFw5IBgYx+jK+VZGj4gocHD74s6UPB3td0ry5vy X-Received: by 2002:a05:6214:cce:b0:87c:2ca8:8159 with SMTP id 6a1803df08f44-87c2ca88e57mr45219796d6.53.1760771902769; Sat, 18 Oct 2025 00:18:22 -0700 (PDT) Received: from postal.iol.unh.edu (postal.iol.unh.edu. [2606:4100:3880:1234::84]) by smtp-relay.gmail.com with ESMTPS id 6a1803df08f44-87cf547d482sm1785216d6.21.2025.10.18.00.18.22 (version=TLS1_2 cipher=ECDHE-ECDSA-AES128-GCM-SHA256 bits=128/128); Sat, 18 Oct 2025 00:18:22 -0700 (PDT) X-Relaying-Domain: iol.unh.edu Date: Sat, 18 Oct 2025 00:18:22 -0700 (PDT) Message-ID: <68f33f3e.050a0220.3b3e2f.8f92SMTPIN_ADDED_MISSING@mx.google.com> Received: from [172.21.0.2] (unknown [172.18.0.240]) by postal.iol.unh.edu (Postfix) with ESMTP id 309436050A61; Sat, 18 Oct 2025 03:18:22 -0400 (EDT) Subject: |SUCCESS| pw157814-157821 [PATCH] [v5,8/8] config: enable comma warn From: dpdklab@iol.unh.edu To: Test Report Cc: dpdk-test-reports@iol.unh.edu In-Reply-To: <20251017150241.28511-9-stephen@networkplumber.org> References: <20251017150241.28511-9-stephen@networkplumber.org> Content-Type: text/plain X-BeenThere: test-report@dpdk.org X-Mailman-Version: 2.1.29 Precedence: list List-Id: automatic DPDK test reports List-Unsubscribe: , List-Archive: List-Post: List-Help: List-Subscribe: , Errors-To: test-report-bounces@dpdk.org Test-Label: iol-compile-arm64-testing Test-Status: SUCCESS http://dpdk.org/patch/157821 _Testing PASS_ Submitter: Stephen Hemminger Date: Friday, October 17 2025 15:02:09 DPDK git baseline: Repo:dpdk Branch: master CommitID:438491733c2d8a109574449d3d6de9b25a05c07c 157814-157821 --> testing pass Upstream job id: Generic-DPDK-Compile-Meson#435593 Test environment and result as below: +------------------------------+--------------------+ | Environment | dpdk_meson_compile | +==============================+====================+ | Red Hat Enterprise Linux 9.5 | PASS | +------------------------------+--------------------+ | Ubuntu 20.04 | PASS | +------------------------------+--------------------+ | Debian GNU/Linux 12 | PASS | +------------------------------+--------------------+ | Fedora Linux 42 | PASS | +------------------------------+--------------------+ | Ubuntu 22.04 | PASS | +------------------------------+--------------------+ | Ubuntu 24.04 | PASS | +------------------------------+--------------------+ | CentOS Stream 9 | PASS | +------------------------------+--------------------+ | CentOS Stream 10 | PASS | +------------------------------+--------------------+ Red Hat Enterprise Linux 9.5 Kernel: 5.4 Compiler: gcc gcc (GCC) 11.5.0 20240719 (Red Hat 11.5.0-2) Ubuntu 20.04 Kernel: 5.15 Compiler: aarch64-linux-gnu-gcc gcc (Ubuntu 9.4.0-1ubuntu1~20.04.2) 9.4.0 Debian GNU/Linux 12 Kernel: 5.4 Compiler: gcc gcc (Debian 12.2.0-14+deb12u1) 12.2.0 Fedora Linux 42 Kernel: 5.4 Compiler: gcc gcc (GCC) 15.2.1 20250808 (Red Hat 15.2.1-1) Ubuntu 22.04 Kernel: 5.4 Compiler: gcc gcc (Ubuntu 11.4.0-1ubuntu1~22.04) 11.4.0 Ubuntu 24.04 Kernel: 5.4 Compiler: gcc gcc (Ubuntu 13.3.0-6ubuntu2~24.04) 13.3.0 CentOS Stream 9 Kernel: 5.4 Compiler: gcc gcc (GCC) 11.5.0 20240719 (Red Hat 11.5.0-11) CentOS Stream 10 Kernel: 5.4 Compiler: gcc gcc (GCC) 14.2.1 20250110 (Red Hat 14.2.1-8) To view detailed results, visit: https://lab.dpdk.org/results/dashboard/patchsets/34320/ UNH-IOL DPDK Community Lab To manage your email subscriptions, visit: https://lab.dpdk.org/results/dashboard/preferences/subscriptions/