From mboxrd@z Thu Jan 1 00:00:00 1970 Return-Path: Received: from mails.dpdk.org (mails.dpdk.org [217.70.189.124]) by inbox.dpdk.org (Postfix) with ESMTP id 3DB854896A for ; Sat, 18 Oct 2025 09:22:34 +0200 (CEST) Received: from mails.dpdk.org (localhost [127.0.0.1]) by mails.dpdk.org (Postfix) with ESMTP id 394EE400D7; Sat, 18 Oct 2025 09:22:34 +0200 (CEST) Received: from mail-pg1-f226.google.com (mail-pg1-f226.google.com [209.85.215.226]) by mails.dpdk.org (Postfix) with ESMTP id 61A03400D7 for ; Sat, 18 Oct 2025 09:22:33 +0200 (CEST) Received: by mail-pg1-f226.google.com with SMTP id 41be03b00d2f7-b6271ea3a6fso1726588a12.0 for ; Sat, 18 Oct 2025 00:22:33 -0700 (PDT) DKIM-Signature: v=1; a=rsa-sha256; c=relaxed/relaxed; d=iol.unh.edu; s=unh-iol; t=1760772152; x=1761376952; darn=dpdk.org; h=cc:to:from:subject:message-id:date:from:to:cc:subject:date :message-id:reply-to; bh=1GvoEszp1bILo/Uf9AH4tfLnT3I8AqUMuyAuyC+wFoA=; b=FTryZLsrqHSFLZetvpY92Rg5Qv+YUP9/44/tb7+GNbmwuaQ04ukUWzbNuuBiOY3szn kt3wUzVXzrGrkfRW827vfz/oDn8SDOMtungniDxcs/PNR+C7t9pn6AQC3fDcAWC1kHqR t+u6TuxNt1I9Gz6Cnv0vgMjoXna0RFXTjNxMk= X-Google-DKIM-Signature: v=1; a=rsa-sha256; c=relaxed/relaxed; d=1e100.net; s=20230601; t=1760772152; x=1761376952; h=cc:to:from:subject:message-id:date:x-gm-message-state:from:to:cc :subject:date:message-id:reply-to; bh=1GvoEszp1bILo/Uf9AH4tfLnT3I8AqUMuyAuyC+wFoA=; b=w8pS2ckrAZJXQfDEMSSAlA4GTAdnBzi+WYEaaOdeL9xiP8wOPVXT0CdVFYOIueTST0 adUyChvC9Ku6NGSl0Bs0NxmzgkfrUHrwElHUkPjFQBULcWrFs4MsIhfTXY9fx6FUR76j Tevrj2E3rexSvcsbltjlEm/vTAwOX0RwO20d64N2GDZxMU0nlh//PosZv4SqPj1J4Zq7 qLBOgkOv1H2jfETJJi5g4XqxBM5lvA32Qrkl230uXWyUq/UlSZVQPD/i5KGLXIa+mzZy RNz8ua2vdslYutwqrPa6SnFXp4GRONajjU7nAQAf4dCIDjvpEPZOEy3CTJgf2EgmRXbJ Xeew== X-Gm-Message-State: AOJu0YyZzJgCJ4nfSeiN4Ucn2LwASQNaiSL9gkQOFElbipX3+I/E5hxf T8N1AexvHI+CnrVSdrHKkiUl/4Os85hxrFvQ4PfmsNRDdihZsgEYDbM9GQv2b3ZAoJQT4eVKT2Y iIts7vDz3G+n5qBQ+66xZSsQuWOEMY5t3ZpWTihMHXutBNFDJ1ZduXCj5sKDL X-Gm-Gg: ASbGncsAyD9qOGVGV6p66GGijGmmBIUgg7JfpiPBZGPSIDWMibqfPeTOJrSF4T0ahJy 34LDS9eWThkrPJRoDZx7GKZvmK5PjY0j1QB6487lI1jPHpRWjcPaY+yFITFSHoNQ1ufRTsEXfap Hfeq4zwkz6TuPuhyx+YrMHspvggtncUqor3Hg1Mu4M/HHrpGyUDJYSldwmYou86uDXN5CXBkUOA 52FMJCFvrse0/Y8G/xw4T7CEcQ2gv2CSy6XA9MTHHwc+BwkXUCNj0BcUNW8dlYf+A+QfvrXxv37 prgznYApv5WKCwsxnaiurBDE/bClVOYmEDdh770xaeof99yvOr9kR/knMFlJWa9aCo5CgBQA0rF lGcqHdj0U X-Google-Smtp-Source: AGHT+IFrR2+OlXrKbXLJZ3zePGhChx4ty50CBDEuZ1Qj7tiGu9L008FX4GM4tK69PDkwKdH3+Ldpww+SGjbD X-Received: by 2002:a17:90b:3f10:b0:330:84dc:d11b with SMTP id 98e67ed59e1d1-33bcf8e4e19mr7685255a91.18.1760772152462; Sat, 18 Oct 2025 00:22:32 -0700 (PDT) Received: from postal.iol.unh.edu (postal.iol.unh.edu. [2606:4100:3880:1234::84]) by smtp-relay.gmail.com with ESMTPS id 98e67ed59e1d1-33d5ddf39c0sm133065a91.2.2025.10.18.00.22.32 (version=TLS1_2 cipher=ECDHE-ECDSA-AES128-GCM-SHA256 bits=128/128); Sat, 18 Oct 2025 00:22:32 -0700 (PDT) X-Relaying-Domain: iol.unh.edu Date: Sat, 18 Oct 2025 00:22:32 -0700 (PDT) Message-ID: <68f34038.170a0220.13cf92.6943SMTPIN_ADDED_MISSING@mx.google.com> Received: from [172.21.0.2] (unknown [172.18.0.240]) by postal.iol.unh.edu (Postfix) with ESMTP id 563FA6050A61; Sat, 18 Oct 2025 03:22:31 -0400 (EDT) Subject: |SUCCESS| [GIT MASTER] 3ae1e87388139b3c92c368203b0885a386eb9295 From: dpdklab@iol.unh.edu To: Test Report Cc: dpdk-test-reports@iol.unh.edu, Stephen Hemminger Content-Type: text/plain X-BeenThere: test-report@dpdk.org X-Mailman-Version: 2.1.29 Precedence: list List-Id: automatic DPDK test reports List-Unsubscribe: , List-Archive: List-Post: List-Help: List-Subscribe: , Errors-To: test-report-bounces@dpdk.org _Testing PASS_ Branch: dpdk-next-net 3ae1e87388139b3c92c368203b0885a386eb9295 --> testing pass Upstream job id: Generic-Unit-Test-DPDK#383106 Test environment and result as below: +-------------------------------+----------------+ | Environment | dpdk_unit_test | +===============================+================+ | CentOS Stream 9 | PASS | +-------------------------------+----------------+ | Fedora Linux 40 | PASS | +-------------------------------+----------------+ | CentOS Stream 10 | PASS | +-------------------------------+----------------+ | Fedora Linux 41 | PASS | +-------------------------------+----------------+ | Debian GNU/Linux 12 | PASS | +-------------------------------+----------------+ | Windows Server 2022 | PASS | +-------------------------------+----------------+ | Fedora Linux 42 | PASS | +-------------------------------+----------------+ | Red Hat Enterprise Linux 9.5 | PASS | +-------------------------------+----------------+ | Red Hat Enterprise Linux 8.10 | PASS | +-------------------------------+----------------+ | Ubuntu 20.04 | PASS | +-------------------------------+----------------+ | Ubuntu 24.04 | PASS | +-------------------------------+----------------+ | Ubuntu 22.04 | PASS | +-------------------------------+----------------+ CentOS Stream 9 Kernel: 5.15 Compiler: gcc gcc (GCC) 11.5.0 20240719 (Red Hat 11.5.0-11) Fedora Linux 40 Kernel: 5.15 Compiler: clang gcc (GCC) 14.2.1 20240912 (Red Hat 14.2.1-3) CentOS Stream 10 Kernel: 5.15 Compiler: gcc gcc (GCC) 14.2.1 20250110 (Red Hat 14.2.1-8) Fedora Linux 41 Kernel: 5.15 Compiler: gcc gcc (GCC) 14.3.1 20250523 (Red Hat 14.3.1-1) Debian GNU/Linux 12 Kernel: 5.15 Compiler: gcc gcc (Debian 12.2.0-14+deb12u1) 12.2.0 Windows Server 2022 Kernel: 10.0.20348.2031 Compiler: clang 15.0.7, gcc 14.1.0 (MinGW), and MSVC VS 19.39.33521 Fedora Linux 42 Kernel: 5.15 Compiler: gcc gcc (GCC) 15.2.1 20250808 (Red Hat 15.2.1-1) Red Hat Enterprise Linux 9.5 Kernel: 5.15 Compiler: gcc gcc (GCC) 11.5.0 20240719 (Red Hat 11.5.0-2) Red Hat Enterprise Linux 8.10 Kernel: 5.15 Compiler: gcc gcc (GCC) 8.5.0 20210514 (Red Hat 8.5.0-22) Ubuntu 20.04 Kernel: 5.15 Compiler: gcc gcc (Ubuntu 9.4.0-1ubuntu1~20.04.2) 9.4.0 Ubuntu 24.04 Kernel: 5.15 Compiler: gcc gcc (Ubuntu 13.3.0-6ubuntu2~24.04) 13.3.0 Ubuntu 22.04 Kernel: 5.15 Compiler: gcc gcc (Ubuntu 11.4.0-1ubuntu1~22.04) 11.4.0 To view detailed results, visit: https://lab.dpdk.org/results/dashboard/tarballs/35266/ UNH-IOL DPDK Community Lab To manage your email subscriptions, visit: https://lab.dpdk.org/results/dashboard/preferences/subscriptions/