From mboxrd@z Thu Jan 1 00:00:00 1970 Return-Path: Received: from mails.dpdk.org (mails.dpdk.org [217.70.189.124]) by inbox.dpdk.org (Postfix) with ESMTP id 2F4DE4896A for ; Sat, 18 Oct 2025 09:40:31 +0200 (CEST) Received: from mails.dpdk.org (localhost [127.0.0.1]) by mails.dpdk.org (Postfix) with ESMTP id 27CCB400D7; Sat, 18 Oct 2025 09:40:31 +0200 (CEST) Received: from mail-il1-f225.google.com (mail-il1-f225.google.com [209.85.166.225]) by mails.dpdk.org (Postfix) with ESMTP id 7F8ED400D7 for ; Sat, 18 Oct 2025 09:40:30 +0200 (CEST) Received: by mail-il1-f225.google.com with SMTP id e9e14a558f8ab-42d8b15548eso14136485ab.2 for ; Sat, 18 Oct 2025 00:40:30 -0700 (PDT) DKIM-Signature: v=1; a=rsa-sha256; c=relaxed/relaxed; d=iol.unh.edu; s=unh-iol; t=1760773230; x=1761378030; darn=dpdk.org; h=references:in-reply-to:cc:to:from:subject:message-id:date:from:to :cc:subject:date:message-id:reply-to; bh=ANVoYwO0Wiy5Z6LVQIVqvOL+ksJYnWtI3FrHhN/4N+E=; b=auqGRnf1eBZsnptIJpKLHcu0lue7uuqNX+uik5pD2WLVCKtLJFZONqShbyzxwNMfAL ip9d6zeGfNYjTrlS06LwdRv03ZAzKBS5nLcC/v1LXYamb2Hdaeq2olFTboiv2/BXB/Xn zXh5woL3VdGQreN7JKFkXK9cM5SZ/NhDSake4= X-Google-DKIM-Signature: v=1; a=rsa-sha256; c=relaxed/relaxed; d=1e100.net; s=20230601; t=1760773230; x=1761378030; h=references:in-reply-to:cc:to:from:subject:message-id:date :x-gm-message-state:from:to:cc:subject:date:message-id:reply-to; bh=ANVoYwO0Wiy5Z6LVQIVqvOL+ksJYnWtI3FrHhN/4N+E=; b=BqcpxYMoNK1C6mo2mEMVRBcC8u4o79YaeCMT3Pz4IF+hSJ3TaWIbW5kPtXryxq1BwV li4FJpo1ANhMGN7+DQZMfAzjFMmVLxb/SqveX5Jd6i1BWLdXx25+IXvoe/WaDNKLXqYD U26Dmyob8TS75cQapxcruWWTeF4C0DvlHNaUYzVzoJojV9Qw3vjVzr3yK3JPMNoTQT7p 9o8ehW9x7qRm1w1fJ3pMRJD6C5I79A58oDz2wLg91RBd0xYlPD9be9Y4xWF+A536jNaC E2XKVheZ+sfDJhjkugf+7X+Cn3+l8xIShOj9US1n58C84fdF0mNXaumLU/hkIZxmr2Lj IEjw== X-Gm-Message-State: AOJu0YwEkg0JLfKjTK4v6ld+71zd7gOOpkaTmE8og8T/+TRA7p5lrT5X uKNM9nQ6Mx73OljGi8BrW6wUB2q5z2uND5MiMRE8jlA64NAiIp5c39ha3kkuHBYaVVi1DjGXoRY 2H83KP48dKHlyIGCMxXyeSWro753qN4Wdj5qXww70y+wu0+gVrS3fyJFHi4mI X-Gm-Gg: ASbGnctFAfjlGRzOnb6UOCg8xVt1aeJ9LklVDsMStOO8XcLuPt38zzEMwkdhsPlJ0XN 9gEbln9kfJyP8W3fZVqfLJ5KXlGo2tKUWwtfqc+DQg7osAFn5aBSfE2/SH+HzIPZNFxuLVi9Nqg /CGUQOhS46oajviGVmezUBP5xMph8wyIfnr5OI5so8glAefBqqfbakPMiGl4q//dKK/PgWCn/Z6 /1YJghRCZGRjc9F5mQYjpDsQAueYbOje/mWrycJzGntxaKwfRA6ntI19e1sSZK/c0WYC0vO8GNQ w/+CY9lJ/xCabDJORn/HVWP9hsOjQE2XyM9d4VX4ViXzysFbR09yuQ80qCIIYSnS900o0X4rt4W 9RmoS49sY X-Google-Smtp-Source: AGHT+IGFMNCPpnPuOTMWT+VwvxnpoN62w2S6ya0pB+hH3wmqj9osiFt4P9fUWIuXs7h/olbNIcj/SFnTsBDq X-Received: by 2002:a05:6e02:156c:b0:430:ad98:981f with SMTP id e9e14a558f8ab-430c524b96bmr93766135ab.4.1760773229816; Sat, 18 Oct 2025 00:40:29 -0700 (PDT) Received: from postal.iol.unh.edu (postal.iol.unh.edu. [2606:4100:3880:1234::84]) by smtp-relay.gmail.com with ESMTPS id e9e14a558f8ab-430d07b34f6sm1529685ab.24.2025.10.18.00.40.29 (version=TLS1_2 cipher=ECDHE-ECDSA-AES128-GCM-SHA256 bits=128/128); Sat, 18 Oct 2025 00:40:29 -0700 (PDT) X-Relaying-Domain: iol.unh.edu Date: Sat, 18 Oct 2025 00:40:29 -0700 (PDT) Message-ID: <68f3446d.050a0220.1d50f7.75bcSMTPIN_ADDED_MISSING@mx.google.com> Received: from [172.21.0.3] (unknown [172.18.0.240]) by postal.iol.unh.edu (Postfix) with ESMTP id 6393A6050A61; Sat, 18 Oct 2025 03:40:29 -0400 (EDT) Subject: |SUCCESS| pw157825 [PATCH] [v2] test/ring_perf: add optional cross L From: dpdklab@iol.unh.edu To: Test Report Cc: dpdk-test-reports@iol.unh.edu In-Reply-To: <20251018064831.1153059-1-sivaprasad.tummala@amd.com> References: <20251018064831.1153059-1-sivaprasad.tummala@amd.com> Content-Type: text/plain X-BeenThere: test-report@dpdk.org X-Mailman-Version: 2.1.29 Precedence: list List-Id: automatic DPDK test reports List-Unsubscribe: , List-Archive: List-Post: List-Help: List-Subscribe: , Errors-To: test-report-bounces@dpdk.org Test-Label: iol-compile-amd64-testing Test-Status: SUCCESS http://dpdk.org/patch/157825 _Testing PASS_ Submitter: Sivaprasad Tummala Date: Saturday, October 18 2025 06:48:27 DPDK git baseline: Repo:dpdk Branch: master CommitID:fd6bb586ca832c0cd6a84bcf7123a6063b3ae133 157825 --> testing pass Upstream job id: Windows-Compile-DPDK-Native#31740 Test environment and result as below: +---------------------+-------------------------+--------------------+-------------------+----------------------+ | Environment | dpdk_llvm_clang_compile | dpdk_meson_compile | dpdk_msvc_compile | dpdk_mingw64_compile | +=====================+=========================+====================+===================+======================+ | Windows Server 2022 | PASS | SKIPPED | PASS | PASS | +---------------------+-------------------------+--------------------+-------------------+----------------------+ | Ubuntu 20.04 | SKIPPED | PASS | SKIPPED | SKIPPED | +---------------------+-------------------------+--------------------+-------------------+----------------------+ | FreeBSD 14.2 | SKIPPED | PASS | SKIPPED | SKIPPED | +---------------------+-------------------------+--------------------+-------------------+----------------------+ Windows Server 2022 Kernel: 10.0.20348.2031 Compiler: clang 15.0.7, gcc 14.1.0 (MinGW), and MSVC VS 19.39.33521 Ubuntu 20.04 Kernel: 4.19 Compiler: gcc gcc (Ubuntu 9.4.0-1ubuntu1~20.04.2) 9.4.0 FreeBSD 14.2 Kernel: 14.2-RELEASE Compiler: clang 18.1.6 To view detailed results, visit: https://lab.dpdk.org/results/dashboard/patchsets/34323/ UNH-IOL DPDK Community Lab To manage your email subscriptions, visit: https://lab.dpdk.org/results/dashboard/preferences/subscriptions/