From mboxrd@z Thu Jan 1 00:00:00 1970 Return-Path: Received: from mails.dpdk.org (mails.dpdk.org [217.70.189.124]) by inbox.dpdk.org (Postfix) with ESMTP id 6EFB44896A for ; Sat, 18 Oct 2025 09:54:09 +0200 (CEST) Received: from mails.dpdk.org (localhost [127.0.0.1]) by mails.dpdk.org (Postfix) with ESMTP id 6A7C7400D7; Sat, 18 Oct 2025 09:54:09 +0200 (CEST) Received: from mail-yw1-f227.google.com (mail-yw1-f227.google.com [209.85.128.227]) by mails.dpdk.org (Postfix) with ESMTP id F1E66400D7 for ; Sat, 18 Oct 2025 09:54:05 +0200 (CEST) Received: by mail-yw1-f227.google.com with SMTP id 00721157ae682-784826b775aso2821227b3.2 for ; Sat, 18 Oct 2025 00:54:05 -0700 (PDT) DKIM-Signature: v=1; a=rsa-sha256; c=relaxed/relaxed; d=iol.unh.edu; s=unh-iol; t=1760774045; x=1761378845; darn=dpdk.org; h=references:in-reply-to:cc:to:from:subject:message-id:date:from:to :cc:subject:date:message-id:reply-to; bh=vMjlJkLFV2X31Aygd2H0cp+3IKfbgyrgX9gH+QsS3JM=; b=X1kUjtHh2BgA1iJWIFguYphzaZvkpw5Tgz1skAtv+7/e0FG+mLU5jDC5B9fY2PgSkV zMoK8tVKTvTJaT+wNC7B80F1cOy7jvsvBDCSZbduP0Weswbjd0B3N0OlvIpo1UmvzcDQ i7MghpvwiKH4YMjT1VFLjJX0F0Ur3uJmIAMi4= X-Google-DKIM-Signature: v=1; a=rsa-sha256; c=relaxed/relaxed; d=1e100.net; s=20230601; t=1760774045; x=1761378845; h=references:in-reply-to:cc:to:from:subject:message-id:date :x-gm-message-state:from:to:cc:subject:date:message-id:reply-to; bh=vMjlJkLFV2X31Aygd2H0cp+3IKfbgyrgX9gH+QsS3JM=; b=oPIOcaJt4AO/5jmcMiobM+prneWSLqYNg2mtSXxc7Ci9+jQbvUokQVjNtuDjqQwOXV EW/yMmwNR4TAJabryaKLtEes6hyzGPLc2SLI7KU4CPchucXeQ3HVf7le7qBMJKwRHu6Z Vk/OLnoOLNHYHtdCIcpN8JJKOH5UgGsrtWngUIIzpZE5aiUEsmcnHQOdUO/3/bwx4KcS By0cHtDyQNyZPGd/e1VBNP2a+yzD4Pe0c96HFiCyZQzV0DHTjdGS2lcP2Q5m5jSuDL3X EevA/eufUnepXSAsxtXHtwL20ONAx+/8NTKm8fZLx8IUAfnYMKp6tb9KBFT3Y/1i+Rif zRbQ== X-Gm-Message-State: AOJu0Yy7JEghTKFD9BDT3BxSwXqYJG5AeOaPGdIMhgc/ed3W80QHaF+i oimxf884KXSxdfU6P0YFrSlhibsXFBx4Cxq26tlIMxR2VjZfYfvKXKXMmqzw77EnqnZ2bJv/Orw RYFng8Rj7fgX/1dco9XfnHvhmm+Vw/m5EjH0gZxs+mGKp X-Gm-Gg: ASbGncvAeYeCj8OAGpFS6ppJAL6lgX7hytSffaOMuNJQGVne0T2fSaWwqavMhsOXpcv Fc1v6+7O8LAgGgwv0J7A4Igy396BnQoBrurSDD0de12GODs+jGpY2peqI8qdcIJ7dOhKk353DdF C+HhPnzO9vr/hgX6UoyjpoP3ycQDi8FVOefsHNuOl9E/E8S/0x49l60Y6l40uXK75CNlui29Qjd ZBy6SnYFiBsFvKkRAwBmamZusV0W74hDFH+WXy+SCzTdtFttLMelgbhKw0tCzB0wALgvUcAaogB Md/BXvpSkEI8XNUD8EgajbVNoBK63Q8WKb1c21IDIyb/fCBKDKTDPm8HwJTOUSG/F7401m22FGi kydzHSWN//xlgi9iNQ/4cM9iLTbvJ7lM= X-Google-Smtp-Source: AGHT+IGvxknMVuzoEzApDEL8I9/dYo1DnVmQjse0ptshqww52eSVYbuS5tNt8H3YohvWEsoCvIPqjAXFrsf1 X-Received: by 2002:a05:690c:f8f:b0:782:c68a:ca17 with SMTP id 00721157ae682-7836d38b493mr58942147b3.65.1760774045255; Sat, 18 Oct 2025 00:54:05 -0700 (PDT) Received: from postal.iol.unh.edu (postal.iol.unh.edu. [132.177.123.84]) by smtp-relay.gmail.com with ESMTPS id 00721157ae682-784674e3665sm1129767b3.28.2025.10.18.00.54.05 (version=TLS1_2 cipher=ECDHE-ECDSA-AES128-GCM-SHA256 bits=128/128); Sat, 18 Oct 2025 00:54:05 -0700 (PDT) X-Relaying-Domain: iol.unh.edu Date: Sat, 18 Oct 2025 00:54:05 -0700 (PDT) Message-ID: <68f3479d.050a0220.c7932.5762SMTPIN_ADDED_MISSING@mx.google.com> Received: from [172.21.0.3] (unknown [172.18.0.240]) by postal.iol.unh.edu (Postfix) with ESMTP id EC5596051830; Sat, 18 Oct 2025 03:54:04 -0400 (EDT) Subject: |SUCCESS| pw157825 [PATCH] [v2] test/ring_perf: add optional cross L From: dpdklab@iol.unh.edu To: Test Report Cc: dpdk-test-reports@iol.unh.edu In-Reply-To: <20251018064831.1153059-1-sivaprasad.tummala@amd.com> References: <20251018064831.1153059-1-sivaprasad.tummala@amd.com> Content-Type: text/plain X-BeenThere: test-report@dpdk.org X-Mailman-Version: 2.1.29 Precedence: list List-Id: automatic DPDK test reports List-Unsubscribe: , List-Archive: List-Post: List-Help: List-Subscribe: , Errors-To: test-report-bounces@dpdk.org Test-Label: iol-unit-amd64-testing Test-Status: SUCCESS http://dpdk.org/patch/157825 _Testing PASS_ Submitter: Sivaprasad Tummala Date: Saturday, October 18 2025 06:48:27 DPDK git baseline: Repo:dpdk Branch: master CommitID:fd6bb586ca832c0cd6a84bcf7123a6063b3ae133 157825 --> testing pass Upstream job id: Generic-Unit-Test-DPDK#383136 Test environment and result as below: +-------------------------------+----------------+ | Environment | dpdk_unit_test | +===============================+================+ | Fedora Linux 41 | PASS | +-------------------------------+----------------+ | CentOS Stream 10 | PASS | +-------------------------------+----------------+ | Red Hat Enterprise Linux 9.5 | PASS | +-------------------------------+----------------+ | Ubuntu 22.04 | PASS | +-------------------------------+----------------+ | Fedora Linux 42 | PASS | +-------------------------------+----------------+ | Red Hat Enterprise Linux 8.10 | PASS | +-------------------------------+----------------+ | Ubuntu 20.04 | PASS | +-------------------------------+----------------+ | CentOS Stream 9 | PASS | +-------------------------------+----------------+ | Ubuntu 24.04 | PASS | +-------------------------------+----------------+ | Fedora Linux 40 | PASS | +-------------------------------+----------------+ | Debian GNU/Linux 12 | PASS | +-------------------------------+----------------+ | Windows Server 2022 | PASS | +-------------------------------+----------------+ Fedora Linux 41 Kernel: 5.15 Compiler: gcc gcc (GCC) 14.3.1 20250523 (Red Hat 14.3.1-1) CentOS Stream 10 Kernel: 5.15 Compiler: gcc gcc (GCC) 14.2.1 20250110 (Red Hat 14.2.1-8) Red Hat Enterprise Linux 9.5 Kernel: 5.15 Compiler: gcc gcc (GCC) 11.5.0 20240719 (Red Hat 11.5.0-2) Ubuntu 22.04 Kernel: 5.15 Compiler: gcc gcc (Ubuntu 11.4.0-1ubuntu1~22.04) 11.4.0 Fedora Linux 42 Kernel: 5.15 Compiler: gcc gcc (GCC) 15.2.1 20250808 (Red Hat 15.2.1-1) Red Hat Enterprise Linux 8.10 Kernel: 5.15 Compiler: gcc gcc (GCC) 8.5.0 20210514 (Red Hat 8.5.0-22) Ubuntu 20.04 Kernel: 5.15 Compiler: gcc gcc (Ubuntu 9.4.0-1ubuntu1~20.04.2) 9.4.0 CentOS Stream 9 Kernel: 5.15 Compiler: gcc gcc (GCC) 11.5.0 20240719 (Red Hat 11.5.0-11) Ubuntu 24.04 Kernel: 5.15 Compiler: gcc gcc (Ubuntu 13.3.0-6ubuntu2~24.04) 13.3.0 Fedora Linux 40 Kernel: 5.15 Compiler: gcc gcc (GCC) 14.2.1 20240912 (Red Hat 14.2.1-3) Debian GNU/Linux 12 Kernel: 5.15 Compiler: gcc gcc (Debian 12.2.0-14+deb12u1) 12.2.0 Windows Server 2022 Kernel: 10.0.20348.2031 Compiler: clang 15.0.7, gcc 14.1.0 (MinGW), and MSVC VS 19.39.33521 To view detailed results, visit: https://lab.dpdk.org/results/dashboard/patchsets/34323/ UNH-IOL DPDK Community Lab To manage your email subscriptions, visit: https://lab.dpdk.org/results/dashboard/preferences/subscriptions/