From mboxrd@z Thu Jan 1 00:00:00 1970 Return-Path: Received: from mails.dpdk.org (mails.dpdk.org [217.70.189.124]) by inbox.dpdk.org (Postfix) with ESMTP id 641004896D for ; Sat, 18 Oct 2025 10:14:52 +0200 (CEST) Received: from mails.dpdk.org (localhost [127.0.0.1]) by mails.dpdk.org (Postfix) with ESMTP id 3C30F400D7; Sat, 18 Oct 2025 10:14:52 +0200 (CEST) Received: from mail-qv1-f99.google.com (mail-qv1-f99.google.com [209.85.219.99]) by mails.dpdk.org (Postfix) with ESMTP id 75420400D7 for ; Sat, 18 Oct 2025 10:14:50 +0200 (CEST) Received: by mail-qv1-f99.google.com with SMTP id 6a1803df08f44-87c20106cbeso34699846d6.1 for ; Sat, 18 Oct 2025 01:14:50 -0700 (PDT) DKIM-Signature: v=1; a=rsa-sha256; c=relaxed/relaxed; d=iol.unh.edu; s=unh-iol; t=1760775290; x=1761380090; darn=dpdk.org; h=cc:to:from:subject:message-id:date:from:to:cc:subject:date :message-id:reply-to; bh=WC03MpQFrvY1OCPm9BFrsqcGMIWElqVGO+xRh0VQBWE=; b=QDVcu5KXuKjA+s2cxFPWHcdbylSRBQ2eG8NDttB4xAM+7TgJV6T/3X24tMrmR1TjSN DH5+ZCEe/hoPQ39Ny0cEoWcXeyuHpnS52oEI+hZ9cMa4OBFpWJiKCObm3usYfm2n7A3y CD9gbu/wZOUkEKsOlBFmLAllUqG3ECBeDxQss= X-Google-DKIM-Signature: v=1; a=rsa-sha256; c=relaxed/relaxed; d=1e100.net; s=20230601; t=1760775290; x=1761380090; h=cc:to:from:subject:message-id:date:x-gm-message-state:from:to:cc :subject:date:message-id:reply-to; bh=WC03MpQFrvY1OCPm9BFrsqcGMIWElqVGO+xRh0VQBWE=; b=kPUWoPecPP+NXONhzNdGGRwP70b/bYGq2Ew/S+96wosPhCyobEUUM6tlDERImKUKd1 B7GLAxVOaHh4OnVgrRzdvM+8uD6kExlSueZr0s7xHCGu7c+DB1LfN3uTnSCCbwiK1DrA tJBVbkDBw4A0V1swmnUq4QtSkv1HV5BDNF7NYJwH08eBQdKFcBHJb9tet6rLPnEGnFLO UzMQpeWS1oNcfo1WR4ckM/FzBG4XvKdfKQ7wsz9N+k5I2BcTb+gHTFzu47kJz89nPOET WO6jpyDRrASxdvya9kSWF2tLuxPdRE+O5lz1CH/WbjYv+hbWsZwBPxiNdgwDOLbCUQjv qhIA== X-Gm-Message-State: AOJu0Yz50QmiWIaftSdZhXcWFtk2Vn1m8LIBg6MfGHzJTg8rLPmaF1/W qBsdol/pfGKYaCgj3iP+57i2bytHhWDyT5r3b+aZ0IN24yLxobsxL+HlrnLp0FD1R85CP3wkPN4 NvYt5K0hT5nhBnELkA5fRLz/CF/DX+KTgwM0k X-Gm-Gg: ASbGncs49/z/JyTm1EuLAZ4ucOVNsCyZ8gKlpwA7ofMfC2wx5TYgr/PcfcMVn4EN/gA qb3E4IHMsh/HOpM9yDnbtdjuj3UwzGy+riS54G0JGY0wh/lVX/0HM9CRVj0LIjRJIUcFoaSjBDi FRTBCLxCzof0q0OvMGqd4BnGbKTvfhLWMrA2WIEHPNeq5UIzWYrvNlMq1FvnicBPdRJzLV8SxGk krys3Gu+6ixQop6EElHDVg5kKplzqyeN85b1hBritBY9aswpldvpSXOmWqmtWXHIFlprleMkvrA 9NuMiUZcFUml6eBgYTvQV+LXaWEHNHftA9Ou0NTTHfnOIvXyYHtKr+GFff1TZ2l0qerxs8OVLzM gJ32ferHgeExCFeMzaTYqrjcvmrSIamc= X-Google-Smtp-Source: AGHT+IHEQMk4zInYJDtM6gsdLwmypi/9ENUP6FFFsFLdD7BS9ehuOs1LA70gm5HSj+VO7z/X5wm+MS229Hma X-Received: by 2002:ad4:594b:0:b0:87d:5327:67ac with SMTP id 6a1803df08f44-87d532767f9mr28048206d6.62.1760775289723; Sat, 18 Oct 2025 01:14:49 -0700 (PDT) Received: from postal.iol.unh.edu (postal.iol.unh.edu. [132.177.123.84]) by smtp-relay.gmail.com with ESMTPS id 6a1803df08f44-87cf5200399sm1829716d6.16.2025.10.18.01.14.49 (version=TLS1_2 cipher=ECDHE-ECDSA-AES128-GCM-SHA256 bits=128/128); Sat, 18 Oct 2025 01:14:49 -0700 (PDT) X-Relaying-Domain: iol.unh.edu Date: Sat, 18 Oct 2025 01:14:49 -0700 (PDT) Message-ID: <68f34c79.050a0220.ae1bc.8dbcSMTPIN_ADDED_MISSING@mx.google.com> Received: from [172.21.0.2] (unknown [172.18.0.240]) by postal.iol.unh.edu (Postfix) with ESMTP id 6592D6051830; Sat, 18 Oct 2025 04:14:49 -0400 (EDT) Subject: |SUCCESS| [GIT MASTER] 3b43ce3f4a54468e7ef65760c2fd7b4d6ee6d9fc From: dpdklab@iol.unh.edu To: Test Report Cc: dpdk-test-reports@iol.unh.edu, Xueming Li , Christian Ehrhardt , Kevin Traynor , Luca Boccassi Content-Type: text/plain X-BeenThere: test-report@dpdk.org X-Mailman-Version: 2.1.29 Precedence: list List-Id: automatic DPDK test reports List-Unsubscribe: , List-Archive: List-Post: List-Help: List-Subscribe: , Errors-To: test-report-bounces@dpdk.org _Testing PASS_ Branch: tags/v22.11 3b43ce3f4a54468e7ef65760c2fd7b4d6ee6d9fc --> testing pass Upstream job id: Generic-DPDK-Compile-Meson#435735 Test environment and result as below: +---------------------+--------------------+-------------------------+----------------------+ | Environment | dpdk_meson_compile | dpdk_llvm_clang_compile | dpdk_mingw64_compile | +=====================+====================+=========================+======================+ | Ubuntu 20.04 | PASS | SKIPPED | SKIPPED | +---------------------+--------------------+-------------------------+----------------------+ | FreeBSD 14.2 | PASS | SKIPPED | SKIPPED | +---------------------+--------------------+-------------------------+----------------------+ | CentOS Stream 9 | PASS | SKIPPED | SKIPPED | +---------------------+--------------------+-------------------------+----------------------+ | Windows Server 2022 | SKIPPED | PASS | PASS | +---------------------+--------------------+-------------------------+----------------------+ Ubuntu 20.04 Kernel: 4.19 Compiler: gcc gcc (Ubuntu 9.4.0-1ubuntu1~20.04.2) 9.4.0 FreeBSD 14.2 Kernel: 14.2-RELEASE Compiler: clang 18.1.6 CentOS Stream 9 Kernel: 5.15 Compiler: gcc gcc (GCC) 11.5.0 20240719 (Red Hat 11.5.0-11) Windows Server 2022 Kernel: 10.0.20348.2031 Compiler: clang 15.0.7, gcc 14.1.0 (MinGW), and MSVC VS 19.39.33521 To view detailed results, visit: https://lab.dpdk.org/results/dashboard/tarballs/35263/ UNH-IOL DPDK Community Lab To manage your email subscriptions, visit: https://lab.dpdk.org/results/dashboard/preferences/subscriptions/