From mboxrd@z Thu Jan 1 00:00:00 1970 Return-Path: Received: from mails.dpdk.org (mails.dpdk.org [217.70.189.124]) by inbox.dpdk.org (Postfix) with ESMTP id 598A54896D for ; Sat, 18 Oct 2025 10:24:51 +0200 (CEST) Received: from mails.dpdk.org (localhost [127.0.0.1]) by mails.dpdk.org (Postfix) with ESMTP id 2BBAA400D7; Sat, 18 Oct 2025 10:24:51 +0200 (CEST) Received: from mail-yw1-f226.google.com (mail-yw1-f226.google.com [209.85.128.226]) by mails.dpdk.org (Postfix) with ESMTP id 9D81D400D7 for ; Sat, 18 Oct 2025 10:24:50 +0200 (CEST) Received: by mail-yw1-f226.google.com with SMTP id 00721157ae682-783fa3aa35cso12726447b3.3 for ; Sat, 18 Oct 2025 01:24:50 -0700 (PDT) DKIM-Signature: v=1; a=rsa-sha256; c=relaxed/relaxed; d=iol.unh.edu; s=unh-iol; t=1760775890; x=1761380690; darn=dpdk.org; h=cc:to:from:subject:message-id:date:from:to:cc:subject:date :message-id:reply-to; bh=6T5X0g5NAYgDFSHk6kKKpoHOzYuKYI5oI/V/NFVdrl0=; b=C5NpD4vct2+aU/wZxwJR6wDr2Ifp54xSKCV+jDYlT49v/p7OrcTI4aPS5a758G+rGQ 4F5YVLIdvoH1UVmB1pT+C1bpnAjQc6l/YiqbtVjngl+Wnut+YyVlXHfZyF6V4kO60I6s YX72t4fOtsi4JSgq4VKmNa+fVszp1G1KtY1S4= X-Google-DKIM-Signature: v=1; a=rsa-sha256; c=relaxed/relaxed; d=1e100.net; s=20230601; t=1760775890; x=1761380690; h=cc:to:from:subject:message-id:date:x-gm-message-state:from:to:cc :subject:date:message-id:reply-to; bh=6T5X0g5NAYgDFSHk6kKKpoHOzYuKYI5oI/V/NFVdrl0=; b=ni48/r0/uWRz4e7z5G5mL4llDJfEy4DQCC5pMZG/UhS4TfDAiGpgfEfnAUWneuG1Hs 0D/8mnycnePnhwP0NKVu8p7F9P3wrTKIyuu9u6ueRtafdeOrFxdyXIBgs89mgKJPG+O8 Os3ExzWL3O2Nek0EhCbZRsGf46/VJNmp/ptQhHdoEfaHPqQYWNynEjcZx2DAyciLbviK P2g5t8HN89VlGVqzYpbTI9rLi4L82C1SIDRoS6WgZCcAO3BCSshExcF/GELU82b9xiZw 2xbvm/ClTsvzLGpYRCF2QlGdcGsssptn/JgEGbTXoB7iPYG1KitnSL11T47cWNVpcbFR NO9g== X-Gm-Message-State: AOJu0Yw+5Pvak8oIHGGWeWXEW2csT5S/PhYOS5y1qi77RDFwgT5mPxYA G7eUyPwYHk98Kfpv67KadDPK8bSUeQycZASQt+EF9YWLRMZ/kPPq20Z0unMtnpP9dGyyVPI0H9g ydVpr8UVDn7jLLP2xailR6g8s4VNtAeFHtvrm X-Gm-Gg: ASbGncv+5A7ScmHhpaDXRVk3bbUaJpeCAa+njd9noDVC8bTHxVYkgOBjnR/wZOGPTp2 JaeEDSh+q/UR8YtLE+/Flvj+4dvISsZQ6sWkEMvXZNA7X076vPQwNiIJmoGATPNrcXKYa0urPRr TonU0eeQIQ/6hoCWsAjFYHrRf+zm0ORSv9Vr9fN8RG+sYjlKpE+bvf3crxzOPnE/WIyUBSa2uKj IS7Yitg/yfY7VmCAqPTJR5s6VtzTYOmVPUIe3q2Q4SGBtcZIf9CHudpspmBhjhHwoKC3AU4Vfst V4OY5ob86CDvxlqx9pdZZI3rpYa8c+GZBgOAvBeojmmbR6F9y8iIifqHnJ5XZffWZlK81BxCeK/ AJip5TLvL50AkxbgA5KSQmz9EApSQavY= X-Google-Smtp-Source: AGHT+IF/WNbmMORqYOb2QnEVkUGSecQQVcdftYUuwG+iDZDC2EuXuaaxX74f33Wrdhi4jjE9mxskLiVdk5iK X-Received: by 2002:a05:690c:b17:b0:781:64f:2b52 with SMTP id 00721157ae682-7836d393880mr55304267b3.65.1760775889891; Sat, 18 Oct 2025 01:24:49 -0700 (PDT) Received: from postal.iol.unh.edu (postal.iol.unh.edu. [132.177.123.84]) by smtp-relay.gmail.com with ESMTPS id 00721157ae682-784673cad5esm1205607b3.16.2025.10.18.01.24.49 (version=TLS1_2 cipher=ECDHE-ECDSA-AES128-GCM-SHA256 bits=128/128); Sat, 18 Oct 2025 01:24:49 -0700 (PDT) X-Relaying-Domain: iol.unh.edu Date: Sat, 18 Oct 2025 01:24:49 -0700 (PDT) Message-ID: <68f34ed1.050a0220.2e4629.5fb5SMTPIN_ADDED_MISSING@mx.google.com> Received: from [172.21.0.3] (unknown [172.18.0.240]) by postal.iol.unh.edu (Postfix) with ESMTP id 8961B6051830; Sat, 18 Oct 2025 04:24:49 -0400 (EDT) Subject: |SUCCESS| [GIT MASTER] 3b43ce3f4a54468e7ef65760c2fd7b4d6ee6d9fc From: dpdklab@iol.unh.edu To: Test Report Cc: dpdk-test-reports@iol.unh.edu, Xueming Li , Christian Ehrhardt , Kevin Traynor , Luca Boccassi Content-Type: text/plain X-BeenThere: test-report@dpdk.org X-Mailman-Version: 2.1.29 Precedence: list List-Id: automatic DPDK test reports List-Unsubscribe: , List-Archive: List-Post: List-Help: List-Subscribe: , Errors-To: test-report-bounces@dpdk.org _Testing PASS_ Branch: tags/v22.11 3b43ce3f4a54468e7ef65760c2fd7b4d6ee6d9fc --> testing pass Upstream job id: Generic-DPDK-Compile-Meson#435736 Test environment and result as below: +---------------------+--------------------+-------------------------+----------------------+ | Environment | dpdk_meson_compile | dpdk_llvm_clang_compile | dpdk_mingw64_compile | +=====================+====================+=========================+======================+ | Ubuntu 20.04 | PASS | SKIPPED | SKIPPED | +---------------------+--------------------+-------------------------+----------------------+ | FreeBSD 14.2 | PASS | SKIPPED | SKIPPED | +---------------------+--------------------+-------------------------+----------------------+ | CentOS Stream 9 | PASS | SKIPPED | SKIPPED | +---------------------+--------------------+-------------------------+----------------------+ | CentOS Stream 10 | PASS | SKIPPED | SKIPPED | +---------------------+--------------------+-------------------------+----------------------+ | Windows Server 2022 | SKIPPED | PASS | PASS | +---------------------+--------------------+-------------------------+----------------------+ Ubuntu 20.04 Kernel: 4.19 Compiler: gcc gcc (Ubuntu 9.4.0-1ubuntu1~20.04.2) 9.4.0 FreeBSD 14.2 Kernel: 14.2-RELEASE Compiler: clang 18.1.6 CentOS Stream 9 Kernel: 5.15 Compiler: gcc gcc (GCC) 11.5.0 20240719 (Red Hat 11.5.0-11) CentOS Stream 10 Kernel: 5.15 Compiler: gcc gcc (GCC) 14.2.1 20250110 (Red Hat 14.2.1-8) Windows Server 2022 Kernel: 10.0.20348.2031 Compiler: clang 15.0.7, gcc 14.1.0 (MinGW), and MSVC VS 19.39.33521 To view detailed results, visit: https://lab.dpdk.org/results/dashboard/tarballs/35263/ UNH-IOL DPDK Community Lab To manage your email subscriptions, visit: https://lab.dpdk.org/results/dashboard/preferences/subscriptions/