From mboxrd@z Thu Jan 1 00:00:00 1970 Return-Path: Received: from mails.dpdk.org (mails.dpdk.org [217.70.189.124]) by inbox.dpdk.org (Postfix) with ESMTP id 8A3E24896D for ; Sat, 18 Oct 2025 10:27:27 +0200 (CEST) Received: from mails.dpdk.org (localhost [127.0.0.1]) by mails.dpdk.org (Postfix) with ESMTP id 6EC83400D7; Sat, 18 Oct 2025 10:27:27 +0200 (CEST) Received: from mail-vs1-f97.google.com (mail-vs1-f97.google.com [209.85.217.97]) by mails.dpdk.org (Postfix) with ESMTP id CAE9D400D7 for ; Sat, 18 Oct 2025 10:27:26 +0200 (CEST) Received: by mail-vs1-f97.google.com with SMTP id ada2fe7eead31-5d61f261ebfso1158485137.2 for ; Sat, 18 Oct 2025 01:27:26 -0700 (PDT) DKIM-Signature: v=1; a=rsa-sha256; c=relaxed/relaxed; d=iol.unh.edu; s=unh-iol; t=1760776046; x=1761380846; darn=dpdk.org; h=cc:to:from:subject:message-id:date:from:to:cc:subject:date :message-id:reply-to; bh=flD8zsTUgR/l6E/4984og6oVTo6gnWEcnc+RpXV2Fbo=; b=K/yPUvcFLkQqwK2e1s16RZO1XN8QlsnPPXQ+IcYzyI+4F4iI0238/vxErLRDhi1YM9 mCRv9i4DiFwM49WR+V+AZwaYof/CYZU18n/cXE1umNQemWdqehnQjzBffngS77zKN3ah pRVCbQlPA4JrNLc8N8uU6InKGj6nbHlY20npk= X-Google-DKIM-Signature: v=1; a=rsa-sha256; c=relaxed/relaxed; d=1e100.net; s=20230601; t=1760776046; x=1761380846; h=cc:to:from:subject:message-id:date:x-gm-message-state:from:to:cc :subject:date:message-id:reply-to; bh=flD8zsTUgR/l6E/4984og6oVTo6gnWEcnc+RpXV2Fbo=; b=Lt1OCO66lK+ctFF6+YyY6K0kRxWkj1jHvROmt98KZ4sDd1A5+EmVouxGalL2hHzG4g 7QIcwSrUIe5TAWmD/ZxjW8Klsn7Ug/iOPpRSve1H9T/q5rB2IbsFtZDMyn+s0fEP8X7B IXQFO7YrGioCNf1dzxICgO4FYhYVmYgnRBY7/lVJFeMW6XOHkAtAt9r98mJaINg8SFfd 7xtZBtaCqXDnpgcwA4tI5UxKrpkfC1hNn5E+reqTNChmffhvxwOOJ263XxS1UGoYdq2s JH5Ds3VnLZBTVDdc6j3xLRMgzz1LPDI5d83N3CbYVOSRtyRZWxmQuyZ7bpc2qFTVgcfN tDLA== X-Gm-Message-State: AOJu0YzRTINjMwl0BKLJ8G6mvB2wXH3GNtI/22v7g8e0IWx2YrtO6Iu4 PfuIpwoQ07Uvab5v+09K/0XIAyNR/kb4KZzRj58oN4TxUCUo0GOohIxPScEhINOdS29cl8GGBbV f4Iy8Zoob7wzdJKL9lwdhgXw8mOzKWozeub2UPCwe3kig40QsBx9C X-Gm-Gg: ASbGncupv3+H1WBCTQQVpyeagjnXKpXql4dumcSQX0k40ctPbcSDLPyrGbOE1gK4Cd4 4JaWmvDWdzlcR/bq342hc+kxfgVuspxk8Kv7+U2OTQ+sPtY5t1HQjFaEtDSb+kcjDgXn4DjD1aY RMh3jIBaHOK707K1jE/32qkTVOsqhNypdoZukgam1aPLnyPAQK11p2D+B1AIFq6VIf618jEnbSn FbaG5cIOifUoG5aPt7OWrA9AKtWOx915G/4pDMR1TDd7DhFkz4Rvp5NQTfnT7xqprEVO5Hh4Frc smVzLADVSWrUFmcuZs6M2jNv51xKi6+PVLKChNyFy7ciKqoP9LeZ4yFnsoT7CLSuzEZAoJxR9dD 7/mfwqU9f X-Google-Smtp-Source: AGHT+IEe589VRqlaMbXRs/6xM7aQyoH1SyUWjhMIn+4KJWRMi3Vw9Xi1meKGkJyDis67WcXGgOWY9Aq+POBu X-Received: by 2002:a05:6102:26cb:b0:5d7:bb3c:d5dc with SMTP id ada2fe7eead31-5d7dd6fc976mr2300225137.41.1760776046015; Sat, 18 Oct 2025 01:27:26 -0700 (PDT) Received: from postal.iol.unh.edu (postal.iol.unh.edu. [2606:4100:3880:1234::84]) by smtp-relay.gmail.com with ESMTPS id ada2fe7eead31-5d96c0ec098sm231628137.2.2025.10.18.01.27.25 (version=TLS1_2 cipher=ECDHE-ECDSA-AES128-GCM-SHA256 bits=128/128); Sat, 18 Oct 2025 01:27:26 -0700 (PDT) X-Relaying-Domain: iol.unh.edu Date: Sat, 18 Oct 2025 01:27:26 -0700 (PDT) Message-ID: <68f34f6e.050a0220.1cb0ac.b388SMTPIN_ADDED_MISSING@mx.google.com> Received: from [172.21.0.3] (unknown [172.18.0.240]) by postal.iol.unh.edu (Postfix) with ESMTP id 8BCB06051830; Sat, 18 Oct 2025 04:27:25 -0400 (EDT) Subject: |SUCCESS| [GIT MASTER] 3b43ce3f4a54468e7ef65760c2fd7b4d6ee6d9fc From: dpdklab@iol.unh.edu To: Test Report Cc: dpdk-test-reports@iol.unh.edu, Xueming Li , Christian Ehrhardt , Kevin Traynor , Luca Boccassi Content-Type: text/plain X-BeenThere: test-report@dpdk.org X-Mailman-Version: 2.1.29 Precedence: list List-Id: automatic DPDK test reports List-Unsubscribe: , List-Archive: List-Post: List-Help: List-Subscribe: , Errors-To: test-report-bounces@dpdk.org _Testing PASS_ Branch: tags/v22.11 3b43ce3f4a54468e7ef65760c2fd7b4d6ee6d9fc --> testing pass Upstream job id: Generic-DPDK-Compile-Meson#435737 Test environment and result as below: +---------------------+--------------------+-------------------------+----------------------+ | Environment | dpdk_meson_compile | dpdk_llvm_clang_compile | dpdk_mingw64_compile | +=====================+====================+=========================+======================+ | Ubuntu 20.04 | PASS | SKIPPED | SKIPPED | +---------------------+--------------------+-------------------------+----------------------+ | FreeBSD 14.2 | PASS | SKIPPED | SKIPPED | +---------------------+--------------------+-------------------------+----------------------+ | CentOS Stream 9 | PASS | SKIPPED | SKIPPED | +---------------------+--------------------+-------------------------+----------------------+ | CentOS Stream 10 | PASS | SKIPPED | SKIPPED | +---------------------+--------------------+-------------------------+----------------------+ | Debian GNU/Linux 12 | PASS | SKIPPED | SKIPPED | +---------------------+--------------------+-------------------------+----------------------+ | Windows Server 2022 | SKIPPED | PASS | PASS | +---------------------+--------------------+-------------------------+----------------------+ Ubuntu 20.04 Kernel: 4.19 Compiler: gcc gcc (Ubuntu 9.4.0-1ubuntu1~20.04.2) 9.4.0 FreeBSD 14.2 Kernel: 14.2-RELEASE Compiler: clang 18.1.6 CentOS Stream 9 Kernel: 5.15 Compiler: gcc gcc (GCC) 11.5.0 20240719 (Red Hat 11.5.0-11) CentOS Stream 10 Kernel: 5.15 Compiler: gcc gcc (GCC) 14.2.1 20250110 (Red Hat 14.2.1-8) Debian GNU/Linux 12 Kernel: 5.15 Compiler: gcc gcc (Debian 12.2.0-14+deb12u1) 12.2.0 Windows Server 2022 Kernel: 10.0.20348.2031 Compiler: clang 15.0.7, gcc 14.1.0 (MinGW), and MSVC VS 19.39.33521 To view detailed results, visit: https://lab.dpdk.org/results/dashboard/tarballs/35263/ UNH-IOL DPDK Community Lab To manage your email subscriptions, visit: https://lab.dpdk.org/results/dashboard/preferences/subscriptions/