From mboxrd@z Thu Jan 1 00:00:00 1970 Return-Path: Received: from mails.dpdk.org (mails.dpdk.org [217.70.189.124]) by inbox.dpdk.org (Postfix) with ESMTP id 8E2074896D for ; Sat, 18 Oct 2025 10:39:14 +0200 (CEST) Received: from mails.dpdk.org (localhost [127.0.0.1]) by mails.dpdk.org (Postfix) with ESMTP id 68BF4400D7; Sat, 18 Oct 2025 10:39:14 +0200 (CEST) Received: from mail-io1-f100.google.com (mail-io1-f100.google.com [209.85.166.100]) by mails.dpdk.org (Postfix) with ESMTP id 1DDBF400D7 for ; Sat, 18 Oct 2025 10:39:13 +0200 (CEST) Received: by mail-io1-f100.google.com with SMTP id ca18e2360f4ac-91f6ccdbfc8so129287439f.1 for ; Sat, 18 Oct 2025 01:39:13 -0700 (PDT) DKIM-Signature: v=1; a=rsa-sha256; c=relaxed/relaxed; d=iol.unh.edu; s=unh-iol; t=1760776752; x=1761381552; darn=dpdk.org; h=references:in-reply-to:cc:to:from:subject:message-id:date:from:to :cc:subject:date:message-id:reply-to; bh=/znH7OCKhvwUphN0n/VwT0Nr6MZUb/RTJ4OXi+QjBGc=; b=UkOrFIvsyYK6HVjVGMK0ypsa2veYY+wTE2u+dAfmHKZhByoO12FD59DBhwDXYSseRf 9aUfVlpewnmGdJb9ay4d/2NMDwuCHFY+Wmf+pVTzdpQ0EvSdny15KpPKm/+ydsH9QvjK p1vGhi7lFVhTV9O4o4ZcF/VqHX2yrvBpchTKI= X-Google-DKIM-Signature: v=1; a=rsa-sha256; c=relaxed/relaxed; d=1e100.net; s=20230601; t=1760776752; x=1761381552; h=references:in-reply-to:cc:to:from:subject:message-id:date :x-gm-message-state:from:to:cc:subject:date:message-id:reply-to; bh=/znH7OCKhvwUphN0n/VwT0Nr6MZUb/RTJ4OXi+QjBGc=; b=nXx8FvWQSP1YuniLlUdKDtJl/PkSV/4HzMTXxLJM+8Fy2es54ErkgTjbgJWVLL2aQq oFafAyTEVskO4e99GF02AJxQZS5bRVOm+jtP/LCdZ+vGxpmQrjKjVI78nLxSrlnQDrz/ OEZFTvAaFCMfl64j+5F8b0BJtRXcBQH49KVaV4p+UphQegOu3qRAxEMHPo6nUgMerbTd jjsdzbEO8fwTE6GvjGRDTWjUrK34tO8LWyPxI86zhFFbPjQl9HSP2tBZ3re1NfFgs0/g CAYpL8y3lo8rcmpFOiKdYp5uOIkW5r/dWeBmdIECC+A8tyReB0G8EBt4fLwJseWNI+6X GVlA== X-Gm-Message-State: AOJu0YzVKHXCSIwgQXDES8u0okVLZ0wXMufbvK9SEVOe43zZvnBcW6WY 3Hojajx7P73QkXda0CgoVdFdck2OchsP9KcpJGDS55v5+Fy2y215YuvMOlWxEGZIlIV+98VVSJ3 OMVCQhm0vjtCU58r3s1INuyzD5Y6Vtqv4hWlshmEY5Sw65mbcjJn4s1OaHBxs X-Gm-Gg: ASbGncvRvx3k4qHmrZgQ4gDiYPw/h8ZshMrwVpWt8iSh9cLRZxpsfq+wWJHdBOHHJft UVaSUD2vQfA6SFL91Al889NHzImEYBSJFoJLUaMlYmSdmaUHdLdd3RLeSS07v5J2BZ1VpEI3MaD +cyCsFRxsdSCSfByNhDbpwJ8PV1KeYSdq/HmjnkQ90rUb4T7vn8mbs/Gkrb9bXGxf1D4sQzlSUw AHP6UBjwAzOPwMxURFOhCvRarlORoQkj+wnbEcOFCp313pl5dsm+kDD53TMCPE+QXlVZQGuWGyD XRh1KEjE+H/srdPrK/CNjnn6xAM64FUV2w1vIK/0+c0ScJHQHm68eDn+K0ux6OAjYWC05MRKwzR qosuCIApe X-Google-Smtp-Source: AGHT+IG17ak3Lm2lgwptxofDDIMrd0tYvC2vsf+7wpujjaLYQ2ye4DGOkJLmWOuHGsYGej8YOeMsvl05l1g/ X-Received: by 2002:a05:6e02:1947:b0:42d:8bc6:d163 with SMTP id e9e14a558f8ab-430c522f3a6mr95391555ab.9.1760776752262; Sat, 18 Oct 2025 01:39:12 -0700 (PDT) Received: from postal.iol.unh.edu (postal.iol.unh.edu. [2606:4100:3880:1234::84]) by smtp-relay.gmail.com with ESMTPS id 8926c6da1cb9f-5a8a9778cfdsm173736173.37.2025.10.18.01.39.12 (version=TLS1_2 cipher=ECDHE-ECDSA-AES128-GCM-SHA256 bits=128/128); Sat, 18 Oct 2025 01:39:12 -0700 (PDT) X-Relaying-Domain: iol.unh.edu Date: Sat, 18 Oct 2025 01:39:12 -0700 (PDT) Message-ID: <68f35230.050a0220.34f0ec.8a48SMTPIN_ADDED_MISSING@mx.google.com> Received: from [172.21.0.4] (unknown [172.18.0.240]) by postal.iol.unh.edu (Postfix) with ESMTP id 8BBEF6051830; Sat, 18 Oct 2025 04:39:11 -0400 (EDT) Subject: |SUCCESS| pw157822 [PATCH] test/ring_perf: add optional cross L3 cor From: dpdklab@iol.unh.edu To: Test Report Cc: dpdk-test-reports@iol.unh.edu In-Reply-To: <20251017163407.845502-1-sivaprasad.tummala@amd.com> References: <20251017163407.845502-1-sivaprasad.tummala@amd.com> Content-Type: text/plain X-BeenThere: test-report@dpdk.org X-Mailman-Version: 2.1.29 Precedence: list List-Id: automatic DPDK test reports List-Unsubscribe: , List-Archive: List-Post: List-Help: List-Subscribe: , Errors-To: test-report-bounces@dpdk.org Test-Label: iol-compile-arm64-testing Test-Status: SUCCESS http://dpdk.org/patch/157822 _Testing PASS_ Submitter: Sivaprasad Tummala Date: Friday, October 17 2025 16:34:04 DPDK git baseline: Repo:dpdk Branch: master CommitID:fd6bb586ca832c0cd6a84bcf7123a6063b3ae133 157822 --> testing pass Upstream job id: Generic-DPDK-Compile-Meson#435613 Test environment and result as below: +------------------------------+--------------------+ | Environment | dpdk_meson_compile | +==============================+====================+ | Ubuntu 20.04 | PASS | +------------------------------+--------------------+ | Red Hat Enterprise Linux 9.5 | PASS | +------------------------------+--------------------+ | Debian GNU/Linux 12 | PASS | +------------------------------+--------------------+ | Fedora Linux 42 | PASS | +------------------------------+--------------------+ | Ubuntu 22.04 | PASS | +------------------------------+--------------------+ | Ubuntu 24.04 | PASS | +------------------------------+--------------------+ | CentOS Stream 9 | PASS | +------------------------------+--------------------+ | CentOS Stream 10 | PASS | +------------------------------+--------------------+ Ubuntu 20.04 Kernel: 5.15 Compiler: aarch64-linux-gnu-gcc gcc (Ubuntu 9.4.0-1ubuntu1~20.04.2) 9.4.0 Red Hat Enterprise Linux 9.5 Kernel: 5.4 Compiler: gcc gcc (GCC) 11.5.0 20240719 (Red Hat 11.5.0-2) Debian GNU/Linux 12 Kernel: 5.4 Compiler: gcc gcc (Debian 12.2.0-14+deb12u1) 12.2.0 Fedora Linux 42 Kernel: 5.4 Compiler: gcc gcc (GCC) 15.2.1 20250808 (Red Hat 15.2.1-1) Ubuntu 22.04 Kernel: 5.4 Compiler: gcc gcc (Ubuntu 11.4.0-1ubuntu1~22.04) 11.4.0 Ubuntu 24.04 Kernel: 5.4 Compiler: gcc gcc (Ubuntu 13.3.0-6ubuntu2~24.04) 13.3.0 CentOS Stream 9 Kernel: 5.4 Compiler: gcc gcc (GCC) 11.5.0 20240719 (Red Hat 11.5.0-11) CentOS Stream 10 Kernel: 5.4 Compiler: gcc gcc (GCC) 14.2.1 20250110 (Red Hat 14.2.1-8) To view detailed results, visit: https://lab.dpdk.org/results/dashboard/patchsets/34321/ UNH-IOL DPDK Community Lab To manage your email subscriptions, visit: https://lab.dpdk.org/results/dashboard/preferences/subscriptions/