From mboxrd@z Thu Jan 1 00:00:00 1970 Return-Path: Received: from mails.dpdk.org (mails.dpdk.org [217.70.189.124]) by inbox.dpdk.org (Postfix) with ESMTP id B389B4896D for ; Sat, 18 Oct 2025 11:06:39 +0200 (CEST) Received: from mails.dpdk.org (localhost [127.0.0.1]) by mails.dpdk.org (Postfix) with ESMTP id A90BF400D7; Sat, 18 Oct 2025 11:06:39 +0200 (CEST) Received: from mail-qv1-f100.google.com (mail-qv1-f100.google.com [209.85.219.100]) by mails.dpdk.org (Postfix) with ESMTP id 4D80A400D7 for ; Sat, 18 Oct 2025 11:06:38 +0200 (CEST) Received: by mail-qv1-f100.google.com with SMTP id 6a1803df08f44-87c1f3f4373so51517136d6.2 for ; Sat, 18 Oct 2025 02:06:38 -0700 (PDT) DKIM-Signature: v=1; a=rsa-sha256; c=relaxed/relaxed; d=iol.unh.edu; s=unh-iol; t=1760778397; x=1761383197; darn=dpdk.org; h=cc:to:from:subject:message-id:date:from:to:cc:subject:date :message-id:reply-to; bh=+bRAeSNJ+Tl50B1B0WW0SUYP2hvl4Iwpu12wFfhvVHE=; b=hRFqBhuW7oDeivVj/eUpB/Bk6xDhFCJK7ukGaYps2KyZnabzXca3v1F6gRaVhaOTeV 1JTCEMH7whAxOo00ePj9IQJwdbp9im1zN42L+KjhFLxR7xaHRRwMjW2wKT8/hJiZH/Y0 AYvpC44GehleT473rcrwgkQZDPh1vJYhngrKs= X-Google-DKIM-Signature: v=1; a=rsa-sha256; c=relaxed/relaxed; d=1e100.net; s=20230601; t=1760778397; x=1761383197; h=cc:to:from:subject:message-id:date:x-gm-message-state:from:to:cc :subject:date:message-id:reply-to; bh=+bRAeSNJ+Tl50B1B0WW0SUYP2hvl4Iwpu12wFfhvVHE=; b=QSqxzRaXlkuzk1+123nOGEWgOZ/59CqtkoeaVsCkLLvyZJAsSv7PeMuDGNgGshEKR2 EQrmTEsQnP+hD1ndKVjU/XGuv0e3zGuyA2ufuc/OKZhIaTlfOClqM6LQEPgc30p9K+kH 901vXrkiRHkhqLZOA9H1s78r9UEBY06qW8FUd1+qDr0cvhMKiUd14UJOTl9EEPOmE4Jj 0/x/EiaZW+Y+Mb9V+NZZiJmQnL9x2uSXgkVRtRgFd863FEgZ+cf3iGat8w5tOA+5W9xD k36hJwO1qsOiyh+VRimRjsnBpNBhIjOMAjSYvBejf2yMhwr59Hgb3JT0c79Nf4QGFBp/ HY8g== X-Gm-Message-State: AOJu0Yxhv4RyqQY/ePb09larv30JM80pYKWUz6zkx6Sy1Z1YLAGvbMp7 /GVYgoXF5VqEo8QHTOolwXG7Ceqy8u+PNMGqD2pm22tJQkIC/FcqUJS5eIB9G5gIzdzqCIAdjdP cgAqapJPpspM+TfDsSDEeyM+22VoxGRU33M/x X-Gm-Gg: ASbGncu9cc20M5o1lDlC1SarZzjhVlQnWlQDcDxp47ZYqSmwxQm4KBa9bccQqLzCK4n cTwxNQlpzZWOlCx+K51f4YHVUyXaaF3uxXQYDjwI6FvAlgtYpJzDTGcLfiQWM2wB4fFP2snHUpS SM/FloZoh5kau+JSdvJinWnAeKZApuZSnTJ05Iv/w4Ms8y8UwCx3YUouB6gNgLt9n3Imhd/byqG SujuJEsIwMjV2aEo/IZN7phC1ZpXdPHsMORkDN/nZBg05fddqbheJCq4c+aXfyT7wJwMWFUjB6h rBzNZ7qEiGJ8kR+1emtWTvGRfc4j/gJk0byMPyG1wPeTknUM5/UPOucDGs3k5FDWQVZVjw7iIuh lb4x11WXg/QMGK9sXdfmBDTuGPCp2lf0= X-Google-Smtp-Source: AGHT+IGEMbEvzThEKiUqc5KvpH9WHMk4ZLVJkgUhPCyGk7aYuZAeIemOH8byVckq+xEymIPXGmiojeM8WrLJ X-Received: by 2002:a05:6214:5094:b0:81b:23d:55a8 with SMTP id 6a1803df08f44-87c2065f6femr89070666d6.59.1760778397550; Sat, 18 Oct 2025 02:06:37 -0700 (PDT) Received: from postal.iol.unh.edu (postal.iol.unh.edu. [132.177.123.84]) by smtp-relay.gmail.com with ESMTPS id 6a1803df08f44-87cf7be5d6esm1992746d6.31.2025.10.18.02.06.37 (version=TLS1_2 cipher=ECDHE-ECDSA-AES128-GCM-SHA256 bits=128/128); Sat, 18 Oct 2025 02:06:37 -0700 (PDT) X-Relaying-Domain: iol.unh.edu Date: Sat, 18 Oct 2025 02:06:37 -0700 (PDT) Message-ID: <68f3589d.050a0220.265966.9a2eSMTPIN_ADDED_MISSING@mx.google.com> Received: from [172.21.0.2] (unknown [172.18.0.240]) by postal.iol.unh.edu (Postfix) with ESMTP id 3341B6051830; Sat, 18 Oct 2025 05:06:37 -0400 (EDT) Subject: |SUCCESS| [GIT MASTER] 3b43ce3f4a54468e7ef65760c2fd7b4d6ee6d9fc From: dpdklab@iol.unh.edu To: Test Report Cc: dpdk-test-reports@iol.unh.edu, Xueming Li , Christian Ehrhardt , Kevin Traynor , Luca Boccassi Content-Type: text/plain X-BeenThere: test-report@dpdk.org X-Mailman-Version: 2.1.29 Precedence: list List-Id: automatic DPDK test reports List-Unsubscribe: , List-Archive: List-Post: List-Help: List-Subscribe: , Errors-To: test-report-bounces@dpdk.org _Testing PASS_ Branch: tags/v22.11 3b43ce3f4a54468e7ef65760c2fd7b4d6ee6d9fc --> testing pass Upstream job id: Generic-DPDK-Compile-Meson#435744 Test environment and result as below: +-------------------------------+--------------------+-------------------------+----------------------+ | Environment | dpdk_meson_compile | dpdk_llvm_clang_compile | dpdk_mingw64_compile | +===============================+====================+=========================+======================+ | Ubuntu 20.04 | PASS | SKIPPED | SKIPPED | +-------------------------------+--------------------+-------------------------+----------------------+ | FreeBSD 14.2 | PASS | SKIPPED | SKIPPED | +-------------------------------+--------------------+-------------------------+----------------------+ | CentOS Stream 9 | PASS | SKIPPED | SKIPPED | +-------------------------------+--------------------+-------------------------+----------------------+ | CentOS Stream 10 | PASS | SKIPPED | SKIPPED | +-------------------------------+--------------------+-------------------------+----------------------+ | Debian GNU/Linux 12 | PASS | SKIPPED | SKIPPED | +-------------------------------+--------------------+-------------------------+----------------------+ | Fedora Linux 42 | PASS | SKIPPED | SKIPPED | +-------------------------------+--------------------+-------------------------+----------------------+ | openSUSE Leap 15.6 | PASS | SKIPPED | SKIPPED | +-------------------------------+--------------------+-------------------------+----------------------+ | Red Hat Enterprise Linux 8.10 | PASS | SKIPPED | SKIPPED | +-------------------------------+--------------------+-------------------------+----------------------+ | Red Hat Enterprise Linux 9.5 | PASS | SKIPPED | SKIPPED | +-------------------------------+--------------------+-------------------------+----------------------+ | Ubuntu 22.04 | PASS | SKIPPED | SKIPPED | +-------------------------------+--------------------+-------------------------+----------------------+ | Ubuntu 24.04 | PASS | SKIPPED | SKIPPED | +-------------------------------+--------------------+-------------------------+----------------------+ | Windows Server 2022 | SKIPPED | PASS | PASS | +-------------------------------+--------------------+-------------------------+----------------------+ Ubuntu 20.04 Kernel: 4.19 Compiler: gcc gcc (Ubuntu 9.4.0-1ubuntu1~20.04.2) 9.4.0 FreeBSD 14.2 Kernel: 14.2-RELEASE Compiler: clang 18.1.6 CentOS Stream 9 Kernel: 5.15 Compiler: gcc gcc (GCC) 11.5.0 20240719 (Red Hat 11.5.0-11) CentOS Stream 10 Kernel: 5.15 Compiler: gcc gcc (GCC) 14.2.1 20250110 (Red Hat 14.2.1-8) Debian GNU/Linux 12 Kernel: 5.15 Compiler: gcc gcc (Debian 12.2.0-14+deb12u1) 12.2.0 Fedora Linux 42 Kernel: 5.15 Compiler: clang gcc (GCC) 15.2.1 20250808 (Red Hat 15.2.1-1) openSUSE Leap 15.6 Kernel: 5.15 Compiler: gcc gcc (SUSE Linux) 7.5.0 Red Hat Enterprise Linux 8.10 Kernel: 5.15 Compiler: gcc gcc (GCC) 8.5.0 20210514 (Red Hat 8.5.0-22) Red Hat Enterprise Linux 9.5 Kernel: 5.15 Compiler: gcc gcc (GCC) 11.5.0 20240719 (Red Hat 11.5.0-2) Ubuntu 22.04 Kernel: 5.15 Compiler: gcc gcc (Ubuntu 11.4.0-1ubuntu1~22.04) 11.4.0 Ubuntu 24.04 Kernel: 5.15 Compiler: gcc gcc (Ubuntu 13.3.0-6ubuntu2~24.04) 13.3.0 Windows Server 2022 Kernel: 10.0.20348.2031 Compiler: clang 15.0.7, gcc 14.1.0 (MinGW), and MSVC VS 19.39.33521 To view detailed results, visit: https://lab.dpdk.org/results/dashboard/tarballs/35263/ UNH-IOL DPDK Community Lab To manage your email subscriptions, visit: https://lab.dpdk.org/results/dashboard/preferences/subscriptions/