From mboxrd@z Thu Jan 1 00:00:00 1970 Return-Path: Received: from mails.dpdk.org (mails.dpdk.org [217.70.189.124]) by inbox.dpdk.org (Postfix) with ESMTP id 97F194896D for ; Sat, 18 Oct 2025 11:16:15 +0200 (CEST) Received: from mails.dpdk.org (localhost [127.0.0.1]) by mails.dpdk.org (Postfix) with ESMTP id 7A774400D7; Sat, 18 Oct 2025 11:16:15 +0200 (CEST) Received: from mail-pf1-f226.google.com (mail-pf1-f226.google.com [209.85.210.226]) by mails.dpdk.org (Postfix) with ESMTP id A543A400D7 for ; Sat, 18 Oct 2025 11:16:14 +0200 (CEST) Received: by mail-pf1-f226.google.com with SMTP id d2e1a72fcca58-789fb76b466so2455018b3a.0 for ; Sat, 18 Oct 2025 02:16:14 -0700 (PDT) DKIM-Signature: v=1; a=rsa-sha256; c=relaxed/relaxed; d=iol.unh.edu; s=unh-iol; t=1760778974; x=1761383774; darn=dpdk.org; h=references:in-reply-to:cc:to:from:subject:message-id:date:from:to :cc:subject:date:message-id:reply-to; bh=S+C3husHWsOoV1okRuJwodO0mvHsBti4jm51qQXijGI=; b=NkbmpA1wY/T59B1TBGnNTxhmxbmEqp8f+lXG1Xt8cwaNgNkI/0WcYeYFJ+Xd822cZj tL/twCMSoXsdjitu0aAiESQSVdGgmt64+M3MEKEJsN/P3NPTaGwo++6LFKAEeGGpLDEo ww36iv0NOlfA8kagggngGIES4YKfgywe1zZNI= X-Google-DKIM-Signature: v=1; a=rsa-sha256; c=relaxed/relaxed; d=1e100.net; s=20230601; t=1760778974; x=1761383774; h=references:in-reply-to:cc:to:from:subject:message-id:date :x-gm-message-state:from:to:cc:subject:date:message-id:reply-to; bh=S+C3husHWsOoV1okRuJwodO0mvHsBti4jm51qQXijGI=; b=iTIA39ZNAoMKQ44mREveRysDwn7UvDyLPYi1eS3nzUix6+wwakbNZdR3lvMMRrg3O3 zDSqW1sqL3YfeRagU3G8zAlD12kJTdPJClAVaka/+XVZGflwI5I/y7lGndiegwA1caup /TCfaiiA6yi2iGjchDUMrZvrjyH5XsT0rs6HN6B43twUlk/eEJrAtJ5wLzqM4sNxiFmi /3j4M73ciJ+9giiIUEvQNIEhNjvkcHU0R2hc2ZhT5QG5mWp65mMpWLlJrgPSuCsDioPy zGgYhTadZ+uUZ76JuU5RXj4NRUyHAyaI7vgCINCrM+cLQJ8JZPnondtu8AAwzCgL/hEC ruTg== X-Gm-Message-State: AOJu0YyFrKIix4Msqqzaqrl2ZcL58SMD5YCUnVfOiK98OZoQF9RZIJL4 xBXOeWjv8fASLZa1z3WV9PJOpr5dM5r3QELpVEyv77M/zZRfqGmeeLaoL3nUqLELVNSAroWiMwF 3YP2uHiodPTz1rBGDeND51MZp+ZoIuCUZp/4qeUMlefFCNsZY08H8efwpgb9d X-Gm-Gg: ASbGncuK5JXBY7L/+/e/X3/Hy3+QeTF/r3upf6MdhOq4JscIkt8CMjkHitTFn7nkbKJ 0+5bkMjiwB/5SpUiIeO61aHR4IjLijlMRq+4W0YVaUZRWrtiB1yeKrRQc7mZFCQYEjeCp1SCAwP RmYJzfOLL0HopCs9ysW1Xhcbu1YfKdf6XGub/LMeg584SX9Ml9GB3VPPGWTkf9HHM9C1G6qKWD6 SSO5SeDoTwlHkwjzh1c8IwPXcdvDktb7kb7VXQa05VxIOdgmkilAVOesu4sQut5xaI1/rcwHIc4 YmNr/braYooLWk6WlcRyI2OCptsSOCUU2/AdwP5IO8QhbK/FIyaVaRxfsZT2Stsb7+NFme44lZ1 Czomvzi49 X-Google-Smtp-Source: AGHT+IEi4D4BhSL607pPkUt/AWsiiZyHmLXcjTKIpjt9ZUs2pvmDIRBLfTWtr0/uZbpDI3Pi3kd6I07qlZma X-Received: by 2002:a17:903:94e:b0:27e:dc53:d222 with SMTP id d9443c01a7336-290cb278e97mr71498215ad.44.1760778973729; Sat, 18 Oct 2025 02:16:13 -0700 (PDT) Received: from postal.iol.unh.edu (postal.iol.unh.edu. [2606:4100:3880:1234::84]) by smtp-relay.gmail.com with ESMTPS id d9443c01a7336-292471ddb6csm1736635ad.58.2025.10.18.02.16.13 (version=TLS1_2 cipher=ECDHE-ECDSA-AES128-GCM-SHA256 bits=128/128); Sat, 18 Oct 2025 02:16:13 -0700 (PDT) X-Relaying-Domain: iol.unh.edu Date: Sat, 18 Oct 2025 02:16:13 -0700 (PDT) Message-ID: <68f35add.170a0220.12f468.7fc4SMTPIN_ADDED_MISSING@mx.google.com> Received: from [172.21.0.2] (unknown [172.18.0.240]) by postal.iol.unh.edu (Postfix) with ESMTP id 3C71F6051830; Sat, 18 Oct 2025 05:16:13 -0400 (EDT) Subject: |SUCCESS| pw157796 [PATCH] [v2,1/1] riscv support rte_memcpy in vect From: dpdklab@iol.unh.edu To: Test Report Cc: dpdk-test-reports@iol.unh.edu In-Reply-To: <20251017093617.1219267-2-chen.qiguo@zte.com.cn> References: <20251017093617.1219267-2-chen.qiguo@zte.com.cn> Content-Type: text/plain X-BeenThere: test-report@dpdk.org X-Mailman-Version: 2.1.29 Precedence: list List-Id: automatic DPDK test reports List-Unsubscribe: , List-Archive: List-Post: List-Help: List-Subscribe: , Errors-To: test-report-bounces@dpdk.org Test-Label: iol-unit-arm64-testing Test-Status: SUCCESS http://dpdk.org/patch/157796 _Testing PASS_ Submitter: Qiguo Chen Date: Friday, October 17 2025 09:36:17 DPDK git baseline: Repo:dpdk Branch: master CommitID:438491733c2d8a109574449d3d6de9b25a05c07c 157796 --> testing pass Upstream job id: Generic-Unit-Test-DPDK#382631 Test environment and result as below: +------------------------------+----------------+---------------------------+------------------------------+--------------+ | Environment | dpdk_unit_test | cryptodev_sw_zuc_autotest | cryptodev_sw_snow3g_autotest | lpm_autotest | +==============================+================+===========================+==============================+==============+ | Fedora Linux 40 | PASS | SKIPPED | SKIPPED | SKIPPED | +------------------------------+----------------+---------------------------+------------------------------+--------------+ | CentOS Stream 10 | PASS | SKIPPED | SKIPPED | SKIPPED | +------------------------------+----------------+---------------------------+------------------------------+--------------+ | Fedora Linux 42 | PASS | SKIPPED | SKIPPED | SKIPPED | +------------------------------+----------------+---------------------------+------------------------------+--------------+ | Fedora Linux 41 | PASS | SKIPPED | SKIPPED | SKIPPED | +------------------------------+----------------+---------------------------+------------------------------+--------------+ | Ubuntu 22.04 | PASS | SKIPPED | SKIPPED | SKIPPED | +------------------------------+----------------+---------------------------+------------------------------+--------------+ | CentOS Stream 9 | PASS | SKIPPED | SKIPPED | SKIPPED | +------------------------------+----------------+---------------------------+------------------------------+--------------+ | Debian GNU/Linux 12 | PASS | SKIPPED | SKIPPED | SKIPPED | +------------------------------+----------------+---------------------------+------------------------------+--------------+ | Red Hat Enterprise Linux 9.5 | PASS | SKIPPED | SKIPPED | SKIPPED | +------------------------------+----------------+---------------------------+------------------------------+--------------+ | Ubuntu 24.04 | PASS | SKIPPED | SKIPPED | SKIPPED | +------------------------------+----------------+---------------------------+------------------------------+--------------+ | Ubuntu 20.04 | PASS | SKIPPED | SKIPPED | PASS | +------------------------------+----------------+---------------------------+------------------------------+--------------+ | Debian 12 (arm) | SKIPPED | PASS | PASS | SKIPPED | +------------------------------+----------------+---------------------------+------------------------------+--------------+ Fedora Linux 40 Kernel: 5.4 Compiler: gcc gcc (GCC) 14.2.1 20240912 (Red Hat 14.2.1-3) CentOS Stream 10 Kernel: 5.4 Compiler: gcc gcc (GCC) 14.2.1 20250110 (Red Hat 14.2.1-8) Fedora Linux 42 Kernel: 5.4 Compiler: clang gcc (GCC) 15.2.1 20250808 (Red Hat 15.2.1-1) Fedora Linux 41 Kernel: 5.4 Compiler: clang gcc (GCC) 14.3.1 20250523 (Red Hat 14.3.1-1) Ubuntu 22.04 Kernel: 5.15 Compiler: gcc gcc (Ubuntu 11.4.0-1ubuntu1~22.04.2) 11.4.0 CentOS Stream 9 Kernel: 5.4 Compiler: gcc gcc (GCC) 11.5.0 20240719 (Red Hat 11.5.0-11) Debian GNU/Linux 12 Kernel: 5.4 Compiler: gcc gcc (Debian 12.2.0-14+deb12u1) 12.2.0 Red Hat Enterprise Linux 9.5 Kernel: 5.4 Compiler: gcc gcc (GCC) 11.5.0 20240719 (Red Hat 11.5.0-2) Ubuntu 24.04 Kernel: 5.4 Compiler: gcc gcc (Ubuntu 13.3.0-6ubuntu2~24.04) 13.3.0 Ubuntu 20.04 Kernel: 5.4 Compiler: gcc gcc (Ubuntu 9.4.0-1ubuntu1~20.04.2) 9.4.0 Debian 12 (arm) Kernel: Depends on container host Compiler: gcc (Debian 12.2.0-14) 12.2.0 To view detailed results, visit: https://lab.dpdk.org/results/dashboard/patchsets/34310/ UNH-IOL DPDK Community Lab To manage your email subscriptions, visit: https://lab.dpdk.org/results/dashboard/preferences/subscriptions/