From mboxrd@z Thu Jan 1 00:00:00 1970 Return-Path: Received: from mails.dpdk.org (mails.dpdk.org [217.70.189.124]) by inbox.dpdk.org (Postfix) with ESMTP id D5ADE4896D for ; Sat, 18 Oct 2025 11:56:29 +0200 (CEST) Received: from mails.dpdk.org (localhost [127.0.0.1]) by mails.dpdk.org (Postfix) with ESMTP id D099D406BC; Sat, 18 Oct 2025 11:56:29 +0200 (CEST) Received: from mail-pf1-f228.google.com (mail-pf1-f228.google.com [209.85.210.228]) by mails.dpdk.org (Postfix) with ESMTP id B92B3406BC for ; Sat, 18 Oct 2025 11:56:27 +0200 (CEST) Received: by mail-pf1-f228.google.com with SMTP id d2e1a72fcca58-77f5d497692so3565260b3a.1 for ; Sat, 18 Oct 2025 02:56:27 -0700 (PDT) DKIM-Signature: v=1; a=rsa-sha256; c=relaxed/relaxed; d=iol.unh.edu; s=unh-iol; t=1760781387; x=1761386187; darn=dpdk.org; h=cc:to:from:subject:message-id:date:from:to:cc:subject:date :message-id:reply-to; bh=WxE9U/I/1GsXm8tqEnosJj8mbgh52Bxf9FnBH8UBxwI=; b=BwNQLqZIHIIYevqh1B0eBal0skb8F2/3Lxi+OtqB5qrWie6mVeqV9xMPDrd83dH9ZE 6SgonwWhBGpIY5wZCBc+IO6PaQL+fWzwi/fxNczc6OVjd6lPI+PiY0Oy+HhM3+uZAj3h feVVR8VZQp/kamFEs7HNkvjdIeQLiLmVWAKGw= X-Google-DKIM-Signature: v=1; a=rsa-sha256; c=relaxed/relaxed; d=1e100.net; s=20230601; t=1760781387; x=1761386187; h=cc:to:from:subject:message-id:date:x-gm-message-state:from:to:cc :subject:date:message-id:reply-to; bh=WxE9U/I/1GsXm8tqEnosJj8mbgh52Bxf9FnBH8UBxwI=; b=pSiFNE32KHt7hgAluWsUmVxsoJB18mJrE+VR2Ze9XR0ZMgvhyFIN8Jq5t1e/fMCFHk K7NJ4Ej4eBtOvm5vWN4ZPuK0AC+LITuG9JpcLCyHbIuqcRUFJGRj5aT0R3sq/Uwdaaw/ OM40K1uwpTAGBykjgiDv3Ro+8U7IZPSM9ddulWA1WLU9ZGZBK7EpoXEZXHA+yhejJfTX ZpsUXGIrDFJZwjfLtsnCurM+x7lGhZWUFJorTW2hs+AmtjHlnWSJFb3Ig1pndx5w2dMH 4zfyNENXuNHhCsafZ6/ramHIudAM+8CdmM/BYiULllI4pVmJ/oMC1fCtOuTXnkaYPDtn Eweg== X-Gm-Message-State: AOJu0Yx27WB5rBDHGe6zLLDa9eCQUUANqDd56Mi49iu4og4GroFnLRNs 2poNlDbr/bWoJ6w+D3VSb6W9nFO/xZ5WgPA/a50+NQDAXr0L44SgCMHDLuUqMh2d/r6B5lddzUd N9vL0XQRFiOyEUAhFG+kQTWXYGWg1eOugpvXXORznJHY3LI5w9TXT X-Gm-Gg: ASbGncs9Ntx51En9CpJJxFdq/nWKli7HHKYD8qFvP9JFRB190hXir9qOQAUnlF337qq zir0S8CC9aqHxDiBmI15aoPAqUTsElLd8Gjg3MR7yZjWAH+K4gOFNUA/QCjG6f2CIYLTOo5Iyoa jabu6c0S84Fg/uE9HXQYEPA8mB89owjJhpQMkuWCAWAOaxZ5l7jC4IOMSChEcwT7P2NTZlq66Ky DLfDva9gq4XyGrKQKurgLH5ImmtsUYGEbKFkMWhx82OvWL4JM4TvN8iyC93/qJOIiPzcaP6VX6e ooUOhN7HUDaL0j4QV3Dl068pJa8zXGk7EKapidpuYHg+TXkz3bu4zqc5n4lUe/P+u59tFlLObVa uIxa2cDka X-Google-Smtp-Source: AGHT+IGiI/Wf2TNEJMHEVUFJgvmwkPWiIyMCzE4YzSwV897S8eoyLx+D6+j1XLgCJsbxN9IUC2+gDr25/S5x X-Received: by 2002:aa7:9285:0:b0:782:cc55:be67 with SMTP id d2e1a72fcca58-7a220adb503mr4956634b3a.20.1760781386891; Sat, 18 Oct 2025 02:56:26 -0700 (PDT) Received: from postal.iol.unh.edu (postal.iol.unh.edu. [2606:4100:3880:1234::84]) by smtp-relay.gmail.com with ESMTPS id d2e1a72fcca58-7a2300bbe17sm230830b3a.8.2025.10.18.02.56.26 (version=TLS1_2 cipher=ECDHE-ECDSA-AES128-GCM-SHA256 bits=128/128); Sat, 18 Oct 2025 02:56:26 -0700 (PDT) X-Relaying-Domain: iol.unh.edu Date: Sat, 18 Oct 2025 02:56:26 -0700 (PDT) Message-ID: <68f3644a.050a0220.1c4e41.a37aSMTPIN_ADDED_MISSING@mx.google.com> Received: from [172.21.0.3] (unknown [172.18.0.240]) by postal.iol.unh.edu (Postfix) with ESMTP id 2C6206051830; Sat, 18 Oct 2025 05:56:26 -0400 (EDT) Subject: |SUCCESS| [GIT MASTER] b287e404643aeab5bb5db084c142789df187844e From: dpdklab@iol.unh.edu To: Test Report Cc: dpdk-test-reports@iol.unh.edu, Xueming Li , Christian Ehrhardt , Kevin Traynor , Luca Boccassi Content-Type: text/plain X-BeenThere: test-report@dpdk.org X-Mailman-Version: 2.1.29 Precedence: list List-Id: automatic DPDK test reports List-Unsubscribe: , List-Archive: List-Post: List-Help: List-Subscribe: , Errors-To: test-report-bounces@dpdk.org _Testing PASS_ Branch: tags/v24.11 b287e404643aeab5bb5db084c142789df187844e --> testing pass Upstream job id: Generic-DPDK-Compile-Meson#435769 Test environment and result as below: +-------------------------------+--------------------+-------------------+-------------------------+----------------------+-------------------+------------------+ | Environment | dpdk_meson_compile | dpdk_msvc_compile | dpdk_llvm_clang_compile | dpdk_mingw64_compile | dpdk_compile_spdk | dpdk_compile_ovs | +===============================+====================+===================+=========================+======================+===================+==================+ | Ubuntu 20.04 | PASS | SKIPPED | SKIPPED | SKIPPED | SKIPPED | SKIPPED | +-------------------------------+--------------------+-------------------+-------------------------+----------------------+-------------------+------------------+ | FreeBSD 14.2 | PASS | SKIPPED | SKIPPED | SKIPPED | SKIPPED | SKIPPED | +-------------------------------+--------------------+-------------------+-------------------------+----------------------+-------------------+------------------+ | CentOS Stream 9 | PASS | SKIPPED | SKIPPED | SKIPPED | PASS | SKIPPED | +-------------------------------+--------------------+-------------------+-------------------------+----------------------+-------------------+------------------+ | CentOS Stream 10 | PASS | SKIPPED | SKIPPED | SKIPPED | SKIPPED | SKIPPED | +-------------------------------+--------------------+-------------------+-------------------------+----------------------+-------------------+------------------+ | Debian GNU/Linux 12 | PASS | SKIPPED | SKIPPED | SKIPPED | PASS | SKIPPED | +-------------------------------+--------------------+-------------------+-------------------------+----------------------+-------------------+------------------+ | Fedora Linux 42 | PASS | SKIPPED | SKIPPED | SKIPPED | PASS | PASS | +-------------------------------+--------------------+-------------------+-------------------------+----------------------+-------------------+------------------+ | openSUSE Leap 15.6 | PASS | SKIPPED | SKIPPED | SKIPPED | SKIPPED | SKIPPED | +-------------------------------+--------------------+-------------------+-------------------------+----------------------+-------------------+------------------+ | Red Hat Enterprise Linux 8.10 | PASS | SKIPPED | SKIPPED | SKIPPED | SKIPPED | SKIPPED | +-------------------------------+--------------------+-------------------+-------------------------+----------------------+-------------------+------------------+ | Red Hat Enterprise Linux 9.5 | PASS | SKIPPED | SKIPPED | SKIPPED | SKIPPED | SKIPPED | +-------------------------------+--------------------+-------------------+-------------------------+----------------------+-------------------+------------------+ | Ubuntu 22.04 | PASS | SKIPPED | SKIPPED | SKIPPED | PASS | SKIPPED | +-------------------------------+--------------------+-------------------+-------------------------+----------------------+-------------------+------------------+ | Ubuntu 24.04 | PASS | SKIPPED | SKIPPED | SKIPPED | PASS | PASS | +-------------------------------+--------------------+-------------------+-------------------------+----------------------+-------------------+------------------+ | Alpine Linux 3.22.0 | PASS | SKIPPED | SKIPPED | SKIPPED | SKIPPED | SKIPPED | +-------------------------------+--------------------+-------------------+-------------------------+----------------------+-------------------+------------------+ | Windows Server 2022 | SKIPPED | PASS | PASS | PASS | SKIPPED | SKIPPED | +-------------------------------+--------------------+-------------------+-------------------------+----------------------+-------------------+------------------+ Ubuntu 20.04 Kernel: 4.19 Compiler: gcc gcc (Ubuntu 9.4.0-1ubuntu1~20.04.2) 9.4.0 FreeBSD 14.2 Kernel: 14.2-RELEASE Compiler: clang 18.1.6 CentOS Stream 9 Kernel: 5.15 Compiler: gcc gcc (GCC) 11.5.0 20240719 (Red Hat 11.5.0-11) CentOS Stream 10 Kernel: 5.15 Compiler: gcc gcc (GCC) 14.2.1 20250110 (Red Hat 14.2.1-8) Debian GNU/Linux 12 Kernel: 5.15 Compiler: gcc gcc (Debian 12.2.0-14+deb12u1) 12.2.0 Fedora Linux 42 Kernel: 5.15 Compiler: clang gcc (GCC) 15.2.1 20250808 (Red Hat 15.2.1-1) openSUSE Leap 15.6 Kernel: 5.15 Compiler: gcc gcc (SUSE Linux) 7.5.0 Red Hat Enterprise Linux 8.10 Kernel: 5.15 Compiler: gcc gcc (GCC) 8.5.0 20210514 (Red Hat 8.5.0-22) Red Hat Enterprise Linux 9.5 Kernel: 5.15 Compiler: gcc gcc (GCC) 11.5.0 20240719 (Red Hat 11.5.0-2) Ubuntu 22.04 Kernel: 5.15 Compiler: gcc gcc (Ubuntu 11.4.0-1ubuntu1~22.04) 11.4.0 Ubuntu 24.04 Kernel: 5.15 Compiler: gcc gcc (Ubuntu 13.3.0-6ubuntu2~24.04) 13.3.0 Alpine Linux 3.22.0 Kernel: 5.15 Compiler: gcc gcc (Alpine 14.2.0) 14.2.0 Windows Server 2022 Kernel: 10.0.20348.2031 Compiler: clang 15.0.7, gcc 14.1.0 (MinGW), and MSVC VS 19.39.33521 To view detailed results, visit: https://lab.dpdk.org/results/dashboard/tarballs/35265/ UNH-IOL DPDK Community Lab To manage your email subscriptions, visit: https://lab.dpdk.org/results/dashboard/preferences/subscriptions/