From mboxrd@z Thu Jan 1 00:00:00 1970 Return-Path: Received: from mails.dpdk.org (mails.dpdk.org [217.70.189.124]) by inbox.dpdk.org (Postfix) with ESMTP id 5B4424896E for ; Sat, 18 Oct 2025 12:27:21 +0200 (CEST) Received: from mails.dpdk.org (localhost [127.0.0.1]) by mails.dpdk.org (Postfix) with ESMTP id 3D62A406BC; Sat, 18 Oct 2025 12:27:21 +0200 (CEST) Received: from mail-io1-f100.google.com (mail-io1-f100.google.com [209.85.166.100]) by mails.dpdk.org (Postfix) with ESMTP id 9C42A406BC for ; Sat, 18 Oct 2025 12:27:19 +0200 (CEST) Received: by mail-io1-f100.google.com with SMTP id ca18e2360f4ac-93e7ece3025so57897639f.1 for ; Sat, 18 Oct 2025 03:27:19 -0700 (PDT) DKIM-Signature: v=1; a=rsa-sha256; c=relaxed/relaxed; d=iol.unh.edu; s=unh-iol; t=1760783239; x=1761388039; darn=dpdk.org; h=cc:to:from:subject:message-id:date:from:to:cc:subject:date :message-id:reply-to; bh=4X3Q3dPqCtTLw/CeNSebjfZiZZTDxUtv5X0H95WDTqU=; b=UsfxhmiyqiCyYB1JKlRkjxhCsDN8PcUWWlGzFIPmtRIEiE7qdl7WG0lNbS0JqVSMYO v6xo7EQoqM8qSUcHnNbEU0QhHtK/Lsw5TPbUy2niTPB4Fa+MxWS21lvxHCGgr+0FFuh9 yqWeunIv5TGbWBsJxhPDsa4MGL371E915umcU= X-Google-DKIM-Signature: v=1; a=rsa-sha256; c=relaxed/relaxed; d=1e100.net; s=20230601; t=1760783239; x=1761388039; h=cc:to:from:subject:message-id:date:x-gm-message-state:from:to:cc :subject:date:message-id:reply-to; bh=4X3Q3dPqCtTLw/CeNSebjfZiZZTDxUtv5X0H95WDTqU=; b=MBfEYrNoD4j7crYcHR8c19joqVn291ryHftpy869FhuFGaX+zjS4ILznvnmZdSvCqk ggufp/gMapsafLR2wTg/1JridDMSYGwjp4BRmg8mtNNvOmEatcbAHYi7Ct6vRcl1ijfx Txg5UQqEdaEK6QlDlHA82ZOKyTFybFTDIXTb8PqXAFq6A34vYcu+IC6XR8lr7MVPrpRH AB59HGrAgjHaLrYS6DPE8VidLi41mosvs6YcJWdheQcwJscvEevtuY2DEGrEW/rewYZ1 62J46e1NvbXw5lcmVKrLfAwYjIvCs/6Zq8cn6zGao7Vvcr79nljG0NO+g4uLbkvIdPNW Mp3w== X-Gm-Message-State: AOJu0Yxa2as7nUJ+6kxP0sgW0rvBLNDeqDrnEYlxg8TSkRAhS6mO7DEW eroPjOBwSRs0hG3dUcrFE5UmPjRLcrzv0qyTf59YDgQ971PAPVJK3osGJJLL7M9AFkbejB73RrA P1prZk+4fNRjSHoPW2L6SWVWWSpDv5zCuGhhhLlQ7GipuSZBvqAR0kU2DUVk2 X-Gm-Gg: ASbGncuC33pjqVV4xDNDHydHVJ4aCTaqE0dxU4bccYejdYqPEpCCNlTqcyB+/fXi4ya dkzkHDIukRCx6Kt2utq7G9sNmiNnllTVOUqKrV6/6SRFdfRyBMyvZvmy6dAoUIJhlt+aw0f87Y0 2rbwcmxCGI7UhOXzzj+iXzFP8DbbTyytcHOrHVo8lNobwMSm3oUllSsrD2HI2bYgcjBMoF8vnCt UBCe5TGI7gzjR4a9SFZjEAh8C1edIEGUd5cyxkom9IXnekDxIy5l5BJT9P+4b8s1XHo+iMcA330 huh8QKKcvZOm/eqX9b+DCFShyn+mYy+srm34Fxir91Cx3c1CLiPNK2uL9q4wgmhuVJ5GDwZ2A/F 8hY3OJy5/ X-Google-Smtp-Source: AGHT+IHLKLrnmVkx//tBRak1vJJqzh+r8+0Qp51UMInE/BCHGpToESDU2BQcsimkgd57VZ8nzDLpDGSv5c1t X-Received: by 2002:a05:6602:1511:b0:8f6:8812:ef66 with SMTP id ca18e2360f4ac-93e7543fa00mr1320007339f.4.1760783238901; Sat, 18 Oct 2025 03:27:18 -0700 (PDT) Received: from postal.iol.unh.edu (postal.iol.unh.edu. [2606:4100:3880:1234::84]) by smtp-relay.gmail.com with ESMTPS id ca18e2360f4ac-93e86701890sm15363539f.15.2025.10.18.03.27.18 (version=TLS1_2 cipher=ECDHE-ECDSA-AES128-GCM-SHA256 bits=128/128); Sat, 18 Oct 2025 03:27:18 -0700 (PDT) X-Relaying-Domain: iol.unh.edu Date: Sat, 18 Oct 2025 03:27:18 -0700 (PDT) Message-ID: <68f36b86.050a0220.37aa8e.6d2eSMTPIN_ADDED_MISSING@mx.google.com> Received: from [172.21.0.2] (unknown [172.18.0.240]) by postal.iol.unh.edu (Postfix) with ESMTP id 6A5886051830; Sat, 18 Oct 2025 06:27:18 -0400 (EDT) Subject: |SUCCESS| [GIT MASTER] 6b997d6b9ffdbb4f8ecd14d1f217da69cdc783af From: dpdklab@iol.unh.edu To: Test Report Cc: dpdk-test-reports@iol.unh.edu, Bruce Richardson Content-Type: text/plain X-BeenThere: test-report@dpdk.org X-Mailman-Version: 2.1.29 Precedence: list List-Id: automatic DPDK test reports List-Unsubscribe: , List-Archive: List-Post: List-Help: List-Subscribe: , Errors-To: test-report-bounces@dpdk.org _Testing PASS_ Branch: dpdk-next-net-intel 6b997d6b9ffdbb4f8ecd14d1f217da69cdc783af --> testing pass Upstream job id: Generic-Unit-Test-DPDK#382681 Test environment and result as below: +------------------------------+----------------+--------------+---------------------------+------------------------------+ | Environment | dpdk_unit_test | lpm_autotest | cryptodev_sw_zuc_autotest | cryptodev_sw_snow3g_autotest | +==============================+================+==============+===========================+==============================+ | Fedora Linux 40 | PASS | SKIPPED | SKIPPED | SKIPPED | +------------------------------+----------------+--------------+---------------------------+------------------------------+ | CentOS Stream 9 | PASS | SKIPPED | SKIPPED | SKIPPED | +------------------------------+----------------+--------------+---------------------------+------------------------------+ | CentOS Stream 10 | PASS | SKIPPED | SKIPPED | SKIPPED | +------------------------------+----------------+--------------+---------------------------+------------------------------+ | Fedora Linux 42 | PASS | SKIPPED | SKIPPED | SKIPPED | +------------------------------+----------------+--------------+---------------------------+------------------------------+ | Fedora Linux 41 | PASS | SKIPPED | SKIPPED | SKIPPED | +------------------------------+----------------+--------------+---------------------------+------------------------------+ | Ubuntu 20.04 | PASS | PASS | SKIPPED | SKIPPED | +------------------------------+----------------+--------------+---------------------------+------------------------------+ | Debian GNU/Linux 12 | PASS | SKIPPED | SKIPPED | SKIPPED | +------------------------------+----------------+--------------+---------------------------+------------------------------+ | Ubuntu 22.04 | PASS | SKIPPED | SKIPPED | SKIPPED | +------------------------------+----------------+--------------+---------------------------+------------------------------+ | Red Hat Enterprise Linux 9.5 | PASS | SKIPPED | SKIPPED | SKIPPED | +------------------------------+----------------+--------------+---------------------------+------------------------------+ | Ubuntu 24.04 | PASS | SKIPPED | SKIPPED | SKIPPED | +------------------------------+----------------+--------------+---------------------------+------------------------------+ | Debian 12 (arm) | SKIPPED | SKIPPED | PASS | PASS | +------------------------------+----------------+--------------+---------------------------+------------------------------+ Fedora Linux 40 Kernel: 5.4 Compiler: clang gcc (GCC) 14.2.1 20240912 (Red Hat 14.2.1-3) CentOS Stream 9 Kernel: 5.4 Compiler: gcc gcc (GCC) 11.5.0 20240719 (Red Hat 11.5.0-11) CentOS Stream 10 Kernel: 5.4 Compiler: gcc gcc (GCC) 14.2.1 20250110 (Red Hat 14.2.1-8) Fedora Linux 42 Kernel: 5.4 Compiler: gcc gcc (GCC) 15.2.1 20250808 (Red Hat 15.2.1-1) Fedora Linux 41 Kernel: 5.4 Compiler: clang gcc (GCC) 14.3.1 20250523 (Red Hat 14.3.1-1) Ubuntu 20.04 Kernel: 5.4 Compiler: gcc gcc (Ubuntu 9.4.0-1ubuntu1~20.04.2) 9.4.0 Debian GNU/Linux 12 Kernel: 5.4 Compiler: gcc gcc (Debian 12.2.0-14+deb12u1) 12.2.0 Ubuntu 22.04 Kernel: 5.4 Compiler: gcc gcc (Ubuntu 11.4.0-1ubuntu1~22.04) 11.4.0 Red Hat Enterprise Linux 9.5 Kernel: 5.4 Compiler: gcc gcc (GCC) 11.5.0 20240719 (Red Hat 11.5.0-2) Ubuntu 24.04 Kernel: 5.4 Compiler: gcc gcc (Ubuntu 13.3.0-6ubuntu2~24.04) 13.3.0 Debian 12 (arm) Kernel: Depends on container host Compiler: gcc (Debian 12.2.0-14) 12.2.0 To view detailed results, visit: https://lab.dpdk.org/results/dashboard/tarballs/35251/ UNH-IOL DPDK Community Lab To manage your email subscriptions, visit: https://lab.dpdk.org/results/dashboard/preferences/subscriptions/