From mboxrd@z Thu Jan 1 00:00:00 1970 Return-Path: Received: from mails.dpdk.org (mails.dpdk.org [217.70.189.124]) by inbox.dpdk.org (Postfix) with ESMTP id 881824896E for ; Sat, 18 Oct 2025 12:41:56 +0200 (CEST) Received: from mails.dpdk.org (localhost [127.0.0.1]) by mails.dpdk.org (Postfix) with ESMTP id 67B26406BC; Sat, 18 Oct 2025 12:41:56 +0200 (CEST) Received: from mail-pl1-f228.google.com (mail-pl1-f228.google.com [209.85.214.228]) by mails.dpdk.org (Postfix) with ESMTP id ED1FD406BC for ; Sat, 18 Oct 2025 12:41:54 +0200 (CEST) Received: by mail-pl1-f228.google.com with SMTP id d9443c01a7336-28e7cd6dbc0so33899515ad.0 for ; Sat, 18 Oct 2025 03:41:54 -0700 (PDT) DKIM-Signature: v=1; a=rsa-sha256; c=relaxed/relaxed; d=iol.unh.edu; s=unh-iol; t=1760784114; x=1761388914; darn=dpdk.org; h=cc:to:from:subject:message-id:date:from:to:cc:subject:date :message-id:reply-to; bh=7mlrpfi454lQbKP2mnhaV2Dn3R7+Kng93nH0oG628pw=; b=PDMqoMNeFmEGo+JRvNlopOzNtcw3FNkisMg6pQ+WQNU2v9CaWGyL8H+FScOUoI1pwf e7JtD+NOrJoWpWmhu1Oj6Ie6FBj10cyjSMm89vNwfzVF2Z4GnsoigRkzFIt/WXrQ9nYN kvhr6eFVc+g57GKbXpHgxEl0s+vv9IdzBUKLk= X-Google-DKIM-Signature: v=1; a=rsa-sha256; c=relaxed/relaxed; d=1e100.net; s=20230601; t=1760784114; x=1761388914; h=cc:to:from:subject:message-id:date:x-gm-message-state:from:to:cc :subject:date:message-id:reply-to; bh=7mlrpfi454lQbKP2mnhaV2Dn3R7+Kng93nH0oG628pw=; b=mhkRJYNBaZwf+eDpXwf9Ox45rWCPbsDJlbGZh3wI9xnfDT3qAHs6hjUlFVx1nlXTRp WaJNjMvdHvKMMZoNuWCEQae9AcOtes0igURot0NjyvxvB2XOgvAkYBz/VHB0YFIiuFKW 2wscugaL4i8Eg1eSysbc81q76OH6ZB8ntVjwKvN28rIsE3PeIgvhsZeZ4afvxomZHtZM PFq9JOdoZc5hKViuvE328GW8vz4jpRJ+Xy0QMXOpX9MFADfPnROrRcOO2nb+8FskU1Ls FysoLG9co+05q7KofTblEmiLwMebzzF+OAV9Gqiz7uKDTiaW4+p50JWDp9mv5+Y9841C I1ew== X-Gm-Message-State: AOJu0Yz3DwbQNUIxVANzrtKK8USyYhlJledUNVW/9cISvperzCsDsUbV GWeghYKiV9MrQOhh030UsMn7nDev1uhaYAdms2MaY6W8E41UWACngU4EfkGI0OR+S8y1FnniwoA o8Ora7mvXEG49/j1yN3nFl5+wRVyGdSorCNVnK/X74wxm X-Gm-Gg: ASbGncul+KFnt/53YTbOQ3Xc9QprBqtXyXLw5ue6LLhHGxmQLLhkSAoYpIVH4a6j3xC TYtwBuUYksafnYyeDFupwn9MG40Gw4nrnXmmMcgEeUQD5J0fhhCs/3M77tLAm+9BS3LCtXu//Q6 r+t+i3A28BnzUVekwEf0mxGCvo4tJdBQ/WBeOwr2RXs+gYcGRDhiW+CQtbwoxD79M59ZT+m7ats xcdz/X+22isiU1+CCQqiHG0eszo9vYkkVN3dsa/VFOQFhFgPf7nabJtH+Lha7xV29xDQqiPWLkm FdjwaSjlxfagUqqhmKHrlaMsW9+3cf0hejUXyRIOl/B5sPCql4i5C0/0RPwMEAu4XPM14g+IlbU DL5LB7O0yRzNo97lD3PsFtPRjcj7ZA4M= X-Google-Smtp-Source: AGHT+IG4PH4GY2xP5uLd6Rgv1k5VrmDGhUkjOlyOnHf8f9pbh1VVifCq0bHWOUlQhbSco6vZa/IXqoPa8mxJ X-Received: by 2002:a17:903:3586:b0:262:cd8c:bfa8 with SMTP id d9443c01a7336-290cb9473f9mr79315555ad.34.1760784114056; Sat, 18 Oct 2025 03:41:54 -0700 (PDT) Received: from postal.iol.unh.edu (postal.iol.unh.edu. [132.177.123.84]) by smtp-relay.gmail.com with ESMTPS id d9443c01a7336-292471dbed6sm2039795ad.46.2025.10.18.03.41.53 (version=TLS1_2 cipher=ECDHE-ECDSA-AES128-GCM-SHA256 bits=128/128); Sat, 18 Oct 2025 03:41:54 -0700 (PDT) X-Relaying-Domain: iol.unh.edu Date: Sat, 18 Oct 2025 03:41:54 -0700 (PDT) Message-ID: <68f36ef2.170a0220.3c7e5a.8f2fSMTPIN_ADDED_MISSING@mx.google.com> Received: from [172.21.0.2] (unknown [172.18.0.240]) by postal.iol.unh.edu (Postfix) with ESMTP id 4C43F6051830; Sat, 18 Oct 2025 06:41:53 -0400 (EDT) Subject: |WARNING| [GIT MASTER] 3ae1e87388139b3c92c368203b0885a386eb9295 From: dpdklab@iol.unh.edu To: Test Report Cc: dpdk-test-reports@iol.unh.edu, Stephen Hemminger Content-Type: text/plain X-BeenThere: test-report@dpdk.org X-Mailman-Version: 2.1.29 Precedence: list List-Id: automatic DPDK test reports List-Unsubscribe: , List-Archive: List-Post: List-Help: List-Subscribe: , Errors-To: test-report-bounces@dpdk.org _Testing issues_ Branch: dpdk-next-net 3ae1e87388139b3c92c368203b0885a386eb9295 --> testing issues Upstream job id: Generic-DPDK-Compile-Meson#435783 Test environment and result as below: +---------------------+-------------------------+--------------------+-------------------+----------------------+-------------------+ | Environment | dpdk_llvm_clang_compile | dpdk_meson_compile | dpdk_msvc_compile | dpdk_mingw64_compile | dpdk_compile_spdk | +=====================+=========================+====================+===================+======================+===================+ | Windows Server 2022 | PASS | SKIPPED | PASS | PASS | SKIPPED | +---------------------+-------------------------+--------------------+-------------------+----------------------+-------------------+ | Ubuntu 20.04 | SKIPPED | PASS | SKIPPED | SKIPPED | SKIPPED | +---------------------+-------------------------+--------------------+-------------------+----------------------+-------------------+ | FreeBSD 14.2 | SKIPPED | PASS | SKIPPED | SKIPPED | SKIPPED | +---------------------+-------------------------+--------------------+-------------------+----------------------+-------------------+ | CentOS Stream 9 | SKIPPED | PASS | SKIPPED | SKIPPED | WARN | +---------------------+-------------------------+--------------------+-------------------+----------------------+-------------------+ ==== 20 line log output for CentOS Stream 9 (dpdk_compile_spdk): ==== --- Failed to get log output --- ==== End log output ==== Windows Server 2022 Kernel: 10.0.20348.2031 Compiler: clang 15.0.7, gcc 14.1.0 (MinGW), and MSVC VS 19.39.33521 Ubuntu 20.04 Kernel: 4.19 Compiler: gcc gcc (Ubuntu 9.4.0-1ubuntu1~20.04.2) 9.4.0 FreeBSD 14.2 Kernel: 14.2-RELEASE Compiler: clang 18.1.6 CentOS Stream 9 Kernel: 5.15 Compiler: gcc gcc (GCC) 11.5.0 20240719 (Red Hat 11.5.0-11) To view detailed results, visit: https://lab.dpdk.org/results/dashboard/tarballs/35266/ UNH-IOL DPDK Community Lab To manage your email subscriptions, visit: https://lab.dpdk.org/results/dashboard/preferences/subscriptions/