From mboxrd@z Thu Jan 1 00:00:00 1970 Return-Path: Received: from mails.dpdk.org (mails.dpdk.org [217.70.189.124]) by inbox.dpdk.org (Postfix) with ESMTP id 1D6424896E for ; Sat, 18 Oct 2025 13:12:35 +0200 (CEST) Received: from mails.dpdk.org (localhost [127.0.0.1]) by mails.dpdk.org (Postfix) with ESMTP id CC50C4013F; Sat, 18 Oct 2025 13:12:34 +0200 (CEST) Received: from mail-pf1-f227.google.com (mail-pf1-f227.google.com [209.85.210.227]) by mails.dpdk.org (Postfix) with ESMTP id DA1404013F for ; Sat, 18 Oct 2025 13:12:32 +0200 (CEST) Received: by mail-pf1-f227.google.com with SMTP id d2e1a72fcca58-7810289cd4bso2678439b3a.2 for ; Sat, 18 Oct 2025 04:12:32 -0700 (PDT) DKIM-Signature: v=1; a=rsa-sha256; c=relaxed/relaxed; d=iol.unh.edu; s=unh-iol; t=1760785952; x=1761390752; darn=dpdk.org; h=cc:to:from:subject:message-id:date:from:to:cc:subject:date :message-id:reply-to; bh=WbP3fyNGBsGevFV6d/NV6iUOy8jztSinQ7d9smSceS8=; b=Y95e8cmjgDCjfaMSFZPbDY633Pw4jOoXugakdVbGxe0cOZMf4IqUeqR4OFfFsLxfXN ec0fc+sE/ouiAtsVwBnGLj3pWlOUYwN8cfGcyZURMXuJ2qDFx+4vfSEbwgBAFc+mgYaG uVPZY/9JEmo0iBDsvGcSVgvou+0kp3RuuATAw= X-Google-DKIM-Signature: v=1; a=rsa-sha256; c=relaxed/relaxed; d=1e100.net; s=20230601; t=1760785952; x=1761390752; h=cc:to:from:subject:message-id:date:x-gm-message-state:from:to:cc :subject:date:message-id:reply-to; bh=WbP3fyNGBsGevFV6d/NV6iUOy8jztSinQ7d9smSceS8=; b=X9MJPahz9ng2DFzZdrlHL0hr/UoZE8ByPn3ilOMGb88STVouzs2EHrmyWQn+1pVjmT ksbtHR8WH++7s/fX/xM3OSVJ+3nK0MQ8XUX/YLINJw/nm3pu1F4D+5wig0bRA4Rwg2gd G5K/izct2dvgB7au5N85x1VidTW5dUO/G9ykt+nLwpqHPe5Om3irnkV7cc+cr9/+G8mo kVTj+BZ+4fpiq8IJ/XRAmCiIAV7jdv92hhfO50niqPt3TehLOp+vqodNYXTzujjaNq8/ 6Cgg8deK202yfx2sfsTcNGMUFx+72HdUCDrtnQ/a6wyJn9SfJBkszMxzQcY9ASYC3SRv k0ig== X-Gm-Message-State: AOJu0YyOykfzehWCP5zGxYMMvD/Xxsj9havvE2oBWK2zax/4jtoAy2Cl IyrpoLUcsvjQUMp9ZY9OJP7PcYdpfeGaBkIOSbawLCBFJGvrEqey+juJfQViuOi1RNMVRgtdRM7 6YEREVw2t5HtzxbnYwHqmYZlb/g4kebtQ2Akg+FlXx6zvQ/d/IyjNE3f0hNfy X-Gm-Gg: ASbGnctDmJA1MsDFH3RWuW6Efu3BUD/ZILbryiebtdlR3760kNHD2ZavdMJ8cH/3FrP aQjoD17l7osZM26g9Jw4rSEbTKq1MYg+z5Jt5CBTuiO7NM+xKg+2WTlGp3AqDrlkgj0NeiZn4yY 0zgZVEVMwPXU0vOo+9esvXoh/wY9qfP+yubwJAUuidAhktvLl4Q891kqRV3GSimLhx6M23ZhElw CP0uE3vH5UB2JEkwAJR0o/O6UG9Q6Ib6JjRdTSJy1QfZFXbLaMzRDmHALtoyXK+s7B7FiI/gzIq 24OAUJcLel02z+YoW/iPapUQPeEHO5hGg/ZxGNQ3CYbYzMuPAlp2g/RsPr17LDHOBzD+M3FABMv zjGFZ7n0p X-Google-Smtp-Source: AGHT+IEhCA4ALd6LBjvvwJxRo7ENtp40k7rx5TWnn6/utFhtdXPwMwI16eZit1XiFzxFllQAdZ3spmoGmF0d X-Received: by 2002:a05:6a20:7d9a:b0:334:8ac9:bc5 with SMTP id adf61e73a8af0-334a86172e8mr10060811637.36.1760785951988; Sat, 18 Oct 2025 04:12:31 -0700 (PDT) Received: from postal.iol.unh.edu (postal.iol.unh.edu. [2606:4100:3880:1234::84]) by smtp-relay.gmail.com with ESMTPS id d2e1a72fcca58-7a22ff23eddsm243114b3a.6.2025.10.18.04.12.31 (version=TLS1_2 cipher=ECDHE-ECDSA-AES128-GCM-SHA256 bits=128/128); Sat, 18 Oct 2025 04:12:31 -0700 (PDT) X-Relaying-Domain: iol.unh.edu Date: Sat, 18 Oct 2025 04:12:31 -0700 (PDT) Message-ID: <68f3761f.050a0220.25d25c.af28SMTPIN_ADDED_MISSING@mx.google.com> Received: from [172.21.0.2] (unknown [172.18.0.240]) by postal.iol.unh.edu (Postfix) with ESMTP id 465286051830; Sat, 18 Oct 2025 07:12:31 -0400 (EDT) Subject: |WARNING| [GIT MASTER] 3ae1e87388139b3c92c368203b0885a386eb9295 From: dpdklab@iol.unh.edu To: Test Report Cc: dpdk-test-reports@iol.unh.edu, Stephen Hemminger Content-Type: text/plain X-BeenThere: test-report@dpdk.org X-Mailman-Version: 2.1.29 Precedence: list List-Id: automatic DPDK test reports List-Unsubscribe: , List-Archive: List-Post: List-Help: List-Subscribe: , Errors-To: test-report-bounces@dpdk.org _Testing issues_ Branch: dpdk-next-net 3ae1e87388139b3c92c368203b0885a386eb9295 --> testing issues Upstream job id: Generic-DPDK-Compile-Meson#435786 Test environment and result as below: +---------------------+-------------------------+--------------------+-------------------+----------------------+-------------------+------------------+ | Environment | dpdk_llvm_clang_compile | dpdk_meson_compile | dpdk_msvc_compile | dpdk_mingw64_compile | dpdk_compile_spdk | dpdk_compile_ovs | +=====================+=========================+====================+===================+======================+===================+==================+ | Windows Server 2022 | PASS | SKIPPED | PASS | PASS | SKIPPED | SKIPPED | +---------------------+-------------------------+--------------------+-------------------+----------------------+-------------------+------------------+ | Ubuntu 20.04 | SKIPPED | PASS | SKIPPED | SKIPPED | SKIPPED | SKIPPED | +---------------------+-------------------------+--------------------+-------------------+----------------------+-------------------+------------------+ | FreeBSD 14.2 | SKIPPED | PASS | SKIPPED | SKIPPED | SKIPPED | SKIPPED | +---------------------+-------------------------+--------------------+-------------------+----------------------+-------------------+------------------+ | CentOS Stream 9 | SKIPPED | PASS | SKIPPED | SKIPPED | WARN | SKIPPED | +---------------------+-------------------------+--------------------+-------------------+----------------------+-------------------+------------------+ | CentOS Stream 10 | SKIPPED | PASS | SKIPPED | SKIPPED | SKIPPED | SKIPPED | +---------------------+-------------------------+--------------------+-------------------+----------------------+-------------------+------------------+ | Debian GNU/Linux 12 | SKIPPED | PASS | SKIPPED | SKIPPED | WARN | SKIPPED | +---------------------+-------------------------+--------------------+-------------------+----------------------+-------------------+------------------+ | Fedora Linux 42 | SKIPPED | PASS | SKIPPED | SKIPPED | WARN | PASS | +---------------------+-------------------------+--------------------+-------------------+----------------------+-------------------+------------------+ ==== 20 line log output for Fedora Linux 42 (dpdk_compile_spdk): ==== --- Failed to get log output --- ==== End log output ==== Windows Server 2022 Kernel: 10.0.20348.2031 Compiler: clang 15.0.7, gcc 14.1.0 (MinGW), and MSVC VS 19.39.33521 Ubuntu 20.04 Kernel: 4.19 Compiler: gcc gcc (Ubuntu 9.4.0-1ubuntu1~20.04.2) 9.4.0 FreeBSD 14.2 Kernel: 14.2-RELEASE Compiler: clang 18.1.6 CentOS Stream 9 Kernel: 5.15 Compiler: gcc gcc (GCC) 11.5.0 20240719 (Red Hat 11.5.0-11) CentOS Stream 10 Kernel: 5.15 Compiler: gcc gcc (GCC) 14.2.1 20250110 (Red Hat 14.2.1-8) Debian GNU/Linux 12 Kernel: 5.15 Compiler: gcc gcc (Debian 12.2.0-14+deb12u1) 12.2.0 Fedora Linux 42 Kernel: 5.15 Compiler: clang gcc (GCC) 15.2.1 20250808 (Red Hat 15.2.1-1) To view detailed results, visit: https://lab.dpdk.org/results/dashboard/tarballs/35266/ UNH-IOL DPDK Community Lab To manage your email subscriptions, visit: https://lab.dpdk.org/results/dashboard/preferences/subscriptions/