From mboxrd@z Thu Jan 1 00:00:00 1970 Return-Path: Received: from mails.dpdk.org (mails.dpdk.org [217.70.189.124]) by inbox.dpdk.org (Postfix) with ESMTP id DB6A44896E for ; Sat, 18 Oct 2025 13:36:29 +0200 (CEST) Received: from mails.dpdk.org (localhost [127.0.0.1]) by mails.dpdk.org (Postfix) with ESMTP id B1D8D4013F; Sat, 18 Oct 2025 13:36:29 +0200 (CEST) Received: from mail-oo1-f99.google.com (mail-oo1-f99.google.com [209.85.161.99]) by mails.dpdk.org (Postfix) with ESMTP id 3653F4013F for ; Sat, 18 Oct 2025 13:36:29 +0200 (CEST) Received: by mail-oo1-f99.google.com with SMTP id 006d021491bc7-651cf582068so583657eaf.0 for ; Sat, 18 Oct 2025 04:36:29 -0700 (PDT) DKIM-Signature: v=1; a=rsa-sha256; c=relaxed/relaxed; d=iol.unh.edu; s=unh-iol; t=1760787388; x=1761392188; darn=dpdk.org; h=references:in-reply-to:cc:to:from:subject:message-id:date:from:to :cc:subject:date:message-id:reply-to; bh=gqTHIesCRHm85yTXswx3jA+EfKH/lOSdstgZieZW0M4=; b=SkOOx/r6tPFjjJLCyB0K+eTPcDLXeWfAd4To0+UGnAvO85458gqdeePioHnlVksvcJ EeuC1XHy+drrDZbiVSXptunwI9DX8CsQ2kXH+1NZe8rnuMlesqXJiWWwcagyAoiQbumL DstbkSux4bUheNFagI0fUsMkue3GeI/Mifilg= X-Google-DKIM-Signature: v=1; a=rsa-sha256; c=relaxed/relaxed; d=1e100.net; s=20230601; t=1760787388; x=1761392188; h=references:in-reply-to:cc:to:from:subject:message-id:date :x-gm-message-state:from:to:cc:subject:date:message-id:reply-to; bh=gqTHIesCRHm85yTXswx3jA+EfKH/lOSdstgZieZW0M4=; b=rf0sTDMMpppGOdKh9Hew3C4QZLontRqrE/SgZKZJ5l6t0nw6EpFrO7GXoWw8TJsi7W gT6Rx0jHdawwkp+fIwTOpSQzNnJVzTuF1y7TCE6xwiKOnsjmXCW3GFZ5TKhHMVP+qbDc hl+LH9k2Qy5MKXQwRgOEIGj4asZP28NDDxs/pKrvTnwhMiE8jsr0DFWuYiVS3jmJ6kxL aIOCZKRj3NwIZCtEKxKVzV76zPyB8t8Fn/yW11hFGX799ppJTc+A5ALb0fWsBDQ0rHZN CpHIHHYMioaQqLhsVWx0cGSzcbMW6EMC2HTRKCuJAeV9WbkDm52d0CCSmtkdhaOloY9s fO5w== X-Gm-Message-State: AOJu0Yz4H1ZMurs6+TbcFfFpL/UdgKKOmV+5UkuabI9BQU9aFOQZwcAA pq8b5uJkstjelme0+lnqrAb4/YbmM2NjL+9BZT0OdVK7yDuqb5JnEK3MwpKEwui8xI+jTa6xCjs cjiTuXuBv3jto6oXhOtD8QPQ9khXiXLmhB6wmWiA3JwtLJNxtutwyOBhnBHhw X-Gm-Gg: ASbGncsW8SDEuI39vzbW6CmugcnOMZBoW1PVa3flM/h4g7G1W3ekd73Cz19qAcAYP0k GBLRJZFyztPEPKuLJAOuD5EIWvP5X6I6UZF7FL38WdgBv8cQDZHS4Pl4IkswdyFaJIH6eaoBQvA 5hQFOdMsNHpu84oS3ToA1n44M+cpHKnRywHSBASqTCPPWGBYtWfYJjEctbcxLajbBU+HBYLO3Pt mf2YPajeGXAuUnZGPh3m8pJQo5HG4hAAvOmWs9bfUbuKrOMSU+ZMf2EcYZQcTV7FleplFGcvB2I pS12G6D0BGt93W2cnxrXfmZV/cM/Gj75Xf4pwJJXUyoqN2m3GWZLLB/emSRanv/fCMasZhM4Jqo 0gZ0P6i+2 X-Google-Smtp-Source: AGHT+IGn9PGxrFKvueRnjriEbAAo1p/5+gxvYSEiOUuq3rqEGRYoDVRqvWw4GvA43+7Vm7I3mvOUdtkHc0yJ X-Received: by 2002:a05:6808:16a6:b0:441:8f74:e74 with SMTP id 5614622812f47-441fb9bbdfdmr4256892b6e.28.1760787388201; Sat, 18 Oct 2025 04:36:28 -0700 (PDT) Received: from postal.iol.unh.edu (postal.iol.unh.edu. [2606:4100:3880:1234::84]) by smtp-relay.gmail.com with ESMTPS id 586e51a60fabf-3c9aefcf11esm237070fac.10.2025.10.18.04.36.28 (version=TLS1_2 cipher=ECDHE-ECDSA-AES128-GCM-SHA256 bits=128/128); Sat, 18 Oct 2025 04:36:28 -0700 (PDT) X-Relaying-Domain: iol.unh.edu Date: Sat, 18 Oct 2025 04:36:28 -0700 (PDT) Message-ID: <68f37bbc.050a0220.3a8c18.a4b7SMTPIN_ADDED_MISSING@mx.google.com> Received: from [172.21.0.2] (unknown [172.18.0.240]) by postal.iol.unh.edu (Postfix) with ESMTP id 422136051830; Sat, 18 Oct 2025 07:36:27 -0400 (EDT) Subject: |SUCCESS| pw157823-157824 [PATCH] [v2,2/2] dts: add QinQ test suite From: dpdklab@iol.unh.edu To: Test Report Cc: dpdk-test-reports@iol.unh.edu In-Reply-To: <20251017203159.557830-2-dmarx@iol.unh.edu> References: <20251017203159.557830-2-dmarx@iol.unh.edu> Content-Type: text/plain X-BeenThere: test-report@dpdk.org X-Mailman-Version: 2.1.29 Precedence: list List-Id: automatic DPDK test reports List-Unsubscribe: , List-Archive: List-Post: List-Help: List-Subscribe: , Errors-To: test-report-bounces@dpdk.org Test-Label: iol-compile-arm64-testing Test-Status: SUCCESS http://dpdk.org/patch/157824 _Testing PASS_ Submitter: Dean Marx Date: Friday, October 17 2025 20:31:59 DPDK git baseline: Repo:dpdk-next-dts Branch: master CommitID:c1a9d3e5a721be9be66f0c4bfd9fa4d6e6af3b98 157823-157824 --> testing pass Upstream job id: Generic-DPDK-Compile-Meson#435674 Test environment and result as below: +------------------------------+--------------------+ | Environment | dpdk_meson_compile | +==============================+====================+ | Red Hat Enterprise Linux 9.5 | PASS | +------------------------------+--------------------+ | Ubuntu 20.04 | PASS | +------------------------------+--------------------+ | Debian GNU/Linux 12 | PASS | +------------------------------+--------------------+ | Fedora Linux 42 | PASS | +------------------------------+--------------------+ | Ubuntu 22.04 | PASS | +------------------------------+--------------------+ | Ubuntu 24.04 | PASS | +------------------------------+--------------------+ | CentOS Stream 9 | PASS | +------------------------------+--------------------+ | CentOS Stream 10 | PASS | +------------------------------+--------------------+ Red Hat Enterprise Linux 9.5 Kernel: 5.4 Compiler: gcc gcc (GCC) 11.5.0 20240719 (Red Hat 11.5.0-2) Ubuntu 20.04 Kernel: 5.15 Compiler: aarch64-linux-gnu-gcc gcc (Ubuntu 9.4.0-1ubuntu1~20.04.2) 9.4.0 Debian GNU/Linux 12 Kernel: 5.4 Compiler: gcc gcc (Debian 12.2.0-14+deb12u1) 12.2.0 Fedora Linux 42 Kernel: 5.4 Compiler: gcc gcc (GCC) 15.2.1 20250808 (Red Hat 15.2.1-1) Ubuntu 22.04 Kernel: 5.4 Compiler: gcc gcc (Ubuntu 11.4.0-1ubuntu1~22.04) 11.4.0 Ubuntu 24.04 Kernel: 5.4 Compiler: gcc gcc (Ubuntu 13.3.0-6ubuntu2~24.04) 13.3.0 CentOS Stream 9 Kernel: 5.4 Compiler: gcc gcc (GCC) 11.5.0 20240719 (Red Hat 11.5.0-11) CentOS Stream 10 Kernel: 5.4 Compiler: gcc gcc (GCC) 14.2.1 20250110 (Red Hat 14.2.1-8) To view detailed results, visit: https://lab.dpdk.org/results/dashboard/patchsets/34322/ UNH-IOL DPDK Community Lab To manage your email subscriptions, visit: https://lab.dpdk.org/results/dashboard/preferences/subscriptions/