automatic DPDK test reports
 help / color / mirror / Atom feed
* |WARNING| [GIT MASTER] 3ae1e87388139b3c92c368203b0885a386eb9295
@ 2025-10-18 12:07 dpdklab
  0 siblings, 0 replies; 3+ messages in thread
From: dpdklab @ 2025-10-18 12:07 UTC (permalink / raw)
  To: Test Report; +Cc: dpdk-test-reports, Stephen Hemminger

_Testing issues_

Branch: dpdk-next-net

3ae1e87388139b3c92c368203b0885a386eb9295 --> testing issues

Upstream job id: Generic-DPDK-Compile-Meson#435793

Test environment and result as below:

+-------------------------------+-------------------------+--------------------+-------------------+----------------------+-------------------+------------------+
|          Environment          | dpdk_llvm_clang_compile | dpdk_meson_compile | dpdk_msvc_compile | dpdk_mingw64_compile | dpdk_compile_spdk | dpdk_compile_ovs |
+===============================+=========================+====================+===================+======================+===================+==================+
| Windows Server 2022           | PASS                    | SKIPPED            | PASS              | PASS                 | SKIPPED           | SKIPPED          |
+-------------------------------+-------------------------+--------------------+-------------------+----------------------+-------------------+------------------+
| Ubuntu 20.04                  | SKIPPED                 | PASS               | SKIPPED           | SKIPPED              | SKIPPED           | SKIPPED          |
+-------------------------------+-------------------------+--------------------+-------------------+----------------------+-------------------+------------------+
| FreeBSD 14.2                  | SKIPPED                 | PASS               | SKIPPED           | SKIPPED              | SKIPPED           | SKIPPED          |
+-------------------------------+-------------------------+--------------------+-------------------+----------------------+-------------------+------------------+
| CentOS Stream 9               | SKIPPED                 | PASS               | SKIPPED           | SKIPPED              | WARN              | SKIPPED          |
+-------------------------------+-------------------------+--------------------+-------------------+----------------------+-------------------+------------------+
| CentOS Stream 10              | SKIPPED                 | PASS               | SKIPPED           | SKIPPED              | SKIPPED           | SKIPPED          |
+-------------------------------+-------------------------+--------------------+-------------------+----------------------+-------------------+------------------+
| Debian GNU/Linux 12           | SKIPPED                 | PASS               | SKIPPED           | SKIPPED              | WARN              | SKIPPED          |
+-------------------------------+-------------------------+--------------------+-------------------+----------------------+-------------------+------------------+
| Fedora Linux 42               | SKIPPED                 | PASS               | SKIPPED           | SKIPPED              | WARN              | PASS             |
+-------------------------------+-------------------------+--------------------+-------------------+----------------------+-------------------+------------------+
| openSUSE Leap 15.6            | SKIPPED                 | PASS               | SKIPPED           | SKIPPED              | SKIPPED           | SKIPPED          |
+-------------------------------+-------------------------+--------------------+-------------------+----------------------+-------------------+------------------+
| Red Hat Enterprise Linux 8.10 | SKIPPED                 | PASS               | SKIPPED           | SKIPPED              | SKIPPED           | SKIPPED          |
+-------------------------------+-------------------------+--------------------+-------------------+----------------------+-------------------+------------------+
| Red Hat Enterprise Linux 9.5  | SKIPPED                 | PASS               | SKIPPED           | SKIPPED              | SKIPPED           | SKIPPED          |
+-------------------------------+-------------------------+--------------------+-------------------+----------------------+-------------------+------------------+
| Ubuntu 22.04                  | SKIPPED                 | PASS               | SKIPPED           | SKIPPED              | WARN              | SKIPPED          |
+-------------------------------+-------------------------+--------------------+-------------------+----------------------+-------------------+------------------+
| Ubuntu 24.04                  | SKIPPED                 | PASS               | SKIPPED           | SKIPPED              | WARN              | PASS             |
+-------------------------------+-------------------------+--------------------+-------------------+----------------------+-------------------+------------------+
| Alpine Linux 3.22.0           | SKIPPED                 | PASS               | SKIPPED           | SKIPPED              | SKIPPED           | SKIPPED          |
+-------------------------------+-------------------------+--------------------+-------------------+----------------------+-------------------+------------------+

==== 20 line log output for Ubuntu 24.04 (dpdk_compile_spdk): ====
 --- Failed to get log output --- 
==== End log output ====

Windows Server 2022
	Kernel: 10.0.20348.2031
	Compiler: clang 15.0.7, gcc 14.1.0 (MinGW), and MSVC VS 19.39.33521

Ubuntu 20.04
	Kernel: 4.19
	Compiler: gcc gcc (Ubuntu 9.4.0-1ubuntu1~20.04.2) 9.4.0

FreeBSD 14.2
	Kernel: 14.2-RELEASE
	Compiler: clang 18.1.6

CentOS Stream 9
	Kernel: 5.15
	Compiler: gcc gcc (GCC) 11.5.0 20240719 (Red Hat 11.5.0-11)

CentOS Stream 10
	Kernel: 5.15
	Compiler: gcc gcc (GCC) 14.2.1 20250110 (Red Hat 14.2.1-8)

Debian GNU/Linux 12
	Kernel: 5.15
	Compiler: gcc gcc (Debian 12.2.0-14+deb12u1) 12.2.0

Fedora Linux 42
	Kernel: 5.15
	Compiler: clang gcc (GCC) 15.2.1 20250808 (Red Hat 15.2.1-1)

openSUSE Leap 15.6
	Kernel: 5.15
	Compiler: gcc gcc (SUSE Linux) 7.5.0

Red Hat Enterprise Linux 8.10
	Kernel: 5.15
	Compiler: gcc gcc (GCC) 8.5.0 20210514 (Red Hat 8.5.0-22)

Red Hat Enterprise Linux 9.5
	Kernel: 5.15
	Compiler: gcc gcc (GCC) 11.5.0 20240719 (Red Hat 11.5.0-2)

Ubuntu 22.04
	Kernel: 5.15
	Compiler: gcc gcc (Ubuntu 11.4.0-1ubuntu1~22.04) 11.4.0

Ubuntu 24.04
	Kernel: 5.15
	Compiler: gcc gcc (Ubuntu 13.3.0-6ubuntu2~24.04) 13.3.0

Alpine Linux 3.22.0
	Kernel: 5.15
	Compiler: gcc gcc (Alpine 14.2.0) 14.2.0

To view detailed results, visit:
https://lab.dpdk.org/results/dashboard/tarballs/35266/

UNH-IOL DPDK Community Lab

To manage your email subscriptions, visit: 
https://lab.dpdk.org/results/dashboard/preferences/subscriptions/

^ permalink raw reply	[flat|nested] 3+ messages in thread

* |WARNING| [GIT MASTER] 3ae1e87388139b3c92c368203b0885a386eb9295
@ 2025-10-18 11:12 dpdklab
  0 siblings, 0 replies; 3+ messages in thread
From: dpdklab @ 2025-10-18 11:12 UTC (permalink / raw)
  To: Test Report; +Cc: dpdk-test-reports, Stephen Hemminger

_Testing issues_

Branch: dpdk-next-net

3ae1e87388139b3c92c368203b0885a386eb9295 --> testing issues

Upstream job id: Generic-DPDK-Compile-Meson#435786

Test environment and result as below:

+---------------------+-------------------------+--------------------+-------------------+----------------------+-------------------+------------------+
|     Environment     | dpdk_llvm_clang_compile | dpdk_meson_compile | dpdk_msvc_compile | dpdk_mingw64_compile | dpdk_compile_spdk | dpdk_compile_ovs |
+=====================+=========================+====================+===================+======================+===================+==================+
| Windows Server 2022 | PASS                    | SKIPPED            | PASS              | PASS                 | SKIPPED           | SKIPPED          |
+---------------------+-------------------------+--------------------+-------------------+----------------------+-------------------+------------------+
| Ubuntu 20.04        | SKIPPED                 | PASS               | SKIPPED           | SKIPPED              | SKIPPED           | SKIPPED          |
+---------------------+-------------------------+--------------------+-------------------+----------------------+-------------------+------------------+
| FreeBSD 14.2        | SKIPPED                 | PASS               | SKIPPED           | SKIPPED              | SKIPPED           | SKIPPED          |
+---------------------+-------------------------+--------------------+-------------------+----------------------+-------------------+------------------+
| CentOS Stream 9     | SKIPPED                 | PASS               | SKIPPED           | SKIPPED              | WARN              | SKIPPED          |
+---------------------+-------------------------+--------------------+-------------------+----------------------+-------------------+------------------+
| CentOS Stream 10    | SKIPPED                 | PASS               | SKIPPED           | SKIPPED              | SKIPPED           | SKIPPED          |
+---------------------+-------------------------+--------------------+-------------------+----------------------+-------------------+------------------+
| Debian GNU/Linux 12 | SKIPPED                 | PASS               | SKIPPED           | SKIPPED              | WARN              | SKIPPED          |
+---------------------+-------------------------+--------------------+-------------------+----------------------+-------------------+------------------+
| Fedora Linux 42     | SKIPPED                 | PASS               | SKIPPED           | SKIPPED              | WARN              | PASS             |
+---------------------+-------------------------+--------------------+-------------------+----------------------+-------------------+------------------+

==== 20 line log output for Fedora Linux 42 (dpdk_compile_spdk): ====
 --- Failed to get log output --- 
==== End log output ====

Windows Server 2022
	Kernel: 10.0.20348.2031
	Compiler: clang 15.0.7, gcc 14.1.0 (MinGW), and MSVC VS 19.39.33521

Ubuntu 20.04
	Kernel: 4.19
	Compiler: gcc gcc (Ubuntu 9.4.0-1ubuntu1~20.04.2) 9.4.0

FreeBSD 14.2
	Kernel: 14.2-RELEASE
	Compiler: clang 18.1.6

CentOS Stream 9
	Kernel: 5.15
	Compiler: gcc gcc (GCC) 11.5.0 20240719 (Red Hat 11.5.0-11)

CentOS Stream 10
	Kernel: 5.15
	Compiler: gcc gcc (GCC) 14.2.1 20250110 (Red Hat 14.2.1-8)

Debian GNU/Linux 12
	Kernel: 5.15
	Compiler: gcc gcc (Debian 12.2.0-14+deb12u1) 12.2.0

Fedora Linux 42
	Kernel: 5.15
	Compiler: clang gcc (GCC) 15.2.1 20250808 (Red Hat 15.2.1-1)

To view detailed results, visit:
https://lab.dpdk.org/results/dashboard/tarballs/35266/

UNH-IOL DPDK Community Lab

To manage your email subscriptions, visit: 
https://lab.dpdk.org/results/dashboard/preferences/subscriptions/

^ permalink raw reply	[flat|nested] 3+ messages in thread

* |WARNING| [GIT MASTER] 3ae1e87388139b3c92c368203b0885a386eb9295
@ 2025-10-18 10:41 dpdklab
  0 siblings, 0 replies; 3+ messages in thread
From: dpdklab @ 2025-10-18 10:41 UTC (permalink / raw)
  To: Test Report; +Cc: dpdk-test-reports, Stephen Hemminger

_Testing issues_

Branch: dpdk-next-net

3ae1e87388139b3c92c368203b0885a386eb9295 --> testing issues

Upstream job id: Generic-DPDK-Compile-Meson#435783

Test environment and result as below:

+---------------------+-------------------------+--------------------+-------------------+----------------------+-------------------+
|     Environment     | dpdk_llvm_clang_compile | dpdk_meson_compile | dpdk_msvc_compile | dpdk_mingw64_compile | dpdk_compile_spdk |
+=====================+=========================+====================+===================+======================+===================+
| Windows Server 2022 | PASS                    | SKIPPED            | PASS              | PASS                 | SKIPPED           |
+---------------------+-------------------------+--------------------+-------------------+----------------------+-------------------+
| Ubuntu 20.04        | SKIPPED                 | PASS               | SKIPPED           | SKIPPED              | SKIPPED           |
+---------------------+-------------------------+--------------------+-------------------+----------------------+-------------------+
| FreeBSD 14.2        | SKIPPED                 | PASS               | SKIPPED           | SKIPPED              | SKIPPED           |
+---------------------+-------------------------+--------------------+-------------------+----------------------+-------------------+
| CentOS Stream 9     | SKIPPED                 | PASS               | SKIPPED           | SKIPPED              | WARN              |
+---------------------+-------------------------+--------------------+-------------------+----------------------+-------------------+

==== 20 line log output for CentOS Stream 9 (dpdk_compile_spdk): ====
 --- Failed to get log output --- 
==== End log output ====

Windows Server 2022
	Kernel: 10.0.20348.2031
	Compiler: clang 15.0.7, gcc 14.1.0 (MinGW), and MSVC VS 19.39.33521

Ubuntu 20.04
	Kernel: 4.19
	Compiler: gcc gcc (Ubuntu 9.4.0-1ubuntu1~20.04.2) 9.4.0

FreeBSD 14.2
	Kernel: 14.2-RELEASE
	Compiler: clang 18.1.6

CentOS Stream 9
	Kernel: 5.15
	Compiler: gcc gcc (GCC) 11.5.0 20240719 (Red Hat 11.5.0-11)

To view detailed results, visit:
https://lab.dpdk.org/results/dashboard/tarballs/35266/

UNH-IOL DPDK Community Lab

To manage your email subscriptions, visit: 
https://lab.dpdk.org/results/dashboard/preferences/subscriptions/

^ permalink raw reply	[flat|nested] 3+ messages in thread

end of thread, other threads:[~2025-10-18 12:07 UTC | newest]

Thread overview: 3+ messages (download: mbox.gz / follow: Atom feed)
-- links below jump to the message on this page --
2025-10-18 12:07 |WARNING| [GIT MASTER] 3ae1e87388139b3c92c368203b0885a386eb9295 dpdklab
  -- strict thread matches above, loose matches on Subject: below --
2025-10-18 11:12 dpdklab
2025-10-18 10:41 dpdklab

This is a public inbox, see mirroring instructions
for how to clone and mirror all data and code used for this inbox;
as well as URLs for NNTP newsgroup(s).