From mboxrd@z Thu Jan 1 00:00:00 1970 Return-Path: Received: from mails.dpdk.org (mails.dpdk.org [217.70.189.124]) by inbox.dpdk.org (Postfix) with ESMTP id 6131C4896E for ; Sat, 18 Oct 2025 14:07:26 +0200 (CEST) Received: from mails.dpdk.org (localhost [127.0.0.1]) by mails.dpdk.org (Postfix) with ESMTP id 320CB4013F; Sat, 18 Oct 2025 14:07:26 +0200 (CEST) Received: from mail-yx1-f97.google.com (mail-yx1-f97.google.com [74.125.224.97]) by mails.dpdk.org (Postfix) with ESMTP id 730684013F for ; Sat, 18 Oct 2025 14:07:25 +0200 (CEST) Received: by mail-yx1-f97.google.com with SMTP id 956f58d0204a3-63e18577613so1972649d50.3 for ; Sat, 18 Oct 2025 05:07:25 -0700 (PDT) DKIM-Signature: v=1; a=rsa-sha256; c=relaxed/relaxed; d=iol.unh.edu; s=unh-iol; t=1760789244; x=1761394044; darn=dpdk.org; h=cc:to:from:subject:message-id:date:from:to:cc:subject:date :message-id:reply-to; bh=4WKHa5kzdVw4KM1Rn3q90KwDTir2e/91k+7ehdbS6JU=; b=USXSfIvtF74zc6JEto82Uzt1G0e9KHe4VhrY4/enVTB7SRpLlLNUDQbXe4+A8UdS2L RFdiHwqmW3uKSDzwdy/I/Gs+LJHy1XOIWriNYfWanIB/yWm9iIx901bBpYm0o/Xfa2d+ HFQrN1cH42mtZHIj1pH9vxH1uD9oIei08qT2M= X-Google-DKIM-Signature: v=1; a=rsa-sha256; c=relaxed/relaxed; d=1e100.net; s=20230601; t=1760789244; x=1761394044; h=cc:to:from:subject:message-id:date:x-gm-message-state:from:to:cc :subject:date:message-id:reply-to; bh=4WKHa5kzdVw4KM1Rn3q90KwDTir2e/91k+7ehdbS6JU=; b=XtJsr5zEDmifMLOJUkPN7q6vHraA6hbBDHklVSHwx7rPb7khR56e6HaYS9KA6JieWV 4Qgwa2CWOvrEPErMA5PC7G80fJma5P3fWYm0kZwBBCgF1KaOQnAZjfEfdaJV8/6df6gB MaYhoFST2hFvBLgZzY0Q1or+GtG8BKfyRPd8gG5SbL7cCphRD8f8+3mfM6fSuaWh2NrI 2LyE2a0Xc+8d0PkUvVH1HPFAxEu6hHuYKoXULumFtPnU5d+DVjlKeiBtVdDOsMLcRM2g wUoLfrsSUW1/XusLz0Iy5W2BZLRVmEFuvC2UmBhdecVlYSM4xUN8alJZ5RonJb13SZZS dTsQ== X-Gm-Message-State: AOJu0YyO+YxPIAiQ1dvJVwIGyggQXIQ5bw7WU4nfVXLc+TS4M9ZfA8jk t6nbIZrZGhafOBUyKhh2bcv27PqU3tAB5OfHFFvB8rx45aMGir9EDdyLd9zoOt0Nw/+hp/XptR0 9VvhuYDtZ2m8pM2Nt6cpZfgUK7sV+ABl22Wd83U3XdrMF X-Gm-Gg: ASbGncsDG4lo7FH7WZnde7PiSuLMES08s1qAOWhxomuhDwm/fA6Yttheg/DHp6fTR6D PhrCB/kChMJ2odHIBjEEG3nHyQ2Q3PTc55BQM2Ar0d6YJtGFDxv6WPiTiVuQPt6dQ3lpK258FBY zYJw6tHeHjmwb4LEBPQR3kSJfXl/l1IP5HsrLrcf5LE95ncr3ZwjcESNt6kdVPCwFWt6lrBV8vM LR7mo0ZTz8eqo3gtOdA/avAFX1H/lemRGd3guDBNZyKvgRmCL1iKF5nKWyshGByEZd5ww4JBdHh 6lKU9L60JJC6us7u38+DJ/xE10LawGuy8c5KQo8V4/N0equVtdbr7Pj3Re7ZmXBHwVZrAs7AiMq qjt9+iv2Qe3pWglzVS7uXh0ReaNYCNC8= X-Google-Smtp-Source: AGHT+IEjQRXF7TkYDDc3m6yOqG0yRSlbElcWr5Me2UGHeVL0ZvbZYxlZKbq7kw/S5C2fYdHnUO+WDCGt+QLZ X-Received: by 2002:a05:690e:150b:b0:600:6b82:fd32 with SMTP id 956f58d0204a3-63e1613e342mr6769033d50.20.1760789244470; Sat, 18 Oct 2025 05:07:24 -0700 (PDT) Received: from postal.iol.unh.edu (postal.iol.unh.edu. [132.177.123.84]) by smtp-relay.gmail.com with ESMTPS id 00721157ae682-784674ae45csm1670847b3.23.2025.10.18.05.07.24 (version=TLS1_2 cipher=ECDHE-ECDSA-AES128-GCM-SHA256 bits=128/128); Sat, 18 Oct 2025 05:07:24 -0700 (PDT) X-Relaying-Domain: iol.unh.edu Date: Sat, 18 Oct 2025 05:07:24 -0700 (PDT) Message-ID: <68f382fc.050a0220.13fa68.72c5SMTPIN_ADDED_MISSING@mx.google.com> Received: from [172.21.0.2] (unknown [172.18.0.240]) by postal.iol.unh.edu (Postfix) with ESMTP id CAAF46051830; Sat, 18 Oct 2025 08:07:23 -0400 (EDT) Subject: |WARNING| [GIT MASTER] 3ae1e87388139b3c92c368203b0885a386eb9295 From: dpdklab@iol.unh.edu To: Test Report Cc: dpdk-test-reports@iol.unh.edu, Stephen Hemminger Content-Type: text/plain X-BeenThere: test-report@dpdk.org X-Mailman-Version: 2.1.29 Precedence: list List-Id: automatic DPDK test reports List-Unsubscribe: , List-Archive: List-Post: List-Help: List-Subscribe: , Errors-To: test-report-bounces@dpdk.org _Testing issues_ Branch: dpdk-next-net 3ae1e87388139b3c92c368203b0885a386eb9295 --> testing issues Upstream job id: Generic-DPDK-Compile-Meson#435793 Test environment and result as below: +-------------------------------+-------------------------+--------------------+-------------------+----------------------+-------------------+------------------+ | Environment | dpdk_llvm_clang_compile | dpdk_meson_compile | dpdk_msvc_compile | dpdk_mingw64_compile | dpdk_compile_spdk | dpdk_compile_ovs | +===============================+=========================+====================+===================+======================+===================+==================+ | Windows Server 2022 | PASS | SKIPPED | PASS | PASS | SKIPPED | SKIPPED | +-------------------------------+-------------------------+--------------------+-------------------+----------------------+-------------------+------------------+ | Ubuntu 20.04 | SKIPPED | PASS | SKIPPED | SKIPPED | SKIPPED | SKIPPED | +-------------------------------+-------------------------+--------------------+-------------------+----------------------+-------------------+------------------+ | FreeBSD 14.2 | SKIPPED | PASS | SKIPPED | SKIPPED | SKIPPED | SKIPPED | +-------------------------------+-------------------------+--------------------+-------------------+----------------------+-------------------+------------------+ | CentOS Stream 9 | SKIPPED | PASS | SKIPPED | SKIPPED | WARN | SKIPPED | +-------------------------------+-------------------------+--------------------+-------------------+----------------------+-------------------+------------------+ | CentOS Stream 10 | SKIPPED | PASS | SKIPPED | SKIPPED | SKIPPED | SKIPPED | +-------------------------------+-------------------------+--------------------+-------------------+----------------------+-------------------+------------------+ | Debian GNU/Linux 12 | SKIPPED | PASS | SKIPPED | SKIPPED | WARN | SKIPPED | +-------------------------------+-------------------------+--------------------+-------------------+----------------------+-------------------+------------------+ | Fedora Linux 42 | SKIPPED | PASS | SKIPPED | SKIPPED | WARN | PASS | +-------------------------------+-------------------------+--------------------+-------------------+----------------------+-------------------+------------------+ | openSUSE Leap 15.6 | SKIPPED | PASS | SKIPPED | SKIPPED | SKIPPED | SKIPPED | +-------------------------------+-------------------------+--------------------+-------------------+----------------------+-------------------+------------------+ | Red Hat Enterprise Linux 8.10 | SKIPPED | PASS | SKIPPED | SKIPPED | SKIPPED | SKIPPED | +-------------------------------+-------------------------+--------------------+-------------------+----------------------+-------------------+------------------+ | Red Hat Enterprise Linux 9.5 | SKIPPED | PASS | SKIPPED | SKIPPED | SKIPPED | SKIPPED | +-------------------------------+-------------------------+--------------------+-------------------+----------------------+-------------------+------------------+ | Ubuntu 22.04 | SKIPPED | PASS | SKIPPED | SKIPPED | WARN | SKIPPED | +-------------------------------+-------------------------+--------------------+-------------------+----------------------+-------------------+------------------+ | Ubuntu 24.04 | SKIPPED | PASS | SKIPPED | SKIPPED | WARN | PASS | +-------------------------------+-------------------------+--------------------+-------------------+----------------------+-------------------+------------------+ | Alpine Linux 3.22.0 | SKIPPED | PASS | SKIPPED | SKIPPED | SKIPPED | SKIPPED | +-------------------------------+-------------------------+--------------------+-------------------+----------------------+-------------------+------------------+ ==== 20 line log output for Ubuntu 24.04 (dpdk_compile_spdk): ==== --- Failed to get log output --- ==== End log output ==== Windows Server 2022 Kernel: 10.0.20348.2031 Compiler: clang 15.0.7, gcc 14.1.0 (MinGW), and MSVC VS 19.39.33521 Ubuntu 20.04 Kernel: 4.19 Compiler: gcc gcc (Ubuntu 9.4.0-1ubuntu1~20.04.2) 9.4.0 FreeBSD 14.2 Kernel: 14.2-RELEASE Compiler: clang 18.1.6 CentOS Stream 9 Kernel: 5.15 Compiler: gcc gcc (GCC) 11.5.0 20240719 (Red Hat 11.5.0-11) CentOS Stream 10 Kernel: 5.15 Compiler: gcc gcc (GCC) 14.2.1 20250110 (Red Hat 14.2.1-8) Debian GNU/Linux 12 Kernel: 5.15 Compiler: gcc gcc (Debian 12.2.0-14+deb12u1) 12.2.0 Fedora Linux 42 Kernel: 5.15 Compiler: clang gcc (GCC) 15.2.1 20250808 (Red Hat 15.2.1-1) openSUSE Leap 15.6 Kernel: 5.15 Compiler: gcc gcc (SUSE Linux) 7.5.0 Red Hat Enterprise Linux 8.10 Kernel: 5.15 Compiler: gcc gcc (GCC) 8.5.0 20210514 (Red Hat 8.5.0-22) Red Hat Enterprise Linux 9.5 Kernel: 5.15 Compiler: gcc gcc (GCC) 11.5.0 20240719 (Red Hat 11.5.0-2) Ubuntu 22.04 Kernel: 5.15 Compiler: gcc gcc (Ubuntu 11.4.0-1ubuntu1~22.04) 11.4.0 Ubuntu 24.04 Kernel: 5.15 Compiler: gcc gcc (Ubuntu 13.3.0-6ubuntu2~24.04) 13.3.0 Alpine Linux 3.22.0 Kernel: 5.15 Compiler: gcc gcc (Alpine 14.2.0) 14.2.0 To view detailed results, visit: https://lab.dpdk.org/results/dashboard/tarballs/35266/ UNH-IOL DPDK Community Lab To manage your email subscriptions, visit: https://lab.dpdk.org/results/dashboard/preferences/subscriptions/