From mboxrd@z Thu Jan 1 00:00:00 1970 Return-Path: Received: from mails.dpdk.org (mails.dpdk.org [217.70.189.124]) by inbox.dpdk.org (Postfix) with ESMTP id A4F1D4896E for ; Sat, 18 Oct 2025 14:50:08 +0200 (CEST) Received: from mails.dpdk.org (localhost [127.0.0.1]) by mails.dpdk.org (Postfix) with ESMTP id A14D94013F; Sat, 18 Oct 2025 14:50:08 +0200 (CEST) Received: from mail-pf1-f227.google.com (mail-pf1-f227.google.com [209.85.210.227]) by mails.dpdk.org (Postfix) with ESMTP id 246284013F for ; Sat, 18 Oct 2025 14:50:07 +0200 (CEST) Received: by mail-pf1-f227.google.com with SMTP id d2e1a72fcca58-7833765433cso3730066b3a.0 for ; Sat, 18 Oct 2025 05:50:07 -0700 (PDT) DKIM-Signature: v=1; a=rsa-sha256; c=relaxed/relaxed; d=iol.unh.edu; s=unh-iol; t=1760791806; x=1761396606; darn=dpdk.org; h=cc:to:from:subject:message-id:date:from:to:cc:subject:date :message-id:reply-to; bh=WgpZd7bjEiyVyGAxU42xipZIFQIEjPx051YHZBl2fak=; b=hYB4Zjlve/vumu3J3sIdZaXzJiOwzjVZH8hGSIztK+3vlS3bpkmXcXJ6FyKHCuqDoG 3IhDulAPMx+dvawvUUHwrt+kT06/B2eloCTNJgknAUNuU+aMtJRajySO5rCog4g0AIZC 91ZjWjuyfv1VFztah/kLSwsgmyw+p0Lk9lU7E= X-Google-DKIM-Signature: v=1; a=rsa-sha256; c=relaxed/relaxed; d=1e100.net; s=20230601; t=1760791806; x=1761396606; h=cc:to:from:subject:message-id:date:x-gm-message-state:from:to:cc :subject:date:message-id:reply-to; bh=WgpZd7bjEiyVyGAxU42xipZIFQIEjPx051YHZBl2fak=; b=kY72tzHCqmQU6SwZdnOPHyNAz+fbPPqt1sjhcomwCAIUzy0cMSJFVpYYkzJdPdQoI1 QwyI5Nuc4tW0EuyClVUEUkG2PtOAjgQA274dZ+gDesbvSSE+rb36aCiLM0z95W5in1ss nI0pao10WGCRE9nXlds/exUHnMvoRZ/HxQcCySCoJDzU443drktHtrSXh7PtboOvuj1i DMmDzGKnczLCEDe9+ov8AU4CvyYo+rDW5eqqMEAHSiXSZ5cL4FXgGWYQaW5A3hybdEuw KlP4PIGspYyh055t+c4qy4VkuhQ3D75N7o/ji3qCwcf9UhBeQpsCzQWnSHwpbvDHS+s7 wFqg== X-Gm-Message-State: AOJu0YyPOaqJlYAaHHE+7E2EsWLo+Pt3xs1AgXWhOpBlQprNZjeXqQ96 +ZYDdzT3skkOxPXj3KTo0uTfN37349GKPGjn8v7MXmskJsWpyduAfpskP35fUfmyuQDze5iDOen XaMI5gP8R96iGyxk2x4fh3vlsd4vQ6SijKXueokTa/PDX X-Gm-Gg: ASbGnctY3MZIPNbtr6jiJFlihCO9qgoe7gJQYVKw4wycZJVZqdYg59f1CYGsHYlLBff Zv8qjojLx8S5JOw3/iHdJP62V2Zhm0zj/aH3od1uqY4NzZHUdk5anMQWrl4ibX5XUcuvvwJOXyo FXIMZZTe/fkVbyJwc16su+QJbTheb6mgbCCOb2zLpSlb82VePZZdPADLXLqdvLPba0Q/+547rhb JBFnZJ9VvIvv2ol0RRMauhyGAcRkefGtVcil+NddRXolyK+3EieCCA/rGtWxxht4sUJX9/33YBu JWanwh6BqKeeqZF1V/JRWPS4qyIX63n5V0H3yaPO3NLdirpq8qUIoR9D8MjwiCxxEVUPxQT2CdP kt2vpwbzUcgUvG6zSn62Eo4N+u7p0sXo= X-Google-Smtp-Source: AGHT+IGVxRwV64aygtT4ReiKgrUJn0rnfp4q61/pNO5r6UZ6wRB8jRCaRLHuXMrDp4783aEJvF6rw4+E+McE X-Received: by 2002:a05:6a21:730e:b0:334:a901:c052 with SMTP id adf61e73a8af0-334a901c102mr8937850637.0.1760791806364; Sat, 18 Oct 2025 05:50:06 -0700 (PDT) Received: from postal.iol.unh.edu (postal.iol.unh.edu. [132.177.123.84]) by smtp-relay.gmail.com with ESMTPS id 41be03b00d2f7-b6a7667ae9csm217479a12.5.2025.10.18.05.50.06 (version=TLS1_2 cipher=ECDHE-ECDSA-AES128-GCM-SHA256 bits=128/128); Sat, 18 Oct 2025 05:50:06 -0700 (PDT) X-Relaying-Domain: iol.unh.edu Date: Sat, 18 Oct 2025 05:50:06 -0700 (PDT) Message-ID: <68f38cfe.630a0220.34fd1e.8bf0SMTPIN_ADDED_MISSING@mx.google.com> Received: from [172.21.0.3] (unknown [172.18.0.240]) by postal.iol.unh.edu (Postfix) with ESMTP id A02006051830; Sat, 18 Oct 2025 08:50:05 -0400 (EDT) Subject: |SUCCESS| [GIT MASTER] ce93b6d6b1bb030c87db8666c5403402b362cf5c From: dpdklab@iol.unh.edu To: Test Report Cc: dpdk-test-reports@iol.unh.edu, Akhil Goyal Content-Type: text/plain X-BeenThere: test-report@dpdk.org X-Mailman-Version: 2.1.29 Precedence: list List-Id: automatic DPDK test reports List-Unsubscribe: , List-Archive: List-Post: List-Help: List-Subscribe: , Errors-To: test-report-bounces@dpdk.org _Testing PASS_ Branch: dpdk-next-crypto ce93b6d6b1bb030c87db8666c5403402b362cf5c --> testing pass Upstream job id: Generic-DPDK-Compile-Meson#435653 Test environment and result as below: +------------------------------+--------------------+ | Environment | dpdk_meson_compile | +==============================+====================+ | Red Hat Enterprise Linux 9.5 | PASS | +------------------------------+--------------------+ | Ubuntu 20.04 | PASS | +------------------------------+--------------------+ | Debian GNU/Linux 12 | PASS | +------------------------------+--------------------+ | Fedora Linux 42 | PASS | +------------------------------+--------------------+ | Ubuntu 22.04 | PASS | +------------------------------+--------------------+ | Ubuntu 24.04 | PASS | +------------------------------+--------------------+ | CentOS Stream 9 | PASS | +------------------------------+--------------------+ | CentOS Stream 10 | PASS | +------------------------------+--------------------+ Red Hat Enterprise Linux 9.5 Kernel: 5.4 Compiler: gcc gcc (GCC) 11.5.0 20240719 (Red Hat 11.5.0-2) Ubuntu 20.04 Kernel: 5.15 Compiler: aarch64-linux-gnu-gcc gcc (Ubuntu 9.4.0-1ubuntu1~20.04.2) 9.4.0 Debian GNU/Linux 12 Kernel: 5.4 Compiler: gcc gcc (Debian 12.2.0-14+deb12u1) 12.2.0 Fedora Linux 42 Kernel: 5.4 Compiler: gcc gcc (GCC) 15.2.1 20250808 (Red Hat 15.2.1-1) Ubuntu 22.04 Kernel: 5.4 Compiler: gcc gcc (Ubuntu 11.4.0-1ubuntu1~22.04) 11.4.0 Ubuntu 24.04 Kernel: 5.4 Compiler: gcc gcc (Ubuntu 13.3.0-6ubuntu2~24.04) 13.3.0 CentOS Stream 9 Kernel: 5.4 Compiler: gcc gcc (GCC) 11.5.0 20240719 (Red Hat 11.5.0-11) CentOS Stream 10 Kernel: 5.4 Compiler: gcc gcc (GCC) 14.2.1 20250110 (Red Hat 14.2.1-8) To view detailed results, visit: https://lab.dpdk.org/results/dashboard/tarballs/35260/ UNH-IOL DPDK Community Lab To manage your email subscriptions, visit: https://lab.dpdk.org/results/dashboard/preferences/subscriptions/