From mboxrd@z Thu Jan 1 00:00:00 1970 Return-Path: Received: from mails.dpdk.org (mails.dpdk.org [217.70.189.124]) by inbox.dpdk.org (Postfix) with ESMTP id B31B44896E for ; Sat, 18 Oct 2025 14:50:18 +0200 (CEST) Received: from mails.dpdk.org (localhost [127.0.0.1]) by mails.dpdk.org (Postfix) with ESMTP id AB92C4013F; Sat, 18 Oct 2025 14:50:18 +0200 (CEST) Received: from mail-pj1-f97.google.com (mail-pj1-f97.google.com [209.85.216.97]) by mails.dpdk.org (Postfix) with ESMTP id CBE394013F for ; Sat, 18 Oct 2025 14:50:17 +0200 (CEST) Received: by mail-pj1-f97.google.com with SMTP id 98e67ed59e1d1-33ba5fc3359so2898594a91.3 for ; Sat, 18 Oct 2025 05:50:17 -0700 (PDT) DKIM-Signature: v=1; a=rsa-sha256; c=relaxed/relaxed; d=iol.unh.edu; s=unh-iol; t=1760791817; x=1761396617; darn=dpdk.org; h=cc:to:from:subject:message-id:date:from:to:cc:subject:date :message-id:reply-to; bh=SaH6H6KaF33MWGsfzfc1bw/Bmu18dkdSwFXoq1ByPKg=; b=A74wN+FDAilUner49pW6mgs3N5Mp6ePdjt03XOy+ysHUhaziiQ1c4Mlr2grl34Hv5d H+EPJ5L7zFHm4OxW0skqXyTb5C8OgXnSPab+FdwLY6TxgQvRkI3gF9g5NjmQsx/xyL6I LQkDh5ee70MGlNO8c+hDnylD6j/ZhWLZU1dOw= X-Google-DKIM-Signature: v=1; a=rsa-sha256; c=relaxed/relaxed; d=1e100.net; s=20230601; t=1760791817; x=1761396617; h=cc:to:from:subject:message-id:date:x-gm-message-state:from:to:cc :subject:date:message-id:reply-to; bh=SaH6H6KaF33MWGsfzfc1bw/Bmu18dkdSwFXoq1ByPKg=; b=o5yW3YVh127Dc2+5VugSKiEZD/TOa3Akt6iqNyM+XEDZTnviIytQ4qZkmj0ma1rzhO Rtu9PO9AS2pv8rk7aap4hBeqTPZ08DbfTkm4dwBZkxdtzcL3/2LSBCyKQ4ex/VOA2sWU oia5ZVOfxwN7Kx7RKSVTElsXHW3lAaj6yC/Fo7PCfzLizkMDmF14ZuNi9lmRMYQOoqMx dqou5CkQpbFkzRd9Q5Lc1VPmmoXKWT2cmfR2Sk7C1q5fTGRf/3XmTnoDMXHMhIRmChB8 qW6UF+kF+AOxCGpp5eIGl6QsFs6g/Ob6ApIJupxSqSUDiLdTqLX4Zyo2G5yHlS5ph5fG B6vQ== X-Gm-Message-State: AOJu0Yw4LKJutLnFhpaD99bidTF0JkqFuFvdwVA1N52tHpahuoV1ubM2 fTzZkrpj6JJ9ZwulG9GUPJGPMlSqb2hnzfTWJSR1+u8eG66QOt9IcFKI4r7HwSbwPvNySu344bJ UXVojJaBclHV+qvejsiYQO1V733I4lH9AGuBw5hTc5hoy8y56kAx1mxXf9jBB X-Gm-Gg: ASbGncv2YhMT7q+5aQRfdepFAxQjo8lFL2RKPpXVj1URyKcs3mbMrwKU9O2vLRkstIY Aw8BhyIWj2pRr1/UxpxiPX70IvzZvzzmVQZ0WpQTA56cBl6/FM9OiRWDGMFLmMUtFDOL7a0mA4l 6T3nh8lY9vBkcGdPCcw3MFI0IGSTU4a3RqiFIwACAFIA2DPrsLP/ypLEXB8qeia8SGi8orO4ozs 4U2HGNaIWot201AzSCGH19WZZTGpjSlK/p5pnriBLHG+3tmC65GgG08E6mxbUiPLZRkpS49n2Aq S19NkA/izS2lka4faAQ9N0IMbqisNuQK7WPxwLQa5wGfKSpzRauMa1A3VmUHXAXLXAEl/yfd1vU NuG4SbGBK X-Google-Smtp-Source: AGHT+IGr7Pf2VNv30B0aAJs/wD+zI6qrxGt4UfF72Wot7BMYp1p+vPpVxw/8VZMF4My1tArskqWY5KpB1yid X-Received: by 2002:a17:90b:5291:b0:32e:859:c79 with SMTP id 98e67ed59e1d1-33bcec1ab25mr9119046a91.0.1760791816810; Sat, 18 Oct 2025 05:50:16 -0700 (PDT) Received: from postal.iol.unh.edu (postal.iol.unh.edu. [2606:4100:3880:1234::84]) by smtp-relay.gmail.com with ESMTPS id 98e67ed59e1d1-33d5ddf37ecsm227238a91.1.2025.10.18.05.50.16 (version=TLS1_2 cipher=ECDHE-ECDSA-AES128-GCM-SHA256 bits=128/128); Sat, 18 Oct 2025 05:50:16 -0700 (PDT) X-Relaying-Domain: iol.unh.edu Date: Sat, 18 Oct 2025 05:50:16 -0700 (PDT) Message-ID: <68f38d08.170a0220.11ede5.9687SMTPIN_ADDED_MISSING@mx.google.com> Received: from [172.21.0.2] (unknown [172.18.0.240]) by postal.iol.unh.edu (Postfix) with ESMTP id 1DDFA6051830; Sat, 18 Oct 2025 08:50:16 -0400 (EDT) Subject: |SUCCESS| [GIT MASTER] ce93b6d6b1bb030c87db8666c5403402b362cf5c From: dpdklab@iol.unh.edu To: Test Report Cc: dpdk-test-reports@iol.unh.edu, Akhil Goyal Content-Type: text/plain X-BeenThere: test-report@dpdk.org X-Mailman-Version: 2.1.29 Precedence: list List-Id: automatic DPDK test reports List-Unsubscribe: , List-Archive: List-Post: List-Help: List-Subscribe: , Errors-To: test-report-bounces@dpdk.org _Testing PASS_ Branch: dpdk-next-crypto ce93b6d6b1bb030c87db8666c5403402b362cf5c --> testing pass Upstream job id: Generic-DPDK-Compile-Meson#435652 Test environment and result as below: +------------------------------+--------------------+ | Environment | dpdk_meson_compile | +==============================+====================+ | Red Hat Enterprise Linux 9.5 | PASS | +------------------------------+--------------------+ | Ubuntu 20.04 | PASS | +------------------------------+--------------------+ | Debian GNU/Linux 12 | PASS | +------------------------------+--------------------+ | Fedora Linux 42 | PASS | +------------------------------+--------------------+ | Ubuntu 22.04 | PASS | +------------------------------+--------------------+ | Ubuntu 24.04 | PASS | +------------------------------+--------------------+ | CentOS Stream 9 | PASS | +------------------------------+--------------------+ | CentOS Stream 10 | PASS | +------------------------------+--------------------+ Red Hat Enterprise Linux 9.5 Kernel: 5.4 Compiler: gcc gcc (GCC) 11.5.0 20240719 (Red Hat 11.5.0-2) Ubuntu 20.04 Kernel: 5.15 Compiler: aarch64-linux-gnu-gcc gcc (Ubuntu 9.4.0-1ubuntu1~20.04.2) 9.4.0 Debian GNU/Linux 12 Kernel: 5.4 Compiler: gcc gcc (Debian 12.2.0-14+deb12u1) 12.2.0 Fedora Linux 42 Kernel: 5.4 Compiler: gcc gcc (GCC) 15.2.1 20250808 (Red Hat 15.2.1-1) Ubuntu 22.04 Kernel: 5.4 Compiler: gcc gcc (Ubuntu 11.4.0-1ubuntu1~22.04) 11.4.0 Ubuntu 24.04 Kernel: 5.4 Compiler: gcc gcc (Ubuntu 13.3.0-6ubuntu2~24.04) 13.3.0 CentOS Stream 9 Kernel: 5.4 Compiler: gcc gcc (GCC) 11.5.0 20240719 (Red Hat 11.5.0-11) CentOS Stream 10 Kernel: 5.4 Compiler: gcc gcc (GCC) 14.2.1 20250110 (Red Hat 14.2.1-8) To view detailed results, visit: https://lab.dpdk.org/results/dashboard/tarballs/35260/ UNH-IOL DPDK Community Lab To manage your email subscriptions, visit: https://lab.dpdk.org/results/dashboard/preferences/subscriptions/