From mboxrd@z Thu Jan 1 00:00:00 1970 Return-Path: Received: from mails.dpdk.org (mails.dpdk.org [217.70.189.124]) by inbox.dpdk.org (Postfix) with ESMTP id E82B34896E for ; Sat, 18 Oct 2025 15:02:13 +0200 (CEST) Received: from mails.dpdk.org (localhost [127.0.0.1]) by mails.dpdk.org (Postfix) with ESMTP id B8C864013F; Sat, 18 Oct 2025 15:02:13 +0200 (CEST) Received: from mail-il1-f228.google.com (mail-il1-f228.google.com [209.85.166.228]) by mails.dpdk.org (Postfix) with ESMTP id 64D6D4013F for ; Sat, 18 Oct 2025 15:02:12 +0200 (CEST) Received: by mail-il1-f228.google.com with SMTP id e9e14a558f8ab-430c97cbe0eso12739895ab.2 for ; Sat, 18 Oct 2025 06:02:12 -0700 (PDT) DKIM-Signature: v=1; a=rsa-sha256; c=relaxed/relaxed; d=iol.unh.edu; s=unh-iol; t=1760792531; x=1761397331; darn=dpdk.org; h=references:in-reply-to:cc:to:from:subject:message-id:date:from:to :cc:subject:date:message-id:reply-to; bh=HsfHMVYcBj3Gkxuv3DFGWxIe4DBf658Ki5NGTso2AF8=; b=W7yUe1quIoit57AGa893XovB1BjSX933tfG6mTeeGsFQ6CziZXkPMLy9mIxb4y/HuN 2OED5wI7KBRqzyLZl1xPvCyEPHbaN/ZuFsQEjLDGOhuOO5Z5n3jW2HJMxlX+JOOT0ZhF inl+LeENWYM3KsUG3/GPQ8WZuvXZ7K1yAC4GU= X-Google-DKIM-Signature: v=1; a=rsa-sha256; c=relaxed/relaxed; d=1e100.net; s=20230601; t=1760792531; x=1761397331; h=references:in-reply-to:cc:to:from:subject:message-id:date :x-gm-message-state:from:to:cc:subject:date:message-id:reply-to; bh=HsfHMVYcBj3Gkxuv3DFGWxIe4DBf658Ki5NGTso2AF8=; b=VE+jlyd8a5HqjYaBxlBAFvA7P6CYPg20JN9vvjt13+Yvvv4s643hScQXlV8m5ugx57 W94r+kV1RdpN0Boyzlxa0lnzUhs+5pF/bcpgdQaRHIffbDPT5HxI+Lpq3ERV8h6kWjdv DXUBVSxJDtqEv/4zCQoBESjOw0q5DDqzhb8G8q2NO09Pg38Sn+V29004GqxNxrTPGenP JUbhsrjkLMeVIVbNG63QNpw80aqyUp0Gi9SdHtAxfC+JTf1nwOLuDvyZvBeB/ENtFPIY LZBgmHogQ0XDDqnA/uiNlns2YLBFgU8WyMLfsehFbk17t33pWGnNAIHN1CE1QTxJMuyE uxMA== X-Gm-Message-State: AOJu0Yyz9q/o1FOIhNiTejuZgQrKkohGbDp3rStdfY94+ZFS6LPYXF57 36xoODyhz+BuUAKGkugn1AEs53ZmIDBI+d4D98AA7R4ee0mfv0hoz25/ZC/NhLtS2Z+03NIDIJm uk460Df1hliyfWrKnTl/Mps1e6Md9psB336rrjCoWZC/4QtQ5uGfcDpuZDibJ X-Gm-Gg: ASbGncvXPVwVVlWErmEIDOETVBWO7fF0hDPXTaXQzkkh1ap0N3Ynb8U1FdJMsgxy5J6 9FFJddyuCvjbFal7F6IStllHIzXulce5qfsl8ZUQ0Ghd+ZwVG5FlcGV4WZKIkYypx89Pme9Cd4P yrfTP25gSAkWNzVBKeFaAWvICe4gRXH0VLZJqvlibRiMzEzE2T6JUx56/IZHdIdKNKPeLW1dNRa 5fcRceHnVZBEIkYr7jEag+WK8A7k15pR2klzNHrco5TJ3z/dDwBR6lLmYqotyg4CjQRuDV5lEhw 1FKUBoTm1w1cazlkMyL7+x1RyQslnpI42GcqyhBg53n5AvYk1IUTDojoaZR6U1Mo0B2Bj6IA2nA IiS+t07PA X-Google-Smtp-Source: AGHT+IGy8mylPUPv2e3rnCItIT7UZk/sV8UPed1/VcbZP/AFV2TtjzYqcgHLubhOWMadq6B6qNse/AJKNV+d X-Received: by 2002:a05:6e02:156c:b0:430:b32d:c1a1 with SMTP id e9e14a558f8ab-430c524e127mr107298675ab.7.1760792531539; Sat, 18 Oct 2025 06:02:11 -0700 (PDT) Received: from postal.iol.unh.edu (postal.iol.unh.edu. [2606:4100:3880:1234::84]) by smtp-relay.gmail.com with ESMTPS id e9e14a558f8ab-430d07a5069sm2314825ab.23.2025.10.18.06.02.11 (version=TLS1_2 cipher=ECDHE-ECDSA-AES128-GCM-SHA256 bits=128/128); Sat, 18 Oct 2025 06:02:11 -0700 (PDT) X-Relaying-Domain: iol.unh.edu Date: Sat, 18 Oct 2025 06:02:11 -0700 (PDT) Message-ID: <68f38fd3.050a0220.295a07.9a2bSMTPIN_ADDED_MISSING@mx.google.com> Received: from [172.21.0.2] (unknown [172.18.0.240]) by postal.iol.unh.edu (Postfix) with ESMTP id 10B616051830; Sat, 18 Oct 2025 09:02:11 -0400 (EDT) Subject: |WARNING| pw157825 [PATCH] [v2] test/ring_perf: add optional cross L From: dpdklab@iol.unh.edu To: Test Report Cc: dpdk-test-reports@iol.unh.edu In-Reply-To: <20251018064831.1153059-1-sivaprasad.tummala@amd.com> References: <20251018064831.1153059-1-sivaprasad.tummala@amd.com> Content-Type: text/plain X-BeenThere: test-report@dpdk.org X-Mailman-Version: 2.1.29 Precedence: list List-Id: automatic DPDK test reports List-Unsubscribe: , List-Archive: List-Post: List-Help: List-Subscribe: , Errors-To: test-report-bounces@dpdk.org Test-Label: iol-compile-amd64-testing Test-Status: WARNING http://dpdk.org/patch/157825 _Testing issues_ Submitter: Sivaprasad Tummala Date: Saturday, October 18 2025 06:48:27 DPDK git baseline: Repo:dpdk Branch: master CommitID:fd6bb586ca832c0cd6a84bcf7123a6063b3ae133 157825 --> testing issues Upstream job id: Generic-DPDK-Compile-Meson#435826 Test environment and result as below: +-------------------------------+-------------------------+--------------------+-------------------+----------------------+-------------------+------------------+ | Environment | dpdk_llvm_clang_compile | dpdk_meson_compile | dpdk_msvc_compile | dpdk_mingw64_compile | dpdk_compile_spdk | dpdk_compile_ovs | +===============================+=========================+====================+===================+======================+===================+==================+ | Windows Server 2022 | PASS | SKIPPED | PASS | PASS | SKIPPED | SKIPPED | +-------------------------------+-------------------------+--------------------+-------------------+----------------------+-------------------+------------------+ | Ubuntu 20.04 | SKIPPED | PASS | SKIPPED | SKIPPED | SKIPPED | SKIPPED | +-------------------------------+-------------------------+--------------------+-------------------+----------------------+-------------------+------------------+ | FreeBSD 14.2 | SKIPPED | PASS | SKIPPED | SKIPPED | SKIPPED | SKIPPED | +-------------------------------+-------------------------+--------------------+-------------------+----------------------+-------------------+------------------+ | CentOS Stream 9 | SKIPPED | PEND | SKIPPED | SKIPPED | PEND | SKIPPED | +-------------------------------+-------------------------+--------------------+-------------------+----------------------+-------------------+------------------+ | CentOS Stream 10 | SKIPPED | PASS | SKIPPED | SKIPPED | SKIPPED | SKIPPED | +-------------------------------+-------------------------+--------------------+-------------------+----------------------+-------------------+------------------+ | Debian GNU/Linux 12 | SKIPPED | PASS | SKIPPED | SKIPPED | WARN | SKIPPED | +-------------------------------+-------------------------+--------------------+-------------------+----------------------+-------------------+------------------+ | Fedora Linux 42 | SKIPPED | PEND | SKIPPED | SKIPPED | PEND | PEND | +-------------------------------+-------------------------+--------------------+-------------------+----------------------+-------------------+------------------+ | openSUSE Leap 15.6 | SKIPPED | PEND | SKIPPED | SKIPPED | SKIPPED | SKIPPED | +-------------------------------+-------------------------+--------------------+-------------------+----------------------+-------------------+------------------+ | Red Hat Enterprise Linux 8.10 | SKIPPED | PEND | SKIPPED | SKIPPED | SKIPPED | SKIPPED | +-------------------------------+-------------------------+--------------------+-------------------+----------------------+-------------------+------------------+ ==== 20 line log output for Debian GNU/Linux 12 (dpdk_compile_spdk): ==== --- Failed to get log output --- ==== End log output ==== Windows Server 2022 Kernel: 10.0.20348.2031 Compiler: clang 15.0.7, gcc 14.1.0 (MinGW), and MSVC VS 19.39.33521 Ubuntu 20.04 Kernel: 4.19 Compiler: gcc gcc (Ubuntu 9.4.0-1ubuntu1~20.04.2) 9.4.0 FreeBSD 14.2 Kernel: 14.2-RELEASE Compiler: clang 18.1.6 CentOS Stream 9 Kernel: 5.15 Compiler: gcc gcc (GCC) 11.5.0 20240719 (Red Hat 11.5.0-11) CentOS Stream 10 Kernel: 5.15 Compiler: gcc gcc (GCC) 14.2.1 20250110 (Red Hat 14.2.1-8) Debian GNU/Linux 12 Kernel: 5.15 Compiler: gcc gcc (Debian 12.2.0-14+deb12u1) 12.2.0 Fedora Linux 42 Kernel: 5.15 Compiler: clang gcc (GCC) 15.2.1 20250808 (Red Hat 15.2.1-1) openSUSE Leap 15.6 Kernel: 5.15 Compiler: gcc gcc (SUSE Linux) 7.5.0 Red Hat Enterprise Linux 8.10 Kernel: 5.15 Compiler: gcc gcc (GCC) 8.5.0 20210514 (Red Hat 8.5.0-22) To view detailed results, visit: https://lab.dpdk.org/results/dashboard/patchsets/34323/ UNH-IOL DPDK Community Lab To manage your email subscriptions, visit: https://lab.dpdk.org/results/dashboard/preferences/subscriptions/