From mboxrd@z Thu Jan 1 00:00:00 1970 Return-Path: Received: from mails.dpdk.org (mails.dpdk.org [217.70.189.124]) by inbox.dpdk.org (Postfix) with ESMTP id E5F9C4896E for ; Sat, 18 Oct 2025 15:27:45 +0200 (CEST) Received: from mails.dpdk.org (localhost [127.0.0.1]) by mails.dpdk.org (Postfix) with ESMTP id C5C854013F; Sat, 18 Oct 2025 15:27:45 +0200 (CEST) Received: from mail-qv1-f99.google.com (mail-qv1-f99.google.com [209.85.219.99]) by mails.dpdk.org (Postfix) with ESMTP id 70EA34013F for ; Sat, 18 Oct 2025 15:27:44 +0200 (CEST) Received: by mail-qv1-f99.google.com with SMTP id 6a1803df08f44-87c148fb575so45674346d6.2 for ; Sat, 18 Oct 2025 06:27:44 -0700 (PDT) DKIM-Signature: v=1; a=rsa-sha256; c=relaxed/relaxed; d=iol.unh.edu; s=unh-iol; t=1760794064; x=1761398864; darn=dpdk.org; h=references:in-reply-to:cc:to:from:subject:message-id:date:from:to :cc:subject:date:message-id:reply-to; bh=8leMDbNZO8lI0cnNKz5yvBefPhCmN6QUyYsFXI05ews=; b=Ubzbo3Qd1XOzD+GeWAQp14rOT25hQGy9J7RcOpAS6FIT264TFRpcgnrQUZOE7Ri/7F DE9t7WKj6Tfi6/P4HQRieLzKmGSBL0ptx8JJQIAnSc/RDp7wrGL06jGFFeZy1lirrcUo cDcbwMeXaJOLZhdNd1virTaEAVck1YX3nF2lo= X-Google-DKIM-Signature: v=1; a=rsa-sha256; c=relaxed/relaxed; d=1e100.net; s=20230601; t=1760794064; x=1761398864; h=references:in-reply-to:cc:to:from:subject:message-id:date :x-gm-message-state:from:to:cc:subject:date:message-id:reply-to; bh=8leMDbNZO8lI0cnNKz5yvBefPhCmN6QUyYsFXI05ews=; b=HrjCsQKuW00Ctje356vawIYoKPI58AXCHkqVt90AYqtpjeempUc9E/erg1nYCQ3lZV FmHhsG6kJQrKAxXIljcklTOtjtzRXTBcC89gM9vTsIY80zqrWoHwVUQCrJ0ajf44UJvQ 4Djv2bdHBtlR080h450coicZLbNQPBwrNgP3/NdkKTR71ivDxxSeP7HWAlE4+mxUrz8D iWN+e8tqcKeEdbJdrYoChBXmxMFsYvAJyxPQ31sAAjp0QpYNvFNjbibQAeQSFsYUq0QG QEGnjwMvj6q9Mj6NWuuHpq4VCUiU+iZXFb1ymAW4RSA07LJnjnb1t5OSteA1knZI0IPC 5r+A== X-Gm-Message-State: AOJu0YwMLY/EPTmKgQGrJjUxi9MbuELKBtSLUr7gtZJ3ldcWIbfb00xd i1JtpJuNRg42stMfwb1GJz8vP+TiYjNLUmen1o8B4eF1iPYhkwQSf8AQLaLJEyyDuXEXgOpbZs8 2C9dKr4cQiGFMGk6T8GssTSKQ/22svmm/GbwFAY9aFAF4 X-Gm-Gg: ASbGncvwf2ZjiGhPcqhPFPktpzt1r0JzLNxBLyIaODGGP2NrEewPJ4EAvA9T1PKHMnF C0vcihREw6ezt6ZZzTW8uzjatYv2IVq8xc2VGTBcaFDVtd5gL7sxA0jiMeuVUeJjkTlY+HCcA0P 8NutcOELhOjGszKTS49814Iv4heGyd7IbH2cCQ7szU3UaXOq8EN6pscLpgFHG6QYSQlo9XCRSt9 pz2of5uY4MJ6uXwNxIeeH/eNLy3cMwml26yQiL7t5cBIIjVkTuXE+b8EhMnILtn0n/JOTzDnrud HnLdDzZr4XHy2x+bzV1dTkhftHkhubkW5WeSCX027QrtWPob6XtRgbYhzunNmCxctnn4YVHCnCx gNwo3ZE/2nAPvWUovKqswzcoYB5wqs/E= X-Google-Smtp-Source: AGHT+IHjU6PNjd8uU73+s+pw6SaODDKdCL6ZHtVfkr6xRYL8cY6SDQ+2S+G08IMzTa3hdaqUBM9V+K7FRDOB X-Received: by 2002:a05:6214:2505:b0:87c:165d:bccb with SMTP id 6a1803df08f44-87c205664ffmr97081236d6.16.1760794063625; Sat, 18 Oct 2025 06:27:43 -0700 (PDT) Received: from postal.iol.unh.edu (postal.iol.unh.edu. [132.177.123.84]) by smtp-relay.gmail.com with ESMTPS id 6a1803df08f44-87cf547d569sm2935766d6.18.2025.10.18.06.27.43 (version=TLS1_2 cipher=ECDHE-ECDSA-AES128-GCM-SHA256 bits=128/128); Sat, 18 Oct 2025 06:27:43 -0700 (PDT) X-Relaying-Domain: iol.unh.edu Date: Sat, 18 Oct 2025 06:27:43 -0700 (PDT) Message-ID: <68f395cf.050a0220.25c50f.c800SMTPIN_ADDED_MISSING@mx.google.com> Received: from [172.21.0.2] (unknown [172.18.0.240]) by postal.iol.unh.edu (Postfix) with ESMTP id D30716051830; Sat, 18 Oct 2025 09:27:42 -0400 (EDT) Subject: |WARNING| pw157825 [PATCH] [v2] test/ring_perf: add optional cross L From: dpdklab@iol.unh.edu To: Test Report Cc: dpdk-test-reports@iol.unh.edu In-Reply-To: <20251018064831.1153059-1-sivaprasad.tummala@amd.com> References: <20251018064831.1153059-1-sivaprasad.tummala@amd.com> Content-Type: text/plain X-BeenThere: test-report@dpdk.org X-Mailman-Version: 2.1.29 Precedence: list List-Id: automatic DPDK test reports List-Unsubscribe: , List-Archive: List-Post: List-Help: List-Subscribe: , Errors-To: test-report-bounces@dpdk.org Test-Label: iol-compile-amd64-testing Test-Status: WARNING http://dpdk.org/patch/157825 _Testing issues_ Submitter: Sivaprasad Tummala Date: Saturday, October 18 2025 06:48:27 DPDK git baseline: Repo:dpdk Branch: master CommitID:fd6bb586ca832c0cd6a84bcf7123a6063b3ae133 157825 --> testing issues Upstream job id: Generic-DPDK-Compile-Meson#435829 Test environment and result as below: +-------------------------------+-------------------------+--------------------+-------------------+----------------------+-------------------+------------------+ | Environment | dpdk_llvm_clang_compile | dpdk_meson_compile | dpdk_msvc_compile | dpdk_mingw64_compile | dpdk_compile_spdk | dpdk_compile_ovs | +===============================+=========================+====================+===================+======================+===================+==================+ | Windows Server 2022 | PASS | SKIPPED | PASS | PASS | SKIPPED | SKIPPED | +-------------------------------+-------------------------+--------------------+-------------------+----------------------+-------------------+------------------+ | Ubuntu 20.04 | SKIPPED | PASS | SKIPPED | SKIPPED | SKIPPED | SKIPPED | +-------------------------------+-------------------------+--------------------+-------------------+----------------------+-------------------+------------------+ | FreeBSD 14.2 | SKIPPED | PASS | SKIPPED | SKIPPED | SKIPPED | SKIPPED | +-------------------------------+-------------------------+--------------------+-------------------+----------------------+-------------------+------------------+ | CentOS Stream 9 | SKIPPED | PASS | SKIPPED | SKIPPED | WARN | SKIPPED | +-------------------------------+-------------------------+--------------------+-------------------+----------------------+-------------------+------------------+ | CentOS Stream 10 | SKIPPED | PASS | SKIPPED | SKIPPED | SKIPPED | SKIPPED | +-------------------------------+-------------------------+--------------------+-------------------+----------------------+-------------------+------------------+ | Debian GNU/Linux 12 | SKIPPED | PASS | SKIPPED | SKIPPED | WARN | SKIPPED | +-------------------------------+-------------------------+--------------------+-------------------+----------------------+-------------------+------------------+ | Fedora Linux 42 | SKIPPED | PASS | SKIPPED | SKIPPED | WARN | PASS | +-------------------------------+-------------------------+--------------------+-------------------+----------------------+-------------------+------------------+ | openSUSE Leap 15.6 | SKIPPED | PASS | SKIPPED | SKIPPED | SKIPPED | SKIPPED | +-------------------------------+-------------------------+--------------------+-------------------+----------------------+-------------------+------------------+ | Red Hat Enterprise Linux 8.10 | SKIPPED | PASS | SKIPPED | SKIPPED | SKIPPED | SKIPPED | +-------------------------------+-------------------------+--------------------+-------------------+----------------------+-------------------+------------------+ | Red Hat Enterprise Linux 9.5 | SKIPPED | PASS | SKIPPED | SKIPPED | SKIPPED | SKIPPED | +-------------------------------+-------------------------+--------------------+-------------------+----------------------+-------------------+------------------+ | Ubuntu 22.04 | SKIPPED | PASS | SKIPPED | SKIPPED | WARN | SKIPPED | +-------------------------------+-------------------------+--------------------+-------------------+----------------------+-------------------+------------------+ | Alpine Linux 3.22.0 | SKIPPED | PASS | SKIPPED | SKIPPED | SKIPPED | SKIPPED | +-------------------------------+-------------------------+--------------------+-------------------+----------------------+-------------------+------------------+ | Ubuntu 24.04 | SKIPPED | PASS | SKIPPED | SKIPPED | WARN | PASS | +-------------------------------+-------------------------+--------------------+-------------------+----------------------+-------------------+------------------+ ==== 20 line log output for Ubuntu 24.04 (dpdk_compile_spdk): ==== --- Failed to get log output --- ==== End log output ==== Windows Server 2022 Kernel: 10.0.20348.2031 Compiler: clang 15.0.7, gcc 14.1.0 (MinGW), and MSVC VS 19.39.33521 Ubuntu 20.04 Kernel: 4.19 Compiler: gcc gcc (Ubuntu 9.4.0-1ubuntu1~20.04.2) 9.4.0 FreeBSD 14.2 Kernel: 14.2-RELEASE Compiler: clang 18.1.6 CentOS Stream 9 Kernel: 5.15 Compiler: gcc gcc (GCC) 11.5.0 20240719 (Red Hat 11.5.0-11) CentOS Stream 10 Kernel: 5.15 Compiler: gcc gcc (GCC) 14.2.1 20250110 (Red Hat 14.2.1-8) Debian GNU/Linux 12 Kernel: 5.15 Compiler: gcc gcc (Debian 12.2.0-14+deb12u1) 12.2.0 Fedora Linux 42 Kernel: 5.15 Compiler: clang gcc (GCC) 15.2.1 20250808 (Red Hat 15.2.1-1) openSUSE Leap 15.6 Kernel: 5.15 Compiler: gcc gcc (SUSE Linux) 7.5.0 Red Hat Enterprise Linux 8.10 Kernel: 5.15 Compiler: gcc gcc (GCC) 8.5.0 20210514 (Red Hat 8.5.0-22) Red Hat Enterprise Linux 9.5 Kernel: 5.15 Compiler: gcc gcc (GCC) 11.5.0 20240719 (Red Hat 11.5.0-2) Ubuntu 22.04 Kernel: 5.15 Compiler: gcc gcc (Ubuntu 11.4.0-1ubuntu1~22.04) 11.4.0 Alpine Linux 3.22.0 Kernel: 5.15 Compiler: gcc gcc (Alpine 14.2.0) 14.2.0 Ubuntu 24.04 Kernel: 5.15 Compiler: gcc gcc (Ubuntu 13.3.0-6ubuntu2~24.04) 13.3.0 To view detailed results, visit: https://lab.dpdk.org/results/dashboard/patchsets/34323/ UNH-IOL DPDK Community Lab To manage your email subscriptions, visit: https://lab.dpdk.org/results/dashboard/preferences/subscriptions/