From mboxrd@z Thu Jan 1 00:00:00 1970 Return-Path: Received: from mails.dpdk.org (mails.dpdk.org [217.70.189.124]) by inbox.dpdk.org (Postfix) with ESMTP id B644748971 for ; Sat, 18 Oct 2025 19:13:26 +0200 (CEST) Received: from mails.dpdk.org (localhost [127.0.0.1]) by mails.dpdk.org (Postfix) with ESMTP id B2A154013F; Sat, 18 Oct 2025 19:13:26 +0200 (CEST) Received: from mail-pf1-f228.google.com (mail-pf1-f228.google.com [209.85.210.228]) by mails.dpdk.org (Postfix) with ESMTP id E33F54013F for ; Sat, 18 Oct 2025 19:13:24 +0200 (CEST) Received: by mail-pf1-f228.google.com with SMTP id d2e1a72fcca58-789fb76b466so2629131b3a.0 for ; Sat, 18 Oct 2025 10:13:24 -0700 (PDT) DKIM-Signature: v=1; a=rsa-sha256; c=relaxed/relaxed; d=iol.unh.edu; s=unh-iol; t=1760807604; x=1761412404; darn=dpdk.org; h=cc:to:from:subject:message-id:date:from:to:cc:subject:date :message-id:reply-to; bh=UCurXqs2SkZVlJmYCYqSbn9T4laMEidoj7FgqNsc/wQ=; b=EtutUUqYbCd89KRo83sXfyVsUf7//i67ha40ouCCfPbBYEE8GMw/z5glBDr2vs1DcJ b6RTqwT6hZqhhsDEZ7t6dy9WWRWQCVjyB7wY1lPCEXQ7kaEf5aXn5PVFTwHj7px4pyWy sQneoZrsCO0F8C7uvaxIVlcUOQWg+uJPahIdw= X-Google-DKIM-Signature: v=1; a=rsa-sha256; c=relaxed/relaxed; d=1e100.net; s=20230601; t=1760807604; x=1761412404; h=cc:to:from:subject:message-id:date:x-gm-message-state:from:to:cc :subject:date:message-id:reply-to; bh=UCurXqs2SkZVlJmYCYqSbn9T4laMEidoj7FgqNsc/wQ=; b=o0w7rzyj8rNbkmtm9HZ/+C+/I0FklzEBNPEB7+0+Tjw0XG8NffVJ1ZhMm26Hg71Q3u uWSu0BPOKoJo3BkdPgU4xfFs2EookZ86EdQm2d6cGBccVZJsdWuiOcM8CP52xVZaJEhp eChSXt1WIQTvuqcSBLOwKc/ofVBjfOYanrd4/C/xpBBV+JvNMEpb7HCydB+roVJvtwUz uqz8J3smLNXyJve74HaOgAs/qdYXImtxohmZpCwGcZCvB2z9Bm9t2sWwHknKBcTwPG6b aPnbV2LuY/fdJaFXmc7rGA56sWwwsFRrm/SivjZ8gtaSoK//Mi0HiQDIBAHiZlpXKjsk Cm+A== X-Gm-Message-State: AOJu0Yzr4DyGR9QQNFCOyEhpjcGN/+EVtBW6mF7GQdAg/vTa85X+eca7 47CGaifWYCUTiyLcA29A6WA2ru8SQhmoOYlxVgiQ4xjJjRVHedBHBk88qh0QI0Hs7WICVw2oX7S IhmzxB5jzYoNEy5L5SCt0nrhqCTBNU9swvuNLMyeBy+1zg97WCC6JbJpKS+fH X-Gm-Gg: ASbGncsxl3egpx35aYVsT65uQ4WrEwdttLBaW2CqkNqINKR52l+fPC2Tlha+8IHx7Pr /+t5QjSENAJEUFLIhdo3sJJY3Nelux5pKJY2umk/S2YhXhyqwI3+udOdkCFnP9z72qeoQLocw74 9dKvpjfXbXIGecap1+jQPuKNDS2+4l8pmJE/tc5cEKzvLYpwe1WpIeQQ/tboMoR4bYUYCBqxSq7 tgis8FZabuEDhGgYC/jxnVds6qO4G7O6rEpdE39yfGmWbAt6N6FqNgsDzNwRWvP1uBmLzc9pa34 eFcVBHXNifrh2+5PGfUSG+F0Oz3CxsMW34uUwq0EVomwQXCNOAi2Vepd3xAHFN6srvOLdDnZRrS NSHvEwvcj X-Google-Smtp-Source: AGHT+IGNF5Of05dBoJlDDm9SNuJoplFmiobnIfGR5ABD1S6ff7STdIG1ccUpjPZm7b8PjTR19px2B0XjpT+B X-Received: by 2002:a17:902:ce8c:b0:25c:392c:33be with SMTP id d9443c01a7336-290cba4dbc0mr104226085ad.59.1760807604205; Sat, 18 Oct 2025 10:13:24 -0700 (PDT) Received: from postal.iol.unh.edu (postal.iol.unh.edu. [2606:4100:3880:1234::84]) by smtp-relay.gmail.com with ESMTPS id d9443c01a7336-292471c5eccsm3208605ad.42.2025.10.18.10.13.24 (version=TLS1_2 cipher=ECDHE-ECDSA-AES128-GCM-SHA256 bits=128/128); Sat, 18 Oct 2025 10:13:24 -0700 (PDT) X-Relaying-Domain: iol.unh.edu Date: Sat, 18 Oct 2025 10:13:24 -0700 (PDT) Message-ID: <68f3cab4.170a0220.3c4d56.b762SMTPIN_ADDED_MISSING@mx.google.com> Received: from [172.21.0.2] (unknown [172.18.0.240]) by postal.iol.unh.edu (Postfix) with ESMTP id 7E5B46051830; Sat, 18 Oct 2025 13:13:23 -0400 (EDT) Subject: |SUCCESS| [GIT MASTER] fd6bb586ca832c0cd6a84bcf7123a6063b3ae133 From: dpdklab@iol.unh.edu To: Test Report Cc: dpdk-test-reports@iol.unh.edu Content-Type: text/plain X-BeenThere: test-report@dpdk.org X-Mailman-Version: 2.1.29 Precedence: list List-Id: automatic DPDK test reports List-Unsubscribe: , List-Archive: List-Post: List-Help: List-Subscribe: , Errors-To: test-report-bounces@dpdk.org _Testing PASS_ Branch: dpdk fd6bb586ca832c0cd6a84bcf7123a6063b3ae133 --> testing pass Upstream job id: Generic-DPDK-Compile-Meson#435708 Test environment and result as below: +------------------------------+--------------------+ | Environment | dpdk_meson_compile | +==============================+====================+ | Red Hat Enterprise Linux 9.5 | PASS | +------------------------------+--------------------+ | Ubuntu 20.04 | PASS | +------------------------------+--------------------+ | Debian GNU/Linux 12 | PASS | +------------------------------+--------------------+ | Fedora Linux 42 | PASS | +------------------------------+--------------------+ | Ubuntu 22.04 | PASS | +------------------------------+--------------------+ | Ubuntu 24.04 | PASS | +------------------------------+--------------------+ | CentOS Stream 9 | PASS | +------------------------------+--------------------+ | CentOS Stream 10 | PASS | +------------------------------+--------------------+ Red Hat Enterprise Linux 9.5 Kernel: 5.4 Compiler: gcc gcc (GCC) 11.5.0 20240719 (Red Hat 11.5.0-2) Ubuntu 20.04 Kernel: 5.15 Compiler: aarch64-linux-gnu-gcc gcc (Ubuntu 9.4.0-1ubuntu1~20.04.2) 9.4.0 Debian GNU/Linux 12 Kernel: 5.4 Compiler: gcc gcc (Debian 12.2.0-14+deb12u1) 12.2.0 Fedora Linux 42 Kernel: 5.4 Compiler: gcc gcc (GCC) 15.2.1 20250808 (Red Hat 15.2.1-1) Ubuntu 22.04 Kernel: 5.4 Compiler: gcc gcc (Ubuntu 11.4.0-1ubuntu1~22.04) 11.4.0 Ubuntu 24.04 Kernel: 5.4 Compiler: gcc gcc (Ubuntu 13.3.0-6ubuntu2~24.04) 13.3.0 CentOS Stream 9 Kernel: 5.4 Compiler: gcc gcc (GCC) 11.5.0 20240719 (Red Hat 11.5.0-11) CentOS Stream 10 Kernel: 5.4 Compiler: gcc gcc (GCC) 14.2.1 20250110 (Red Hat 14.2.1-8) To view detailed results, visit: https://lab.dpdk.org/results/dashboard/tarballs/35262/ UNH-IOL DPDK Community Lab To manage your email subscriptions, visit: https://lab.dpdk.org/results/dashboard/preferences/subscriptions/