From mboxrd@z Thu Jan 1 00:00:00 1970 Return-Path: Received: from mails.dpdk.org (mails.dpdk.org [217.70.189.124]) by inbox.dpdk.org (Postfix) with ESMTP id C523948971 for ; Sat, 18 Oct 2025 19:13:38 +0200 (CEST) Received: from mails.dpdk.org (localhost [127.0.0.1]) by mails.dpdk.org (Postfix) with ESMTP id BFF294013F; Sat, 18 Oct 2025 19:13:38 +0200 (CEST) Received: from mail-io1-f100.google.com (mail-io1-f100.google.com [209.85.166.100]) by mails.dpdk.org (Postfix) with ESMTP id E16BE4013F for ; Sat, 18 Oct 2025 19:13:36 +0200 (CEST) Received: by mail-io1-f100.google.com with SMTP id ca18e2360f4ac-93e7ff97d9fso144384339f.1 for ; Sat, 18 Oct 2025 10:13:36 -0700 (PDT) DKIM-Signature: v=1; a=rsa-sha256; c=relaxed/relaxed; d=iol.unh.edu; s=unh-iol; t=1760807616; x=1761412416; darn=dpdk.org; h=cc:to:from:subject:message-id:date:from:to:cc:subject:date :message-id:reply-to; bh=XVTohqbOQk/akHIsaHqBWTXMjqevoUW5hCsRBdcsSNw=; b=BssUtx4dhUPSbNtmGRwlKFNc3kyF7wZFU+9otUX1IJJTgFz7vcxUYcqFftjIbqJSUW HoQO5O/H9PVZj/yC4XepW46DVGy1of06sC6+mN5X/HzOFO127LOoaoR7Z7qf8DLXBV3K HzNb8yc0GaKeaprs9Eg4uZrjg30dMiHwd3DxQ= X-Google-DKIM-Signature: v=1; a=rsa-sha256; c=relaxed/relaxed; d=1e100.net; s=20230601; t=1760807616; x=1761412416; h=cc:to:from:subject:message-id:date:x-gm-message-state:from:to:cc :subject:date:message-id:reply-to; bh=XVTohqbOQk/akHIsaHqBWTXMjqevoUW5hCsRBdcsSNw=; b=NuEDlzXzG01f28IsmFVZTWbijwqEKoJjjg9ihB0pF7APatxICSYfroAHuCq727VoAk 812F6GrW0wUp3nV9ekZQk9w0WSBYLFggkm6sju46OpDOPb+bXuBhfNXEa0vUXuEyrEE1 dedD1QuohFS5WJSw/Ea/Als1KPJS6O80CVlrQozNJvZYx74SKxrhdTo/cj7uGMCc/OGz A329m695TstZjGhZBvfqcKig2qR4tmuN42FbGVvrtJWJDVRqKMC5RJWDIAkH/qIYo6Ve bxsMaQVPXmuEjiir+Q9hBzvKNC1YPqCDyNxN2bOgh4akJzODH5IP1+VkimbcKdM/iqJ0 6icw== X-Gm-Message-State: AOJu0Yy/Jg9oNVlWBXHpimRrOAHO61JhbHEyGS3ZLHiaGtZbz3tiUycR PM4rbpkIibPcwRoINZZoGR+6TXT9Drekk5AIbHwebdtcLkJDh23vQAypdxhzaDP+LN2AaXC0Fkb 0elFnY8EqJ5ZpVanQcZMgCnpUGVw0w37i0QxB X-Gm-Gg: ASbGncu8Awq+vX7nZ5M5mqspWeDSuo3ukfR7RETeNKmyksKm9MGxU1HSf/rPeywarin t+87OVi2ioveqvtxqKU8QB37A5TwFrnkxG7wnz78Poa9Au8EPvFR4DCrZobXdEQqwG82cBIGOMP Tj8yv44j2f8vvtgquQPm+RN+/0TXpVgUnBOYSPwimzjNHBbm8A5bcvkrDLgCctR/whm0D/mdTag 3MnQHUgPCoCYfxiIUJR05Cb0Qycg72C6OWFl6NVkAiYt+GmhS0KA5P9mSmbcpzIF0JbmsEzzIiD LlzLKWBNWVTidRXuEziloDuf8vm1X6s4WpryleAdKuVuyheAkEKiCJMRT0XgYL6TjXuPjn5lsqx pnvEnq3WAqTuhC+7QtWkcOKNOLIZ5AAA= X-Google-Smtp-Source: AGHT+IGe8h3QNNnckzGVLbfShyEuddP8FaaQH7ORlJoePxN/Vh+lCLKs5HINhGtuzjX/VCas1s/si1MAY4YM X-Received: by 2002:a05:6e02:1a66:b0:425:951f:52fa with SMTP id e9e14a558f8ab-430c5275304mr133526005ab.14.1760807616112; Sat, 18 Oct 2025 10:13:36 -0700 (PDT) Received: from postal.iol.unh.edu (postal.iol.unh.edu. [132.177.123.84]) by smtp-relay.gmail.com with ESMTPS id 8926c6da1cb9f-5a8a9745b6dsm331544173.25.2025.10.18.10.13.36 (version=TLS1_2 cipher=ECDHE-ECDSA-AES128-GCM-SHA256 bits=128/128); Sat, 18 Oct 2025 10:13:36 -0700 (PDT) X-Relaying-Domain: iol.unh.edu Date: Sat, 18 Oct 2025 10:13:36 -0700 (PDT) Message-ID: <68f3cac0.050a0220.278424.bb70SMTPIN_ADDED_MISSING@mx.google.com> Received: from [172.21.0.2] (unknown [172.18.0.240]) by postal.iol.unh.edu (Postfix) with ESMTP id AC32F6051830; Sat, 18 Oct 2025 13:13:35 -0400 (EDT) Subject: |SUCCESS| [GIT MASTER] 3b43ce3f4a54468e7ef65760c2fd7b4d6ee6d9fc From: dpdklab@iol.unh.edu To: Test Report Cc: dpdk-test-reports@iol.unh.edu, Xueming Li , Christian Ehrhardt , Kevin Traynor , Luca Boccassi Content-Type: text/plain X-BeenThere: test-report@dpdk.org X-Mailman-Version: 2.1.29 Precedence: list List-Id: automatic DPDK test reports List-Unsubscribe: , List-Archive: List-Post: List-Help: List-Subscribe: , Errors-To: test-report-bounces@dpdk.org _Testing PASS_ Branch: tags/v22.11 3b43ce3f4a54468e7ef65760c2fd7b4d6ee6d9fc --> testing pass Upstream job id: Generic-DPDK-Compile-Meson#435734 Test environment and result as below: +------------------------------+--------------------+ | Environment | dpdk_meson_compile | +==============================+====================+ | Red Hat Enterprise Linux 9.5 | PASS | +------------------------------+--------------------+ | Ubuntu 20.04 | PASS | +------------------------------+--------------------+ | Debian GNU/Linux 12 | PASS | +------------------------------+--------------------+ | Fedora Linux 42 | PASS | +------------------------------+--------------------+ | Ubuntu 22.04 | PASS | +------------------------------+--------------------+ | Ubuntu 24.04 | PASS | +------------------------------+--------------------+ | CentOS Stream 9 | PASS | +------------------------------+--------------------+ | CentOS Stream 10 | PASS | +------------------------------+--------------------+ Red Hat Enterprise Linux 9.5 Kernel: 5.4 Compiler: gcc gcc (GCC) 11.5.0 20240719 (Red Hat 11.5.0-2) Ubuntu 20.04 Kernel: 5.15 Compiler: aarch64-linux-gnu-gcc gcc (Ubuntu 9.4.0-1ubuntu1~20.04.2) 9.4.0 Debian GNU/Linux 12 Kernel: 5.4 Compiler: gcc gcc (Debian 12.2.0-14+deb12u1) 12.2.0 Fedora Linux 42 Kernel: 5.4 Compiler: gcc gcc (GCC) 15.2.1 20250808 (Red Hat 15.2.1-1) Ubuntu 22.04 Kernel: 5.4 Compiler: gcc gcc (Ubuntu 11.4.0-1ubuntu1~22.04) 11.4.0 Ubuntu 24.04 Kernel: 5.4 Compiler: gcc gcc (Ubuntu 13.3.0-6ubuntu2~24.04) 13.3.0 CentOS Stream 9 Kernel: 5.4 Compiler: gcc gcc (GCC) 11.5.0 20240719 (Red Hat 11.5.0-11) CentOS Stream 10 Kernel: 5.4 Compiler: gcc gcc (GCC) 14.2.1 20250110 (Red Hat 14.2.1-8) To view detailed results, visit: https://lab.dpdk.org/results/dashboard/tarballs/35263/ UNH-IOL DPDK Community Lab To manage your email subscriptions, visit: https://lab.dpdk.org/results/dashboard/preferences/subscriptions/