From mboxrd@z Thu Jan 1 00:00:00 1970 Return-Path: Received: from mails.dpdk.org (mails.dpdk.org [217.70.189.124]) by inbox.dpdk.org (Postfix) with ESMTP id CFA2B48971 for ; Sat, 18 Oct 2025 19:24:59 +0200 (CEST) Received: from mails.dpdk.org (localhost [127.0.0.1]) by mails.dpdk.org (Postfix) with ESMTP id AAB984013F; Sat, 18 Oct 2025 19:24:59 +0200 (CEST) Received: from mail-qv1-f99.google.com (mail-qv1-f99.google.com [209.85.219.99]) by mails.dpdk.org (Postfix) with ESMTP id 718DD4013F for ; Sat, 18 Oct 2025 19:24:58 +0200 (CEST) Received: by mail-qv1-f99.google.com with SMTP id 6a1803df08f44-78ed682e9d3so41354206d6.0 for ; Sat, 18 Oct 2025 10:24:58 -0700 (PDT) DKIM-Signature: v=1; a=rsa-sha256; c=relaxed/relaxed; d=iol.unh.edu; s=unh-iol; t=1760808297; x=1761413097; darn=dpdk.org; h=cc:to:from:subject:message-id:date:from:to:cc:subject:date :message-id:reply-to; bh=GKNXVIHrGTcZmjlWI9Exeg8FE4mT0eungIZ7v0BbYjo=; b=I/JMjqjROPPdmUtXbberjFoaRTp55Wk1QDX0E2AEJ9nC7r+ncYBVUny27/pYgy/QYx ES8QFjrTB4pzHEWAufL94JN/fu2M3A4IbSkR08fIeOPonqpAPRtdfgs5UVr0HJh+R22j QsqXOf7lMsbYh3qcvbW6Z0EycKxtpy2RJcP7g= X-Google-DKIM-Signature: v=1; a=rsa-sha256; c=relaxed/relaxed; d=1e100.net; s=20230601; t=1760808297; x=1761413097; h=cc:to:from:subject:message-id:date:x-gm-message-state:from:to:cc :subject:date:message-id:reply-to; bh=GKNXVIHrGTcZmjlWI9Exeg8FE4mT0eungIZ7v0BbYjo=; b=YnStBnDtRqaSzVrsBSJXAb7/B0EhVulrPdGrSIjQF5PPGnchrPLKoSAmS55ljPLPtw ZFVETK56uIxvBINzf2iygjxDAF4fdqCmaFxpU0kXY8OjZpOdvb0N+Q6R4cdEHvF66jCR jApUzPHSiY2zXCavwaJKWvuYNVu/s7r2M961BRXSaMwzVRUW9vZ3Y9ypLeI+SYEJKIvo 0ukvnJcKJEzqx+kYab3Ums+zTt9BNg4FoktUNMjF8W10QKowmMymsOXCaSuAXrinaS3I ibu5lJVyhzKt5aUjQ27pH+CbmHf+9rnoZiT9Rv6kC04N8eBc1r7cobj4WMbHGY+5mfIE LE9A== X-Gm-Message-State: AOJu0YwDRZraLEfdT34Q5tjkASiLPUIK9Vtp5jBQdR876rRMZYTfMDFy JQoeBKB9wveinSwpgCgfA7PfETTPaeARaLAKhmSc2SEs1fN3jeTI5AJGtPtQQGN6UMKGDjltEBQ OA8ubebKAWVFKXAo5WVSYY+qbemWI0wQt4Oz4wJQLsUmR+eabuycd X-Gm-Gg: ASbGncuehcsyzXowdq5qrmu+uh7Q5FYaETLOXP0msYXcKYfwQ+ZRvzYEQhJcFpw0vhc 6GOwmCdQcfdfmqqc3sJs4AkCI32k0nUlLjcQNVXGy4AsUwOjJxVTmq4v0p2MUhoQ9qSuHjLOsW2 07EB5FGQVLso6vAuZzTRa5KnSJbfM4F16k5udVrNehO7QY/MMlzL1i3+6DC7EvNt+SX31taKBpw BYaMaVY/cf10uCrcCZs5BXYQSoEdmMEliv+lqYehlCi0qUJOr7Yg4fqAYngYK94Qm949fH0X0aJ z9ZWwGFLCvjDXgM3vb6EYlwR6nm4E9vd4zFaQpvu5u98XmhebKJFkLDVpq2feSmQ60dNGHA48bf 3xgiceDLK X-Google-Smtp-Source: AGHT+IEVZVNatC6LMEecuT8C3XLqptbUA9fAGRpLJzwju+i3SQ1XmMfgbyYz4rPCSslTaJP0h5nZLZVUFtjr X-Received: by 2002:a05:622a:15cd:b0:4af:1f06:6b41 with SMTP id d75a77b69052e-4e89d38e382mr98662561cf.59.1760808297636; Sat, 18 Oct 2025 10:24:57 -0700 (PDT) Received: from postal.iol.unh.edu (postal.iol.unh.edu. [2606:4100:3880:1234::84]) by smtp-relay.gmail.com with ESMTPS id d75a77b69052e-4e8aaef67f1sm2321751cf.2.2025.10.18.10.24.57 (version=TLS1_2 cipher=ECDHE-ECDSA-AES128-GCM-SHA256 bits=128/128); Sat, 18 Oct 2025 10:24:57 -0700 (PDT) X-Relaying-Domain: iol.unh.edu Date: Sat, 18 Oct 2025 10:24:57 -0700 (PDT) Message-ID: <68f3cd69.c80a0220.36de9.9beeSMTPIN_ADDED_MISSING@mx.google.com> Received: from [172.21.0.3] (unknown [172.18.0.240]) by postal.iol.unh.edu (Postfix) with ESMTP id 4745B6051830; Sat, 18 Oct 2025 13:24:57 -0400 (EDT) Subject: |SUCCESS| [GIT MASTER] b287e404643aeab5bb5db084c142789df187844e From: dpdklab@iol.unh.edu To: Test Report Cc: dpdk-test-reports@iol.unh.edu, Xueming Li , Christian Ehrhardt , Kevin Traynor , Luca Boccassi Content-Type: text/plain X-BeenThere: test-report@dpdk.org X-Mailman-Version: 2.1.29 Precedence: list List-Id: automatic DPDK test reports List-Unsubscribe: , List-Archive: List-Post: List-Help: List-Subscribe: , Errors-To: test-report-bounces@dpdk.org _Testing PASS_ Branch: tags/v24.11 b287e404643aeab5bb5db084c142789df187844e --> testing pass Upstream job id: Generic-DPDK-Compile-Meson#435779 Test environment and result as below: +------------------------------+--------------------+ | Environment | dpdk_meson_compile | +==============================+====================+ | Red Hat Enterprise Linux 9.5 | PASS | +------------------------------+--------------------+ | Ubuntu 20.04 | PASS | +------------------------------+--------------------+ | Debian GNU/Linux 12 | PASS | +------------------------------+--------------------+ | Fedora Linux 42 | PASS | +------------------------------+--------------------+ | Ubuntu 22.04 | PASS | +------------------------------+--------------------+ | Ubuntu 24.04 | PASS | +------------------------------+--------------------+ | CentOS Stream 9 | PASS | +------------------------------+--------------------+ | CentOS Stream 10 | PASS | +------------------------------+--------------------+ Red Hat Enterprise Linux 9.5 Kernel: 5.4 Compiler: gcc gcc (GCC) 11.5.0 20240719 (Red Hat 11.5.0-2) Ubuntu 20.04 Kernel: 5.15 Compiler: aarch64-linux-gnu-gcc gcc (Ubuntu 9.4.0-1ubuntu1~20.04.2) 9.4.0 Debian GNU/Linux 12 Kernel: 5.4 Compiler: gcc gcc (Debian 12.2.0-14+deb12u1) 12.2.0 Fedora Linux 42 Kernel: 5.4 Compiler: gcc gcc (GCC) 15.2.1 20250808 (Red Hat 15.2.1-1) Ubuntu 22.04 Kernel: 5.4 Compiler: gcc gcc (Ubuntu 11.4.0-1ubuntu1~22.04) 11.4.0 Ubuntu 24.04 Kernel: 5.4 Compiler: gcc gcc (Ubuntu 13.3.0-6ubuntu2~24.04) 13.3.0 CentOS Stream 9 Kernel: 5.4 Compiler: gcc gcc (GCC) 11.5.0 20240719 (Red Hat 11.5.0-11) CentOS Stream 10 Kernel: 5.4 Compiler: gcc gcc (GCC) 14.2.1 20250110 (Red Hat 14.2.1-8) To view detailed results, visit: https://lab.dpdk.org/results/dashboard/tarballs/35265/ UNH-IOL DPDK Community Lab To manage your email subscriptions, visit: https://lab.dpdk.org/results/dashboard/preferences/subscriptions/