From mboxrd@z Thu Jan 1 00:00:00 1970 Return-Path: Received: from mails.dpdk.org (mails.dpdk.org [217.70.189.124]) by inbox.dpdk.org (Postfix) with ESMTP id 7B04648973 for ; Sat, 18 Oct 2025 22:28:11 +0200 (CEST) Received: from mails.dpdk.org (localhost [127.0.0.1]) by mails.dpdk.org (Postfix) with ESMTP id 494CC4013F; Sat, 18 Oct 2025 22:28:11 +0200 (CEST) Received: from mail-ua1-f98.google.com (mail-ua1-f98.google.com [209.85.222.98]) by mails.dpdk.org (Postfix) with ESMTP id CF6D74013F for ; Sat, 18 Oct 2025 22:28:09 +0200 (CEST) Received: by mail-ua1-f98.google.com with SMTP id a1e0cc1a2514c-931028aeaf9so1795372241.2 for ; Sat, 18 Oct 2025 13:28:09 -0700 (PDT) DKIM-Signature: v=1; a=rsa-sha256; c=relaxed/relaxed; d=iol.unh.edu; s=unh-iol; t=1760819289; x=1761424089; darn=dpdk.org; h=references:in-reply-to:cc:to:from:subject:message-id:date:from:to :cc:subject:date:message-id:reply-to; bh=N2NDASXjMSx/S4KQO16bdJYvhi9V5Kh3L4kxeTzZD0c=; b=OtOR2EHCUZM05u4g4+ha/W9EpX658gyz3noiIKy1EuNBlCLOuJaWK7JNtgdQumh1uA Oc2h19ekRs4cg8pq3L7rBVJZwivlc51ll0Ts/NeQEytNffcjK5iRn1FnNr5I6mbJXIoN v9/Hd0HmEFH7sB+hH5e9h96tkZyt213Li2JR8= X-Google-DKIM-Signature: v=1; a=rsa-sha256; c=relaxed/relaxed; d=1e100.net; s=20230601; t=1760819289; x=1761424089; h=references:in-reply-to:cc:to:from:subject:message-id:date :x-gm-message-state:from:to:cc:subject:date:message-id:reply-to; bh=N2NDASXjMSx/S4KQO16bdJYvhi9V5Kh3L4kxeTzZD0c=; b=N4x3QH5ubLsU1XpH2bVOlhzNsK4tBmSJqcEvOo4Jc8EDEu0kvhQimYRJlvSt858/Ew xLAE6os8RIqSRVVX8TwzVPT1Cz611oc/5LqhvA17JjNX72NVQCV4N/X9piPuui0bWL+H NlwV7EP7XMyTBiM3MFzxk+bXSwp+fZj3FZID/86BzLlBIPGBPk0SlxRkLM1tT/X9K8Q9 1byrNjXcHz6DR7x+3Z5sR1yVotcp3QNVCLaFxAlf2RVIXG+Xx/c0onIThcnRoPFW2ShB fFPaf6Mj+fBcCR9gOP2qNpJLfiTAA2reIVl7ZOQFCVpqOPmrMTWuKS4slq59U06nPCar mpzg== X-Gm-Message-State: AOJu0Yz68ywlba45wVQ7U7W5I8qWr5UxLah6IDxbBMhkIjNdPvO0s61Y 2h8bawMFoOQuHHZrXJA6emmCrCEe+C7a8bctSYyZGkVav77zMXCmrazgFRHTGsw41eui6xevRhh 86PoFfNKJirpTs2b8uriW6G0wNVTNj+TTlv6izerHjO/y X-Gm-Gg: ASbGncuipAc/ea/jr3NlaMAe1pNj2pSZeIWdvizc5l+sT4B13e196rBYhGbKU6vhILo Y/jAo1SB8MWwZUQniSYjWiVaWj8DIMKqkZ+11s4ngLRBV5q/rFo5a5uFdgY8SfJuvEEGXTL6yh2 IV4Yulqill5/WvXb+w/pjwKmDLiyuAHjNwN1qEuW9+aJ3iwRKBjPuRmr8sgV4E7m+DbVuF2WLdP QX/rTAycqVEg9ikyAXseELflH9aNrHrbPYZAmejnczvQ+HlxMdxEzV/yCALUGQtCLkKH8qH7qM4 GY5OdiqUYLAzAezW1RS99ECMpJdTg5r1R/MzUoBSNWJNyKtJMXeqOFzK6lBoODrLWv1RXV66jp1 NILJywxHYU+zj6F1txXmzbzfNvnS1loI= X-Google-Smtp-Source: AGHT+IGYDrRpPfpG53zSZM5/m5rVRQyD0eYy4QqlkusRtefWwZk5Pzk9qLqp5bJx4F7rKvClhHft6Oqir+RY X-Received: by 2002:a05:6102:b02:b0:528:92b8:6c3e with SMTP id ada2fe7eead31-5d7dd501a23mr3117414137.1.1760819288962; Sat, 18 Oct 2025 13:28:08 -0700 (PDT) Received: from postal.iol.unh.edu (postal.iol.unh.edu. [132.177.123.84]) by smtp-relay.gmail.com with ESMTPS id ada2fe7eead31-5d96c25677dsm575420137.3.2025.10.18.13.28.08 (version=TLS1_2 cipher=ECDHE-ECDSA-AES128-GCM-SHA256 bits=128/128); Sat, 18 Oct 2025 13:28:08 -0700 (PDT) X-Relaying-Domain: iol.unh.edu Date: Sat, 18 Oct 2025 13:28:08 -0700 (PDT) Message-ID: <68f3f858.050a0220.38cc41.404fSMTPIN_ADDED_MISSING@mx.google.com> Received: from [172.21.0.2] (unknown [172.18.0.240]) by postal.iol.unh.edu (Postfix) with ESMTP id 77C0C60003E8; Sat, 18 Oct 2025 16:28:08 -0400 (EDT) Subject: |SUCCESS| pw157825 [PATCH] [v2] test/ring_perf: add optional cross L From: dpdklab@iol.unh.edu To: Test Report Cc: dpdk-test-reports@iol.unh.edu In-Reply-To: <20251018064831.1153059-1-sivaprasad.tummala@amd.com> References: <20251018064831.1153059-1-sivaprasad.tummala@amd.com> Content-Type: text/plain X-BeenThere: test-report@dpdk.org X-Mailman-Version: 2.1.29 Precedence: list List-Id: automatic DPDK test reports List-Unsubscribe: , List-Archive: List-Post: List-Help: List-Subscribe: , Errors-To: test-report-bounces@dpdk.org Test-Label: iol-compile-arm64-testing Test-Status: SUCCESS http://dpdk.org/patch/157825 _Testing PASS_ Submitter: Sivaprasad Tummala Date: Saturday, October 18 2025 06:48:27 DPDK git baseline: Repo:dpdk Branch: master CommitID:fd6bb586ca832c0cd6a84bcf7123a6063b3ae133 157825 --> testing pass Upstream job id: Generic-DPDK-Compile-Meson#435810 Test environment and result as below: +------------------------------+--------------------+ | Environment | dpdk_meson_compile | +==============================+====================+ | Red Hat Enterprise Linux 9.5 | PASS | +------------------------------+--------------------+ | Ubuntu 20.04 | PASS | +------------------------------+--------------------+ | Debian GNU/Linux 12 | PASS | +------------------------------+--------------------+ | Fedora Linux 42 | PASS | +------------------------------+--------------------+ | Ubuntu 22.04 | PASS | +------------------------------+--------------------+ | Ubuntu 24.04 | PASS | +------------------------------+--------------------+ | CentOS Stream 9 | PASS | +------------------------------+--------------------+ | CentOS Stream 10 | PASS | +------------------------------+--------------------+ Red Hat Enterprise Linux 9.5 Kernel: 5.4 Compiler: gcc gcc (GCC) 11.5.0 20240719 (Red Hat 11.5.0-2) Ubuntu 20.04 Kernel: 5.15 Compiler: aarch64-linux-gnu-gcc gcc (Ubuntu 9.4.0-1ubuntu1~20.04.2) 9.4.0 Debian GNU/Linux 12 Kernel: 5.4 Compiler: gcc gcc (Debian 12.2.0-14+deb12u1) 12.2.0 Fedora Linux 42 Kernel: 5.4 Compiler: gcc gcc (GCC) 15.2.1 20250808 (Red Hat 15.2.1-1) Ubuntu 22.04 Kernel: 5.4 Compiler: gcc gcc (Ubuntu 11.4.0-1ubuntu1~22.04) 11.4.0 Ubuntu 24.04 Kernel: 5.4 Compiler: gcc gcc (Ubuntu 13.3.0-6ubuntu2~24.04) 13.3.0 CentOS Stream 9 Kernel: 5.4 Compiler: gcc gcc (GCC) 11.5.0 20240719 (Red Hat 11.5.0-11) CentOS Stream 10 Kernel: 5.4 Compiler: gcc gcc (GCC) 14.2.1 20250110 (Red Hat 14.2.1-8) To view detailed results, visit: https://lab.dpdk.org/results/dashboard/patchsets/34323/ UNH-IOL DPDK Community Lab To manage your email subscriptions, visit: https://lab.dpdk.org/results/dashboard/preferences/subscriptions/