From mboxrd@z Thu Jan 1 00:00:00 1970 Return-Path: Received: from mails.dpdk.org (mails.dpdk.org [217.70.189.124]) by inbox.dpdk.org (Postfix) with ESMTP id 6180F48973 for ; Sat, 18 Oct 2025 22:28:25 +0200 (CEST) Received: from mails.dpdk.org (localhost [127.0.0.1]) by mails.dpdk.org (Postfix) with ESMTP id 5C7904013F; Sat, 18 Oct 2025 22:28:25 +0200 (CEST) Received: from mail-ot1-f99.google.com (mail-ot1-f99.google.com [209.85.210.99]) by mails.dpdk.org (Postfix) with ESMTP id 8BB844013F for ; Sat, 18 Oct 2025 22:28:24 +0200 (CEST) Received: by mail-ot1-f99.google.com with SMTP id 46e09a7af769-7c281c649ccso1148273a34.2 for ; Sat, 18 Oct 2025 13:28:24 -0700 (PDT) DKIM-Signature: v=1; a=rsa-sha256; c=relaxed/relaxed; d=iol.unh.edu; s=unh-iol; t=1760819303; x=1761424103; darn=dpdk.org; h=cc:to:from:subject:message-id:date:from:to:cc:subject:date :message-id:reply-to; bh=uUADYnJZW0BWNOA+uakbSirQIit6ItXPnbE43+eszLs=; b=ZksMMpv7eMOPm2RL2qd6/Z20Guo6Z79h5EiHk7P7wlmPxdSLYlCF0A+Qvm6hrv3NaI 0Y13rqBem3+1Sf3bXg6BNHX7L7zDFUf2zar1tde/S2PxqcuGhQc1wwq0DlFF9j1qImql a1arYeE3TaYz/3U2/RGpgGLRpHNRZQgJv2f6k= X-Google-DKIM-Signature: v=1; a=rsa-sha256; c=relaxed/relaxed; d=1e100.net; s=20230601; t=1760819303; x=1761424103; h=cc:to:from:subject:message-id:date:x-gm-message-state:from:to:cc :subject:date:message-id:reply-to; bh=uUADYnJZW0BWNOA+uakbSirQIit6ItXPnbE43+eszLs=; b=JTvGtRnbTJz+hFVYJwOD6K7aMDswJ6nx3zMSpNEOshi9RM8mQjQEETiNsFjBoSriqC n9+OhC1/s4k7EVqZ7uXkNtUNwwzSIUptOApy4B0R+vAHougkwNkH7c3VXAnjfW2aMSxi LCduRq+OZWspEbgYst3cwIHxt0Xtp2Uqpbfbp68CsHhe/JSOMZHECoDz+/6p+G1nkutJ RyKYVEPCRBCicN397e6Qu2DH9rmLKSYvKadmbDsfBM4CVdNaREajVYUshHVtBfgWX/w5 BG/BMgQiE0YTBaJM/dwYP1KKpqL+an8/AWYluJILLVunHJQgzAlxhMUalcyawdAwnEO6 AkyQ== X-Gm-Message-State: AOJu0YxdUYGEuw68HqfQad7jcgs+42wc5gp4q71BfkBIETGlZb62mU00 uRGXNR9Gwd7Bf5fGTsIbde33HpzbIqYnRHKVNq8P+ai9qurClBK/9CPv3EGpxFtQGmH921VSbnA od8x7QIko1Fi+4VHMKhBe6DXvVzApJIz7JY7uyfKxbJ4c X-Gm-Gg: ASbGnctgoTVd2IeagSTqYGiEAgNOAq5yuGDPYrnKvb9EZHImLmcSUhv5uHmkNyGHxe4 Ym6JVGREjvaWcAZeZOfOlwcEbl7Rez4tkqpwDN2IEwnBQQ8y7LgUsWBaSldUvs2QLes9MpFaB17 4MQofhVjVuoQNhc9Zhdv8bAjkBzCpp6pysr26OmVcF1R+So5Tjkza3aBY2eHZ1eW/lHTkU5UquN BMtVA8909EjUbhgCRaiuxoLgm15bbo2hMYa2Ia2hj7cw7sFi6YQMoBpJmUvhuxFho4hLUmPIzMg Pvyn8HpXo3qUTFM41Qr5A8kF/5HNk9K8XirB0wKIU5VChQGO/Q2cgZj+hCGVedfA0KEnmvE/oDL dVie/ScELbGa3P65WMo1Wa9eWXpF2arI= X-Google-Smtp-Source: AGHT+IGUbI33rDmC0SUkYymYhNy0JtMrTM3xtS1IuJElqkNNUwZzcLHy2fYxUsMT82GHnTGFIYn9M8t2DwP3 X-Received: by 2002:a05:6830:6f8a:b0:771:5ae2:fcde with SMTP id 46e09a7af769-7c27ca3115amr3754646a34.2.1760819303682; Sat, 18 Oct 2025 13:28:23 -0700 (PDT) Received: from postal.iol.unh.edu (postal.iol.unh.edu. [132.177.123.84]) by smtp-relay.gmail.com with ESMTPS id 46e09a7af769-7c28874fdcfsm460373a34.1.2025.10.18.13.28.23 (version=TLS1_2 cipher=ECDHE-ECDSA-AES128-GCM-SHA256 bits=128/128); Sat, 18 Oct 2025 13:28:23 -0700 (PDT) X-Relaying-Domain: iol.unh.edu Date: Sat, 18 Oct 2025 13:28:23 -0700 (PDT) Message-ID: <68f3f867.050a0220.db87c.fcd1SMTPIN_ADDED_MISSING@mx.google.com> Received: from [172.21.0.2] (unknown [172.18.0.240]) by postal.iol.unh.edu (Postfix) with ESMTP id CF5586051830; Sat, 18 Oct 2025 16:28:22 -0400 (EDT) Subject: |SUCCESS| [GIT MASTER] 3ae1e87388139b3c92c368203b0885a386eb9295 From: dpdklab@iol.unh.edu To: Test Report Cc: dpdk-test-reports@iol.unh.edu, Stephen Hemminger Content-Type: text/plain X-BeenThere: test-report@dpdk.org X-Mailman-Version: 2.1.29 Precedence: list List-Id: automatic DPDK test reports List-Unsubscribe: , List-Archive: List-Post: List-Help: List-Subscribe: , Errors-To: test-report-bounces@dpdk.org _Testing PASS_ Branch: dpdk-next-net 3ae1e87388139b3c92c368203b0885a386eb9295 --> testing pass Upstream job id: Generic-DPDK-Compile-Meson#435806 Test environment and result as below: +------------------------------+--------------------+ | Environment | dpdk_meson_compile | +==============================+====================+ | Red Hat Enterprise Linux 9.5 | PASS | +------------------------------+--------------------+ | Ubuntu 20.04 | PASS | +------------------------------+--------------------+ | Debian GNU/Linux 12 | PASS | +------------------------------+--------------------+ | Fedora Linux 42 | PASS | +------------------------------+--------------------+ | Ubuntu 22.04 | PASS | +------------------------------+--------------------+ | Ubuntu 24.04 | PASS | +------------------------------+--------------------+ | CentOS Stream 9 | PASS | +------------------------------+--------------------+ | CentOS Stream 10 | PASS | +------------------------------+--------------------+ Red Hat Enterprise Linux 9.5 Kernel: 5.4 Compiler: gcc gcc (GCC) 11.5.0 20240719 (Red Hat 11.5.0-2) Ubuntu 20.04 Kernel: 5.15 Compiler: aarch64-linux-gnu-gcc gcc (Ubuntu 9.4.0-1ubuntu1~20.04.2) 9.4.0 Debian GNU/Linux 12 Kernel: 5.4 Compiler: gcc gcc (Debian 12.2.0-14+deb12u1) 12.2.0 Fedora Linux 42 Kernel: 5.4 Compiler: gcc gcc (GCC) 15.2.1 20250808 (Red Hat 15.2.1-1) Ubuntu 22.04 Kernel: 5.4 Compiler: gcc gcc (Ubuntu 11.4.0-1ubuntu1~22.04) 11.4.0 Ubuntu 24.04 Kernel: 5.4 Compiler: gcc gcc (Ubuntu 13.3.0-6ubuntu2~24.04) 13.3.0 CentOS Stream 9 Kernel: 5.4 Compiler: gcc gcc (GCC) 11.5.0 20240719 (Red Hat 11.5.0-11) CentOS Stream 10 Kernel: 5.4 Compiler: gcc gcc (GCC) 14.2.1 20250110 (Red Hat 14.2.1-8) To view detailed results, visit: https://lab.dpdk.org/results/dashboard/tarballs/35266/ UNH-IOL DPDK Community Lab To manage your email subscriptions, visit: https://lab.dpdk.org/results/dashboard/preferences/subscriptions/