From mboxrd@z Thu Jan 1 00:00:00 1970 Return-Path: Received: from mails.dpdk.org (mails.dpdk.org [217.70.189.124]) by inbox.dpdk.org (Postfix) with ESMTP id 5EB8D48974 for ; Sun, 19 Oct 2025 00:25:00 +0200 (CEST) Received: from mails.dpdk.org (localhost [127.0.0.1]) by mails.dpdk.org (Postfix) with ESMTP id 1F999402B9; Sun, 19 Oct 2025 00:25:00 +0200 (CEST) Received: from mail-pj1-f98.google.com (mail-pj1-f98.google.com [209.85.216.98]) by mails.dpdk.org (Postfix) with ESMTP id E48394025E for ; Sun, 19 Oct 2025 00:24:58 +0200 (CEST) Received: by mail-pj1-f98.google.com with SMTP id 98e67ed59e1d1-33ba37b3ff7so2893552a91.1 for ; Sat, 18 Oct 2025 15:24:58 -0700 (PDT) DKIM-Signature: v=1; a=rsa-sha256; c=relaxed/relaxed; d=iol.unh.edu; s=unh-iol; t=1760826298; x=1761431098; darn=dpdk.org; h=cc:to:from:subject:message-id:date:from:to:cc:subject:date :message-id:reply-to; bh=bA/izb+L0HZANYA6Grp4g3A6knsXpJWVsg00CHtZYfw=; b=ODeWuxHznQHbbhDpRMbFB5mzipSjAbdsgSellmXaMZwXOT1YG9MEA7kxoD/geQOtI/ 05DwyRCvpmGphnItd58EWE7Q0M92tzUGD8tY973TjyngpSFnc05da5EgHvgsJR3+9Xhw IZnjyMp9Yn3txiWALsrZzsylzHYj28QYzaxLo= X-Google-DKIM-Signature: v=1; a=rsa-sha256; c=relaxed/relaxed; d=1e100.net; s=20230601; t=1760826298; x=1761431098; h=cc:to:from:subject:message-id:date:x-gm-message-state:from:to:cc :subject:date:message-id:reply-to; bh=bA/izb+L0HZANYA6Grp4g3A6knsXpJWVsg00CHtZYfw=; b=IkRFSYaQDqLoHhyztFwQzIpGI0RK3wImeIMtx6xpY2g9PedE2+0RSZZOMspB45HfWL 2w8aFHvlr9lK/DX2PWGptk9IN8OTTgu/wb0kIAJcLsKLLoVR4SkCi0Ad5P3HKsMssXK4 i+5dfh+qBmIvCzLZMtosea/RZmh2upsUFQmq7taGUQFuQ6Oz/IAa9V5f7WGhurUDm8Wy hIEIcoVm0z5aQUZnm/YWp3QZZ0WAcsWm6f4q0I6tNh2VXDUrMHpW8Zzhjk7oQHrhfCjb eRKatJlIiW9MWvBSJVQTciSq/D7GsKOeihm7CfeAA3q/Gw3fOv4U/880Y9A8QRTqiFbs om0w== X-Gm-Message-State: AOJu0YwVAKvSnH9qYu9hOu32hhH+MLpKOkOjinkmAB1g8L2p6ZupsPms d6nTtwRLFbi8gIKNu+5XQDuR0SHsNUxHDpb1YA1L5x5lE2P6b9tuCx8hqdwfrgTyWFaYDRqTPoD j9Bt9WES31PpKIozOraDdLoyiVBoJjkkPlLAX9uVFlyiG X-Gm-Gg: ASbGncuYiKM7SVF4qb14wHAQ45HN7fTDKk0zGh+Sk5b5S/OoCLJB3Ffs6VaDbY81tFa jBacR7vD85iINqTP3BtgzZ3pfS7tYGfKV2rj1Ix7AgoIbgfPmJr62k80NwvZw2xbeAhi1PZRaig fpNfNy4VbaQ0sI7twqYDIzHDCByQp9yXuGox25D5TPfIwYci+WTgY9rOAI664tnO5Bzsw9XSHB3 oy0nhcP78WpSsBL2pt699oaw6509rSxg1HNnG5qngVC2cHeEJZpONRMJ/2l2ttl83dGn8itsG+Y czE1E31kCDKConCb8FaA5JfJtQtFam0HD7SJVjpzK1zTAiKPAwizKW3HdeFSoTjOOXzvOSfDayr Cs8O2wnM/01fgtqqi5YLREfG3v3OlOQg= X-Google-Smtp-Source: AGHT+IHYwpeV7EWMkW7yfYApDGawfkFDSF1i/pwmAcJrJY6/2bI9QRXwr8uQ2Q3F754P1ZJ3SzQEaQEygQI1 X-Received: by 2002:a17:90b:274c:b0:31f:ecf:36f with SMTP id 98e67ed59e1d1-33b9e090157mr16178088a91.1.1760826298001; Sat, 18 Oct 2025 15:24:58 -0700 (PDT) Received: from postal.iol.unh.edu (postal.iol.unh.edu. [132.177.123.84]) by smtp-relay.gmail.com with ESMTPS id 98e67ed59e1d1-33d5df6fcbbsm383589a91.5.2025.10.18.15.24.57 (version=TLS1_2 cipher=ECDHE-ECDSA-AES128-GCM-SHA256 bits=128/128); Sat, 18 Oct 2025 15:24:57 -0700 (PDT) X-Relaying-Domain: iol.unh.edu Date: Sat, 18 Oct 2025 15:24:57 -0700 (PDT) Message-ID: <68f413b9.170a0220.2ebbe4.c605SMTPIN_ADDED_MISSING@mx.google.com> Received: from [172.21.0.3] (unknown [172.18.0.240]) by postal.iol.unh.edu (Postfix) with ESMTP id DF22A6051830; Sat, 18 Oct 2025 18:24:56 -0400 (EDT) Subject: |SUCCESS| [GIT MASTER] fd6bb586ca832c0cd6a84bcf7123a6063b3ae133 From: dpdklab@iol.unh.edu To: Test Report Cc: dpdk-test-reports@iol.unh.edu Content-Type: text/plain X-BeenThere: test-report@dpdk.org X-Mailman-Version: 2.1.29 Precedence: list List-Id: automatic DPDK test reports List-Unsubscribe: , List-Archive: List-Post: List-Help: List-Subscribe: , Errors-To: test-report-bounces@dpdk.org _Testing PASS_ Branch: dpdk fd6bb586ca832c0cd6a84bcf7123a6063b3ae133 --> testing pass Upstream job id: Generic-Unit-Test-DPDK#383003 Test environment and result as below: +------------------------------+---------------------------+--------------+------------------------------+----------------+ | Environment | cryptodev_sw_zuc_autotest | lpm_autotest | cryptodev_sw_snow3g_autotest | dpdk_unit_test | +==============================+===========================+==============+==============================+================+ | Debian 12 (arm) | PASS | SKIPPED | PASS | SKIPPED | +------------------------------+---------------------------+--------------+------------------------------+----------------+ | Ubuntu 20.04 | SKIPPED | PASS | SKIPPED | PASS | +------------------------------+---------------------------+--------------+------------------------------+----------------+ | CentOS Stream 10 | SKIPPED | SKIPPED | SKIPPED | PASS | +------------------------------+---------------------------+--------------+------------------------------+----------------+ | Ubuntu 22.04 | SKIPPED | SKIPPED | SKIPPED | PASS | +------------------------------+---------------------------+--------------+------------------------------+----------------+ | Debian GNU/Linux 12 | SKIPPED | SKIPPED | SKIPPED | PASS | +------------------------------+---------------------------+--------------+------------------------------+----------------+ | Fedora Linux 40 | SKIPPED | SKIPPED | SKIPPED | PASS | +------------------------------+---------------------------+--------------+------------------------------+----------------+ | CentOS Stream 9 | SKIPPED | SKIPPED | SKIPPED | PASS | +------------------------------+---------------------------+--------------+------------------------------+----------------+ | Fedora Linux 41 | SKIPPED | SKIPPED | SKIPPED | PASS | +------------------------------+---------------------------+--------------+------------------------------+----------------+ | Fedora Linux 42 | SKIPPED | SKIPPED | SKIPPED | PASS | +------------------------------+---------------------------+--------------+------------------------------+----------------+ | Red Hat Enterprise Linux 9.5 | SKIPPED | SKIPPED | SKIPPED | PASS | +------------------------------+---------------------------+--------------+------------------------------+----------------+ | Ubuntu 24.04 | SKIPPED | SKIPPED | SKIPPED | PASS | +------------------------------+---------------------------+--------------+------------------------------+----------------+ Debian 12 (arm) Kernel: Depends on container host Compiler: gcc (Debian 12.2.0-14) 12.2.0 Ubuntu 20.04 Kernel: 5.4 Compiler: gcc gcc (Ubuntu 9.4.0-1ubuntu1~20.04.2) 9.4.0 CentOS Stream 10 Kernel: 5.4 Compiler: gcc gcc (GCC) 14.2.1 20250110 (Red Hat 14.2.1-8) Ubuntu 22.04 Kernel: 5.15 Compiler: gcc gcc (Ubuntu 11.4.0-1ubuntu1~22.04.2) 11.4.0 Debian GNU/Linux 12 Kernel: 5.4 Compiler: gcc gcc (Debian 12.2.0-14+deb12u1) 12.2.0 Fedora Linux 40 Kernel: 5.4 Compiler: clang gcc (GCC) 14.2.1 20240912 (Red Hat 14.2.1-3) CentOS Stream 9 Kernel: 5.4 Compiler: gcc gcc (GCC) 11.5.0 20240719 (Red Hat 11.5.0-11) Fedora Linux 41 Kernel: 5.4 Compiler: clang gcc (GCC) 14.3.1 20250523 (Red Hat 14.3.1-1) Fedora Linux 42 Kernel: 5.4 Compiler: gcc gcc (GCC) 15.2.1 20250808 (Red Hat 15.2.1-1) Red Hat Enterprise Linux 9.5 Kernel: 5.4 Compiler: gcc gcc (GCC) 11.5.0 20240719 (Red Hat 11.5.0-2) Ubuntu 24.04 Kernel: 5.4 Compiler: gcc gcc (Ubuntu 13.3.0-6ubuntu2~24.04) 13.3.0 To view detailed results, visit: https://lab.dpdk.org/results/dashboard/tarballs/35262/ UNH-IOL DPDK Community Lab To manage your email subscriptions, visit: https://lab.dpdk.org/results/dashboard/preferences/subscriptions/