From mboxrd@z Thu Jan 1 00:00:00 1970 Return-Path: Received: from mails.dpdk.org (mails.dpdk.org [217.70.189.124]) by inbox.dpdk.org (Postfix) with ESMTP id 0F2DB48974 for ; Sun, 19 Oct 2025 00:57:55 +0200 (CEST) Received: from mails.dpdk.org (localhost [127.0.0.1]) by mails.dpdk.org (Postfix) with ESMTP id D0E414013F; Sun, 19 Oct 2025 00:57:54 +0200 (CEST) Received: from mail-yw1-f226.google.com (mail-yw1-f226.google.com [209.85.128.226]) by mails.dpdk.org (Postfix) with ESMTP id 99EE64013F for ; Sun, 19 Oct 2025 00:57:53 +0200 (CEST) Received: by mail-yw1-f226.google.com with SMTP id 00721157ae682-784826b775aso7685897b3.2 for ; Sat, 18 Oct 2025 15:57:53 -0700 (PDT) DKIM-Signature: v=1; a=rsa-sha256; c=relaxed/relaxed; d=iol.unh.edu; s=unh-iol; t=1760828273; x=1761433073; darn=dpdk.org; h=cc:to:from:subject:message-id:date:from:to:cc:subject:date :message-id:reply-to; bh=Ph7F9nRI4G5yJYdNtLO7vvgsEmwMD+JGFe04hCza6Fw=; b=bKwt1OPjClN8c8cmksxL0SOIDbHrKyRtKap3p8FGYijLnWkW2cATv4zs+iRCL4eWv6 o6YSmWtZEwpkeHcX9GZWJMgCo3zmzLy7axEHDjvcIdatjohy2+pJRE00M+pXT309GAp7 OlGpAfEduPtMg5v1zfBYNV6W/di/o1m5i1gCc= X-Google-DKIM-Signature: v=1; a=rsa-sha256; c=relaxed/relaxed; d=1e100.net; s=20230601; t=1760828273; x=1761433073; h=cc:to:from:subject:message-id:date:x-gm-message-state:from:to:cc :subject:date:message-id:reply-to; bh=Ph7F9nRI4G5yJYdNtLO7vvgsEmwMD+JGFe04hCza6Fw=; b=ZpX29z/H/UkJk8IJD0Vi+/UQ8iU0ae6OU/cyZxqPFmyFtLrCMl56hxDAs1XH+WA6hY yn/BFOEC6OKNjNbSp3/1Lhu/wZ2bMZ/dkuwCNo6AlPxTPXQ186XjDc37z73mKDPj/WOV UHtJc3hCqftWUrN5Hiov9gYEKFvCABQydEnHLIGJIc0g25aBiUtqy0IuHyPQoqx+8PCh Y787Mj0hQFLHKUwMwgpza/e4Mq06oGyw5Q54P3qq6H6qnbPoX6FYheRjcMS1PJ39VdWr ImoW4vOoK0CG9kapBP4RnetxRxzvTSDXa/6C2w1pWyMTfUOgVqQQd8xqNjFoVaBoSHHP Mu/Q== X-Gm-Message-State: AOJu0Yxmw9BpuzXLha+edMDdUX69TkGdn3DjoW3x9KJ8+cKwzJcuzl2A R7ZP/YB7dh6GekwNx3fHNgdzjWVoxEQ1AoJQk1rI3ejhDKFGSDNW6R+cM4JneRHXT8jvSiv5JSm 5scxyUkWvEBl0VAijll0dXtbRfJTaN5pBVDWY X-Gm-Gg: ASbGncu8iCmfjIkcZYMa6AyB4XwfzfQwRQuNVv2LINcMKMqXN+ZJiR86A8RD6uad+0B CEPs7H9ddcF7MHPHM30j98vuFeQilEiKRrvIQ06KSqUTVYifoYyWMKaGm+0z15a+RpQdOkNRXAq LFNaOggJ0xneF30/8MRIndaLjdBXnsM+bSg7GOPaksP8uqEjQuygbWii38ooQChOf9RDUJXD9ui 5WLq8zkBD6MXe5CxaSAKxA3XWUZD2deDNz0tcbAJa7wJOj9zyCAzNf6z5PfFP2dxLQ4dcNtogIL aDv9cqXRRUD48gC0yDKKydBO62u8OLd/4K9QoiiLzXjw1eLq5Db/uhpnCt3tUt6tnNTHqcIerY7 Y5krTdGge7Ito4ZjfZdPsctP55arwXSo= X-Google-Smtp-Source: AGHT+IEbjUf0oFsbpCq4FmmLQUBCrIpVI0VelgqYv4C2gRXsFro4/PZkagl+Mlk4qfNuj0LaSjrE/T2YvHRr X-Received: by 2002:a05:690c:968e:b0:784:92a3:68ac with SMTP id 00721157ae682-78492a389b6mr1201317b3.44.1760828272856; Sat, 18 Oct 2025 15:57:52 -0700 (PDT) Received: from postal.iol.unh.edu (postal.iol.unh.edu. [132.177.123.84]) by smtp-relay.gmail.com with ESMTPS id 00721157ae682-784674b3015sm2956927b3.18.2025.10.18.15.57.52 (version=TLS1_2 cipher=ECDHE-ECDSA-AES128-GCM-SHA256 bits=128/128); Sat, 18 Oct 2025 15:57:52 -0700 (PDT) X-Relaying-Domain: iol.unh.edu Date: Sat, 18 Oct 2025 15:57:52 -0700 (PDT) Message-ID: <68f41b70.050a0220.140bdd.afabSMTPIN_ADDED_MISSING@mx.google.com> Received: from [172.21.0.2] (unknown [172.18.0.240]) by postal.iol.unh.edu (Postfix) with ESMTP id 3B39560003E8; Sat, 18 Oct 2025 18:57:52 -0400 (EDT) Subject: |SUCCESS| [GIT MASTER] 3b43ce3f4a54468e7ef65760c2fd7b4d6ee6d9fc From: dpdklab@iol.unh.edu To: Test Report Cc: dpdk-test-reports@iol.unh.edu, Xueming Li , Christian Ehrhardt , Kevin Traynor , Luca Boccassi Content-Type: text/plain X-BeenThere: test-report@dpdk.org X-Mailman-Version: 2.1.29 Precedence: list List-Id: automatic DPDK test reports List-Unsubscribe: , List-Archive: List-Post: List-Help: List-Subscribe: , Errors-To: test-report-bounces@dpdk.org _Testing PASS_ Branch: tags/v22.11 3b43ce3f4a54468e7ef65760c2fd7b4d6ee6d9fc --> testing pass Upstream job id: Generic-Unit-Test-DPDK#383045 Test environment and result as below: +-----------------+---------------------------+------------------------------+--------------+----------------+ | Environment | cryptodev_sw_zuc_autotest | cryptodev_sw_snow3g_autotest | lpm_autotest | dpdk_unit_test | +=================+===========================+==============================+==============+================+ | Debian 12 (arm) | PASS | PASS | SKIPPED | SKIPPED | +-----------------+---------------------------+------------------------------+--------------+----------------+ | Ubuntu 20.04 | SKIPPED | SKIPPED | PASS | SKIPPED | +-----------------+---------------------------+------------------------------+--------------+----------------+ | Ubuntu 22.04 | SKIPPED | SKIPPED | SKIPPED | PASS | +-----------------+---------------------------+------------------------------+--------------+----------------+ Debian 12 (arm) Kernel: Depends on container host Compiler: gcc (Debian 12.2.0-14) 12.2.0 Ubuntu 20.04 Kernel: 5.4 Compiler: gcc gcc (Ubuntu 9.4.0-1ubuntu1~20.04.2) 9.4.0 Ubuntu 22.04 Kernel: 5.15 Compiler: gcc gcc (Ubuntu 11.4.0-1ubuntu1~22.04.2) 11.4.0 To view detailed results, visit: https://lab.dpdk.org/results/dashboard/tarballs/35263/ UNH-IOL DPDK Community Lab To manage your email subscriptions, visit: https://lab.dpdk.org/results/dashboard/preferences/subscriptions/