From mboxrd@z Thu Jan 1 00:00:00 1970 Return-Path: Received: from mails.dpdk.org (mails.dpdk.org [217.70.189.124]) by inbox.dpdk.org (Postfix) with ESMTP id A8E7148973 for ; Sun, 19 Oct 2025 02:07:37 +0200 (CEST) Received: from mails.dpdk.org (localhost [127.0.0.1]) by mails.dpdk.org (Postfix) with ESMTP id 82DED4013F; Sun, 19 Oct 2025 02:07:37 +0200 (CEST) Received: from mail-il1-f227.google.com (mail-il1-f227.google.com [209.85.166.227]) by mails.dpdk.org (Postfix) with ESMTP id 86EE54013F for ; Sun, 19 Oct 2025 02:07:36 +0200 (CEST) Received: by mail-il1-f227.google.com with SMTP id e9e14a558f8ab-430c180d829so11428535ab.3 for ; Sat, 18 Oct 2025 17:07:36 -0700 (PDT) DKIM-Signature: v=1; a=rsa-sha256; c=relaxed/relaxed; d=iol.unh.edu; s=unh-iol; t=1760832455; x=1761437255; darn=dpdk.org; h=cc:to:from:subject:message-id:date:from:to:cc:subject:date :message-id:reply-to; bh=8owHiGuzb0L2WmBJmeaQHYXThUzpBtT83M6Bxprqn9c=; b=MCgJhi7Ff1xR7F1UYw+bdZomPRl/mHJY17cKxUIRPGr/RAxBXSUcIG9r2W76iPOALC Ggf2wbeyp78qs0Zir+BAz8Mm5GuDb23pm0Iy02+xo3aMoMVZMHRGYyFgxFLchSFeYlp0 5I97p/+Ar3lrAhKoSoGuSsMiyxuo5lyydp0oo= X-Google-DKIM-Signature: v=1; a=rsa-sha256; c=relaxed/relaxed; d=1e100.net; s=20230601; t=1760832455; x=1761437255; h=cc:to:from:subject:message-id:date:x-gm-message-state:from:to:cc :subject:date:message-id:reply-to; bh=8owHiGuzb0L2WmBJmeaQHYXThUzpBtT83M6Bxprqn9c=; b=oKMA7bj0WEPDp2TL+uTl4op7pGlmMSAZAaqowRI/OwTWsEKoyXUpDnD5ORXNdYQDdK UcJOpYQHDc8/tzQLq5Kphr8ZNuo8YoXk+Lsx+cqXljmGffFga76b8XkObdmcTmYdbaDT +SwAswdv9XHITggJcL2P1ipwT45SzROSfo7mwx+AQf57RecwYTIDdUrisbwM5HUJn+2p e9Dax1/vFp9wd4Oxyhhexo1xLnZvl2KwLIQxKgpTJY9Cl9YGSM1lh+vZ4yT/bFFdrdqE 9p/zWiDVIKSJs7t7C10i3BGvwK3BgIxObsat6j1oeZJWyhnwzg0cI7AU/84ZmR77HhNs MKJg== X-Gm-Message-State: AOJu0YyJSlvgzokEn7oDKMM0HU6f3ht6zQx0V75aoj7Z+VxMsbv9ULtm h9mIB+9RH6w5Ebhy4pocTHMk+IaTGL8pDoNWt+RxacTsl4Ivkwdn6YN+g+VK5IUzA/eLLP9Evse 79/uVb6s/pdvYyQE9rVSwSJWk/4XcnqGcK5Bn X-Gm-Gg: ASbGncs2Sr7lqrTVoi/feGTfu/gVj8UjnMmvqWvh0Trngvw84NHyNnkml/YdEhjTZfD RAtuHRbZNgTgZ1jjIKWAh84tZTMu8prcZJ36bBj1mv1s7bPPch7VzhfHQdPuJWtgyy3eJfP6Hxe RdVMtUiw4l004DYJrYFMWO8KoiZTWOqPtiGNoehY35CT3ZVE6dz4hOHo0TtWjN/dbUh/IHXq19b y2mkPRQd7rFN3qr85NBG5hZwL4RCwEX7S+u6cxmHPDuuE2sDffEvFC4Lr1XBjeIYYfah40wy6Ti dauA5ZOZagRL58LmwA45K7TriOWMCO6Qrx4SfCHb5wMeFdX4fA0LoowPZD/PQXYiSH5TeGUJR8P HkTsbNUM9TqttLe6rQBw8C9TdjWA2AmU= X-Google-Smtp-Source: AGHT+IFIaUvOg+fxrfWeEKm61cH+uoyEsGj/9Co38AKaxln7xKvFZpgrsMCXsyVuU7ZqRez8m9ThWVQAaF82 X-Received: by 2002:a05:6e02:4617:b0:430:d448:eb41 with SMTP id e9e14a558f8ab-430d448ee9fmr43997835ab.31.1760832455693; Sat, 18 Oct 2025 17:07:35 -0700 (PDT) Received: from postal.iol.unh.edu (postal.iol.unh.edu. [132.177.123.84]) by smtp-relay.gmail.com with ESMTPS id 8926c6da1cb9f-5a8a962798bsm462415173.12.2025.10.18.17.07.35 (version=TLS1_2 cipher=ECDHE-ECDSA-AES128-GCM-SHA256 bits=128/128); Sat, 18 Oct 2025 17:07:35 -0700 (PDT) X-Relaying-Domain: iol.unh.edu Date: Sat, 18 Oct 2025 17:07:35 -0700 (PDT) Message-ID: <68f42bc7.050a0220.3bbcfc.ecb6SMTPIN_ADDED_MISSING@mx.google.com> Received: from [172.21.0.2] (unknown [172.18.0.240]) by postal.iol.unh.edu (Postfix) with ESMTP id 2FEA86051830; Sat, 18 Oct 2025 20:07:35 -0400 (EDT) Subject: |WARNING| [GIT MASTER] 62f583c49bf67dd4d6733ece14e55fe6839e66d1 From: dpdklab@iol.unh.edu To: Test Report Cc: dpdk-test-reports@iol.unh.edu, Xueming Li , Christian Ehrhardt , Kevin Traynor , Luca Boccassi Content-Type: text/plain X-BeenThere: test-report@dpdk.org X-Mailman-Version: 2.1.29 Precedence: list List-Id: automatic DPDK test reports List-Unsubscribe: , List-Archive: List-Post: List-Help: List-Subscribe: , Errors-To: test-report-bounces@dpdk.org _Testing issues_ Branch: tags/v23.11 62f583c49bf67dd4d6733ece14e55fe6839e66d1 --> testing issues Upstream job id: Generic-Unit-Test-DPDK#383039 Test environment and result as below: +------------------------------+----------------+--------------+---------------------------+------------------------------+ | Environment | dpdk_unit_test | lpm_autotest | cryptodev_sw_zuc_autotest | cryptodev_sw_snow3g_autotest | +==============================+================+==============+===========================+==============================+ | Fedora Linux 41 | PASS | SKIPPED | SKIPPED | SKIPPED | +------------------------------+----------------+--------------+---------------------------+------------------------------+ | Fedora Linux 40 | PASS | SKIPPED | SKIPPED | SKIPPED | +------------------------------+----------------+--------------+---------------------------+------------------------------+ | Fedora Linux 42 | PASS | SKIPPED | SKIPPED | SKIPPED | +------------------------------+----------------+--------------+---------------------------+------------------------------+ | CentOS Stream 9 | PASS | SKIPPED | SKIPPED | SKIPPED | +------------------------------+----------------+--------------+---------------------------+------------------------------+ | CentOS Stream 10 | PASS | SKIPPED | SKIPPED | SKIPPED | +------------------------------+----------------+--------------+---------------------------+------------------------------+ | Debian GNU/Linux 12 | PASS | SKIPPED | SKIPPED | SKIPPED | +------------------------------+----------------+--------------+---------------------------+------------------------------+ | Ubuntu 24.04 | PASS | SKIPPED | SKIPPED | SKIPPED | +------------------------------+----------------+--------------+---------------------------+------------------------------+ | Ubuntu 22.04 | PASS | SKIPPED | SKIPPED | SKIPPED | +------------------------------+----------------+--------------+---------------------------+------------------------------+ | Ubuntu 20.04 | PASS | PASS | SKIPPED | SKIPPED | +------------------------------+----------------+--------------+---------------------------+------------------------------+ | Red Hat Enterprise Linux 9.5 | PASS | SKIPPED | SKIPPED | SKIPPED | +------------------------------+----------------+--------------+---------------------------+------------------------------+ | Debian 12 (arm) | SKIPPED | SKIPPED | PASS | PASS | +------------------------------+----------------+--------------+---------------------------+------------------------------+ Fedora Linux 41 Kernel: 5.4 Compiler: gcc gcc (GCC) 14.3.1 20250523 (Red Hat 14.3.1-1) Fedora Linux 40 Kernel: 5.4 Compiler: clang gcc (GCC) 14.2.1 20240912 (Red Hat 14.2.1-3) Fedora Linux 42 Kernel: 5.4 Compiler: gcc gcc (GCC) 15.2.1 20250808 (Red Hat 15.2.1-1) CentOS Stream 9 Kernel: 5.4 Compiler: gcc gcc (GCC) 11.5.0 20240719 (Red Hat 11.5.0-11) CentOS Stream 10 Kernel: 5.4 Compiler: gcc gcc (GCC) 14.2.1 20250110 (Red Hat 14.2.1-8) Debian GNU/Linux 12 Kernel: 5.4 Compiler: gcc gcc (Debian 12.2.0-14+deb12u1) 12.2.0 Ubuntu 24.04 Kernel: 5.4 Compiler: gcc gcc (Ubuntu 13.3.0-6ubuntu2~24.04) 13.3.0 Ubuntu 22.04 Kernel: 5.4 Compiler: gcc gcc (Ubuntu 11.4.0-1ubuntu1~22.04) 11.4.0 Ubuntu 20.04 Kernel: 5.4 Compiler: gcc gcc (Ubuntu 9.4.0-1ubuntu1~20.04.2) 9.4.0 Red Hat Enterprise Linux 9.5 Kernel: 5.4 Compiler: gcc gcc (GCC) 11.5.0 20240719 (Red Hat 11.5.0-2) Debian 12 (arm) Kernel: Depends on container host Compiler: gcc (Debian 12.2.0-14) 12.2.0 To view detailed results, visit: https://lab.dpdk.org/results/dashboard/tarballs/35264/ UNH-IOL DPDK Community Lab To manage your email subscriptions, visit: https://lab.dpdk.org/results/dashboard/preferences/subscriptions/