From mboxrd@z Thu Jan 1 00:00:00 1970 Return-Path: Received: from mails.dpdk.org (mails.dpdk.org [217.70.189.124]) by inbox.dpdk.org (Postfix) with ESMTP id CA06348974 for ; Sun, 19 Oct 2025 04:16:39 +0200 (CEST) Received: from mails.dpdk.org (localhost [127.0.0.1]) by mails.dpdk.org (Postfix) with ESMTP id ABBCE4013F; Sun, 19 Oct 2025 04:16:39 +0200 (CEST) Received: from mail-qv1-f97.google.com (mail-qv1-f97.google.com [209.85.219.97]) by mails.dpdk.org (Postfix) with ESMTP id CE8DE4013F for ; Sun, 19 Oct 2025 04:16:37 +0200 (CEST) Received: by mail-qv1-f97.google.com with SMTP id 6a1803df08f44-87c1f607e72so45859656d6.0 for ; Sat, 18 Oct 2025 19:16:37 -0700 (PDT) DKIM-Signature: v=1; a=rsa-sha256; c=relaxed/relaxed; d=iol.unh.edu; s=unh-iol; t=1760840197; x=1761444997; darn=dpdk.org; h=cc:to:from:subject:message-id:date:from:to:cc:subject:date :message-id:reply-to; bh=pPmBsl1EQ8zy18Ie7WZIIEIvoupYFpMw8ovtaAX4Nmg=; b=fwovcS+m5XqcPeMfzzrRqUF4nFuPZX34T/FXdQAAUpcXWO2hjlR2xUxHhdlb1mYP9z gg7ZnCZDc+cjKv9wp74sx/Gz4z3wEH3taA8/tYwrp+MBhohXK7EyDyxTwuG/tGQcC3iG g/jmhuXG2XfnwttRKhZUENtWjSpTBoAOKADRE= X-Google-DKIM-Signature: v=1; a=rsa-sha256; c=relaxed/relaxed; d=1e100.net; s=20230601; t=1760840197; x=1761444997; h=cc:to:from:subject:message-id:date:x-gm-message-state:from:to:cc :subject:date:message-id:reply-to; bh=pPmBsl1EQ8zy18Ie7WZIIEIvoupYFpMw8ovtaAX4Nmg=; b=XhMjWdsaqA7V1g4X7sjJI9kIQGmjsDNYpgtm2M7U8fZmrcinpPs49EcdJjoNYd+mS5 xt2eJLkbHblm3pJXfq7ejbrYC0bHppjfkNgiS21iT07VwrWoStxuYHPCfI9y+8Yuhe7I iJAefDiJFVEqkSnx2BoHKAT1i9lkxpUt1gjN866ShRey4WtsLpn/Rg0/mUvHaT+fnIUY 2/zWZPykhXuZW8uzFmn7NoGYusn8LgR2ag7LFIWQ59XrdD19/wGx++xL4q8yMN7jEuPV jAKaf8waK2QBDBqiZ/JbeEMEOQvAnADYkLa1RhfjTQlwYnImbJOcS00uOd1l7chjkoWK mQ3Q== X-Gm-Message-State: AOJu0YzTzNXXSm8Y5l9ZFWrYcE4iV/984FBKK5AoC0OUTZ4qyVLS2mbr xniIlMiLO4XNtWD0l85Pg0td+l35aDE/6YMCe43sVf35/PJ5Hdy/NvIMPX7PzIjhwW06pdZzX17 jpOUcjchdOPDZ3IiyQqZCLilWonHQXM81xktc X-Gm-Gg: ASbGnctOV+8n8f3lCDAapCJbjN0FipVJXUQStpJ07hHkvkUMs8nRZ+nwbK7M+p/GvDY mMtpUAueallxPkcZOxlJmq/ThcyGN5KVRr6icIUmPVwXxk6axCCiexkB4IiICBrG6ANKVTyWo9q j7Of3w3RukgoYY5W3ZVG3zqYz57TXRgwTuHgwV48CejCZwngaQgpJpVmrgaCT5QcDthlP0Ivq/C XiazLV8kY5vRgrboOoLtsx6oP2kWRCsyCT7sPxRQjlexigwxVJbt09RMO1ehJgVxX2CeiiPSst+ rlhKaxULNGNh74/FETGTaoYRsv/5DofW1dGx7bwy56oY0zA/Z5WPcHPHJ+94KKJE8oLH/btbG1X PeCNJ09cpo2Yq53vWOITW02fYn8kLsf0= X-Google-Smtp-Source: AGHT+IHCks9f8kqNDXc74fCgzAcqUSDcEUqq5bVVFGRcoa0Wt8jj+I8VvedzS2xtzJxqpQrt5/77vHK0T2c5 X-Received: by 2002:a05:6214:5711:b0:87d:c94d:f5d9 with SMTP id 6a1803df08f44-87dc94df687mr49155846d6.13.1760840197106; Sat, 18 Oct 2025 19:16:37 -0700 (PDT) Received: from postal.iol.unh.edu (postal.iol.unh.edu. [132.177.123.84]) by smtp-relay.gmail.com with ESMTPS id 6a1803df08f44-87ce9f5e503sm5401126d6.2.2025.10.18.19.16.37 (version=TLS1_2 cipher=ECDHE-ECDSA-AES128-GCM-SHA256 bits=128/128); Sat, 18 Oct 2025 19:16:37 -0700 (PDT) X-Relaying-Domain: iol.unh.edu Date: Sat, 18 Oct 2025 19:16:37 -0700 (PDT) Message-ID: <68f44a05.050a0220.38cfde.15e0SMTPIN_ADDED_MISSING@mx.google.com> Received: from [172.21.0.2] (unknown [172.18.0.240]) by postal.iol.unh.edu (Postfix) with ESMTP id C42266050A61; Sat, 18 Oct 2025 22:16:36 -0400 (EDT) Subject: |SUCCESS| [GIT MASTER] b287e404643aeab5bb5db084c142789df187844e From: dpdklab@iol.unh.edu To: Test Report Cc: dpdk-test-reports@iol.unh.edu, Xueming Li , Christian Ehrhardt , Kevin Traynor , Luca Boccassi Content-Type: text/plain X-BeenThere: test-report@dpdk.org X-Mailman-Version: 2.1.29 Precedence: list List-Id: automatic DPDK test reports List-Unsubscribe: , List-Archive: List-Post: List-Help: List-Subscribe: , Errors-To: test-report-bounces@dpdk.org _Testing PASS_ Branch: tags/v24.11 b287e404643aeab5bb5db084c142789df187844e --> testing pass Upstream job id: Generic-Unit-Test-DPDK#383075 Test environment and result as below: +------------------------------+----------------+------------------------------+---------------------------+--------------+ | Environment | dpdk_unit_test | cryptodev_sw_snow3g_autotest | cryptodev_sw_zuc_autotest | lpm_autotest | +==============================+================+==============================+===========================+==============+ | Debian GNU/Linux 12 | PASS | SKIPPED | SKIPPED | SKIPPED | +------------------------------+----------------+------------------------------+---------------------------+--------------+ | CentOS Stream 10 | PASS | SKIPPED | SKIPPED | SKIPPED | +------------------------------+----------------+------------------------------+---------------------------+--------------+ | CentOS Stream 9 | PASS | SKIPPED | SKIPPED | SKIPPED | +------------------------------+----------------+------------------------------+---------------------------+--------------+ | Fedora Linux 41 | PASS | SKIPPED | SKIPPED | SKIPPED | +------------------------------+----------------+------------------------------+---------------------------+--------------+ | Fedora Linux 40 | PASS | SKIPPED | SKIPPED | SKIPPED | +------------------------------+----------------+------------------------------+---------------------------+--------------+ | Ubuntu 20.04 | PASS | SKIPPED | SKIPPED | PASS | +------------------------------+----------------+------------------------------+---------------------------+--------------+ | Ubuntu 22.04 | PASS | SKIPPED | SKIPPED | SKIPPED | +------------------------------+----------------+------------------------------+---------------------------+--------------+ | Red Hat Enterprise Linux 9.5 | PASS | SKIPPED | SKIPPED | SKIPPED | +------------------------------+----------------+------------------------------+---------------------------+--------------+ | Fedora Linux 42 | PASS | SKIPPED | SKIPPED | SKIPPED | +------------------------------+----------------+------------------------------+---------------------------+--------------+ | Ubuntu 24.04 | PASS | SKIPPED | SKIPPED | SKIPPED | +------------------------------+----------------+------------------------------+---------------------------+--------------+ | Debian 12 (arm) | SKIPPED | PASS | PASS | SKIPPED | +------------------------------+----------------+------------------------------+---------------------------+--------------+ Debian GNU/Linux 12 Kernel: 5.4 Compiler: gcc gcc (Debian 12.2.0-14+deb12u1) 12.2.0 CentOS Stream 10 Kernel: 5.4 Compiler: gcc gcc (GCC) 14.2.1 20250110 (Red Hat 14.2.1-8) CentOS Stream 9 Kernel: 5.4 Compiler: gcc gcc (GCC) 11.5.0 20240719 (Red Hat 11.5.0-11) Fedora Linux 41 Kernel: 5.4 Compiler: gcc gcc (GCC) 14.3.1 20250523 (Red Hat 14.3.1-1) Fedora Linux 40 Kernel: 5.4 Compiler: gcc gcc (GCC) 14.2.1 20240912 (Red Hat 14.2.1-3) Ubuntu 20.04 Kernel: 5.4 Compiler: gcc gcc (Ubuntu 9.4.0-1ubuntu1~20.04.2) 9.4.0 Ubuntu 22.04 Kernel: 5.4 Compiler: gcc gcc (Ubuntu 11.4.0-1ubuntu1~22.04) 11.4.0 Red Hat Enterprise Linux 9.5 Kernel: 5.4 Compiler: gcc gcc (GCC) 11.5.0 20240719 (Red Hat 11.5.0-2) Fedora Linux 42 Kernel: 5.4 Compiler: gcc gcc (GCC) 15.2.1 20250808 (Red Hat 15.2.1-1) Ubuntu 24.04 Kernel: 5.4 Compiler: gcc gcc (Ubuntu 13.3.0-6ubuntu2~24.04) 13.3.0 Debian 12 (arm) Kernel: Depends on container host Compiler: gcc (Debian 12.2.0-14) 12.2.0 To view detailed results, visit: https://lab.dpdk.org/results/dashboard/tarballs/35265/ UNH-IOL DPDK Community Lab To manage your email subscriptions, visit: https://lab.dpdk.org/results/dashboard/preferences/subscriptions/