From mboxrd@z Thu Jan 1 00:00:00 1970 Return-Path: Received: from mails.dpdk.org (mails.dpdk.org [217.70.189.124]) by inbox.dpdk.org (Postfix) with ESMTP id EB08E48977 for ; Sun, 19 Oct 2025 09:54:59 +0200 (CEST) Received: from mails.dpdk.org (localhost [127.0.0.1]) by mails.dpdk.org (Postfix) with ESMTP id C0C524013F; Sun, 19 Oct 2025 09:54:59 +0200 (CEST) Received: from mail-yw1-f225.google.com (mail-yw1-f225.google.com [209.85.128.225]) by mails.dpdk.org (Postfix) with ESMTP id 039474013F for ; Sun, 19 Oct 2025 09:54:59 +0200 (CEST) Received: by mail-yw1-f225.google.com with SMTP id 00721157ae682-783fa3aa122so16785657b3.0 for ; Sun, 19 Oct 2025 00:54:58 -0700 (PDT) DKIM-Signature: v=1; a=rsa-sha256; c=relaxed/relaxed; d=iol.unh.edu; s=unh-iol; t=1760860498; x=1761465298; darn=dpdk.org; h=cc:to:from:subject:message-id:date:from:to:cc:subject:date :message-id:reply-to; bh=oPqE8oLlkjoh3noeqK5zMJtB5Hk7S4jMx/FYyz6yBY0=; b=gTihYiKzkXkY01WeaOEKSoHGrn4KrCqa1CjwPRmZ3auiVMb9OmUXUg3Lf8cQ90kPFZ c+7CWGNadN9xrbvC97QI7bd62/baiTBP8N4X3cVz3j9871AlnbCrZ2LVMhqs7p2ev5Q4 mBmH+8PbXYVYE+llI5EEVAjXHzGG2qios86ko= X-Google-DKIM-Signature: v=1; a=rsa-sha256; c=relaxed/relaxed; d=1e100.net; s=20230601; t=1760860498; x=1761465298; h=cc:to:from:subject:message-id:date:x-gm-message-state:from:to:cc :subject:date:message-id:reply-to; bh=oPqE8oLlkjoh3noeqK5zMJtB5Hk7S4jMx/FYyz6yBY0=; b=cXBhTL98WqXXiVHlIfcDkn4j9fylYqTpK7Nf5emaO6EcloZu4sQVDABKNccYvAXi+0 RofXkYgwUZFGJIt7Y7m0rg/sD67MFPpYbsV/ASy8wMnRsh+BhLGjXHppefQqDGolAlCl hySmQ0BESVqPOzb8upPs5h8DoayurXbKRkIAPux4IQYHYhb2gge3oOWKPheeDqiPFIB2 7/AcyFZKX2Q41Z8m9vrAnV2xWmMp0lN8PMmIqSvR5mRg5+x80O8w5P+EIgb7wY3NUiVE 3x8WfxW62e009Gl6to3ZX8rJOBm4ipXug06SLEgiu3ovoRxInlaAq1dpApoDc2Snw1bN wgyw== X-Gm-Message-State: AOJu0YxeWtdm0v/hU/a9Kfnv8r7QPdG6VYr9PYwAUHvWEe4HYWNuMogs UG7PFp97+LLTRjUl+43/I5a5JGWpkKwotvBgAU3+WjTw9+KYfDA5dTiLyXpjv2TESTrDyfnYu7b bPXRPRh4g3eSlqMxV54b1pidzIF64PS+HnQJh X-Gm-Gg: ASbGncu1AX7lB5wp9FyDbHtt7LAZWGtg8R6xE/ZztFonGqzPKqsqCeziDPezbSxhqo1 G8tyNMfu4dRoFO5lmDY/lralk2rnuULHXynH8vjDAGZHBScCY5U08CizX3knQ4zZeRdKZjdfsDn GE7BvOjwH5+lRMouCH/fdh5SuPmuvgcAtxk4msbQ82xB+oSWEjmACsIZodT1Mfw1U5SEP4VSFnu IGAurmCKeODPF28180B1xPxbutWJY3y4uLprNTH2iKnMGZi/evgYfzsGKBLPxI6nPQwq2WzFJkg Qp2HJxd224Zubcy6PVZBVDyHNan4wKGdpXnVNX8umoJ9dXdRLBe+pSyqrxIvoz08Dh5DzLF2UgA cBqjmD4mHn/6D/fFyvO9g8lx8J1VJg5s= X-Google-Smtp-Source: AGHT+IGairIOajayRWkf0lBTtaPQaFpX0pNRPLXv+ud+1YB4peXTX74aVv7lEt24sYYkkz2H00cZkMVNdBXp X-Received: by 2002:a05:690c:b:b0:784:8214:d3ec with SMTP id 00721157ae682-7848214dbe0mr31989877b3.25.1760860498230; Sun, 19 Oct 2025 00:54:58 -0700 (PDT) Received: from postal.iol.unh.edu (postal.iol.unh.edu. [132.177.123.84]) by smtp-relay.gmail.com with ESMTPS id 00721157ae682-7846739b34esm4058447b3.8.2025.10.19.00.54.58 (version=TLS1_2 cipher=ECDHE-ECDSA-AES128-GCM-SHA256 bits=128/128); Sun, 19 Oct 2025 00:54:58 -0700 (PDT) X-Relaying-Domain: iol.unh.edu Date: Sun, 19 Oct 2025 00:54:58 -0700 (PDT) Message-ID: <68f49952.050a0220.2f9ba1.c51bSMTPIN_ADDED_MISSING@mx.google.com> Received: from [172.21.0.6] (unknown [172.18.0.240]) by postal.iol.unh.edu (Postfix) with ESMTP id D0B606051830; Sun, 19 Oct 2025 03:54:57 -0400 (EDT) Subject: |SUCCESS| [GIT MASTER] 3b43ce3f4a54468e7ef65760c2fd7b4d6ee6d9fc From: dpdklab@iol.unh.edu To: Test Report Cc: dpdk-test-reports@iol.unh.edu, Xueming Li , Christian Ehrhardt , Kevin Traynor , Luca Boccassi Content-Type: text/plain X-BeenThere: test-report@dpdk.org X-Mailman-Version: 2.1.29 Precedence: list List-Id: automatic DPDK test reports List-Unsubscribe: , List-Archive: List-Post: List-Help: List-Subscribe: , Errors-To: test-report-bounces@dpdk.org _Testing PASS_ Branch: tags/v22.11 3b43ce3f4a54468e7ef65760c2fd7b4d6ee6d9fc --> testing pass Upstream job id: Generic-DPDK-Compile-Meson#435842 Test environment and result as below: +-------------------------------+--------------------+-------------------------+----------------------+ | Environment | dpdk_meson_compile | dpdk_llvm_clang_compile | dpdk_mingw64_compile | +===============================+====================+=========================+======================+ | Fedora Linux 42 | PASS | SKIPPED | SKIPPED | +-------------------------------+--------------------+-------------------------+----------------------+ | FreeBSD 14.2 | PASS | SKIPPED | SKIPPED | +-------------------------------+--------------------+-------------------------+----------------------+ | Debian GNU/Linux 12 | PASS | SKIPPED | SKIPPED | +-------------------------------+--------------------+-------------------------+----------------------+ | Ubuntu 20.04 | PASS | SKIPPED | SKIPPED | +-------------------------------+--------------------+-------------------------+----------------------+ | CentOS Stream 10 | PASS | SKIPPED | SKIPPED | +-------------------------------+--------------------+-------------------------+----------------------+ | openSUSE Leap 15.6 | PASS | SKIPPED | SKIPPED | +-------------------------------+--------------------+-------------------------+----------------------+ | CentOS Stream 9 | PASS | SKIPPED | SKIPPED | +-------------------------------+--------------------+-------------------------+----------------------+ | Red Hat Enterprise Linux 9.5 | PASS | SKIPPED | SKIPPED | +-------------------------------+--------------------+-------------------------+----------------------+ | Red Hat Enterprise Linux 8.10 | PASS | SKIPPED | SKIPPED | +-------------------------------+--------------------+-------------------------+----------------------+ | Ubuntu 24.04 | PASS | SKIPPED | SKIPPED | +-------------------------------+--------------------+-------------------------+----------------------+ | Ubuntu 22.04 | PASS | SKIPPED | SKIPPED | +-------------------------------+--------------------+-------------------------+----------------------+ | Windows Server 2022 | SKIPPED | PASS | PASS | +-------------------------------+--------------------+-------------------------+----------------------+ Fedora Linux 42 Kernel: 5.15 Compiler: clang gcc (GCC) 15.2.1 20250808 (Red Hat 15.2.1-1) FreeBSD 14.2 Kernel: 14.2-RELEASE Compiler: clang 18.1.6 Debian GNU/Linux 12 Kernel: 5.15 Compiler: gcc gcc (Debian 12.2.0-14+deb12u1) 12.2.0 Ubuntu 20.04 Kernel: 4.19 Compiler: gcc gcc (Ubuntu 9.4.0-1ubuntu1~20.04.2) 9.4.0 CentOS Stream 10 Kernel: 5.15 Compiler: gcc gcc (GCC) 14.2.1 20250110 (Red Hat 14.2.1-8) openSUSE Leap 15.6 Kernel: 5.15 Compiler: gcc gcc (SUSE Linux) 7.5.0 CentOS Stream 9 Kernel: 5.15 Compiler: gcc gcc (GCC) 11.5.0 20240719 (Red Hat 11.5.0-11) Red Hat Enterprise Linux 9.5 Kernel: 5.15 Compiler: gcc gcc (GCC) 11.5.0 20240719 (Red Hat 11.5.0-2) Red Hat Enterprise Linux 8.10 Kernel: 5.15 Compiler: gcc gcc (GCC) 8.5.0 20210514 (Red Hat 8.5.0-22) Ubuntu 24.04 Kernel: 5.15 Compiler: gcc gcc (Ubuntu 13.3.0-6ubuntu2~24.04) 13.3.0 Ubuntu 22.04 Kernel: 5.15 Compiler: gcc gcc (Ubuntu 11.4.0-1ubuntu1~22.04) 11.4.0 Windows Server 2022 Kernel: 10.0.20348.2031 Compiler: clang 15.0.7, gcc 14.1.0 (MinGW), and MSVC VS 19.39.33521 To view detailed results, visit: https://lab.dpdk.org/results/dashboard/tarballs/35268/ UNH-IOL DPDK Community Lab To manage your email subscriptions, visit: https://lab.dpdk.org/results/dashboard/preferences/subscriptions/