From mboxrd@z Thu Jan 1 00:00:00 1970 Return-Path: Received: from mails.dpdk.org (mails.dpdk.org [217.70.189.124]) by inbox.dpdk.org (Postfix) with ESMTP id DA19448977 for ; Sun, 19 Oct 2025 09:55:12 +0200 (CEST) Received: from mails.dpdk.org (localhost [127.0.0.1]) by mails.dpdk.org (Postfix) with ESMTP id D443E4013F; Sun, 19 Oct 2025 09:55:12 +0200 (CEST) Received: from mail-pl1-f226.google.com (mail-pl1-f226.google.com [209.85.214.226]) by mails.dpdk.org (Postfix) with ESMTP id F17104013F for ; Sun, 19 Oct 2025 09:55:09 +0200 (CEST) Received: by mail-pl1-f226.google.com with SMTP id d9443c01a7336-290c5dec559so24058385ad.3 for ; Sun, 19 Oct 2025 00:55:09 -0700 (PDT) DKIM-Signature: v=1; a=rsa-sha256; c=relaxed/relaxed; d=iol.unh.edu; s=unh-iol; t=1760860509; x=1761465309; darn=dpdk.org; h=cc:to:from:subject:message-id:date:from:to:cc:subject:date :message-id:reply-to; bh=V9i+uvT8PDji27GY7pNB3Cd/X9+TKMbnYALwQCn/p9c=; b=iZqfx66DcmRhqspgg8EMBDfAnyR0PYp64306J2ltELVNs/eabmgCdVwgY9Slz8Sq4h p4++xhrmWi05f4l764c7ki+AeIV9AUJ3sGdyMPwXALm3tYUSA4N0pH5uelsUy4QCCtIJ OmFaNLd7bX2ni7nw237F6M8p1QlZeMttHb30M= X-Google-DKIM-Signature: v=1; a=rsa-sha256; c=relaxed/relaxed; d=1e100.net; s=20230601; t=1760860509; x=1761465309; h=cc:to:from:subject:message-id:date:x-gm-message-state:from:to:cc :subject:date:message-id:reply-to; bh=V9i+uvT8PDji27GY7pNB3Cd/X9+TKMbnYALwQCn/p9c=; b=ULVf/2VTzntAs4s95UcxxXGhqraY7yK+VenbABEYZQ3yZ/PIKJtNShaZJHUDKqJdDu tixmKPscI31uGDkRwQ3lNnW+uplo4Oe/UmBOw5r2l5/T3LqE06FppVsZBRrr5XN257vZ Eg1gtSGRJo4FzHISzNmykJCOkZ9xs2PlkPjOTc/yvZxtsb210J3okSGN7w4qXYGWTXAj lrxvHjnP7j1jMTsMXFbiCU9GnnV8kRBri2hxorYvWK1u1rrHIdG4j5RAgZQ0SY+HBnre aAAnqRWWPutgK+sMrXw4j+gaTyWI5+BCTBrUVn2wapqi7Pij2qj0/wfsWueAiTC0//x2 iKpQ== X-Gm-Message-State: AOJu0Ywm01s3REOfOLJIPr0u1WiPJgRl4erqZNq7gkmToVUwU6p0Ikv3 K8Gjl4oOA0kUmr9ODLh/SkmMxjtgHzvVDr79n4Muh6+SlctxB1XmJhSsSZkEwm/ZqgCUIJ48OgR Rv87dDbr+Rgbc1k8viqJBKqOWI7EqLw6KhF8D0z1vKlqhO8pBb3Xe X-Gm-Gg: ASbGncuTPYGJIlfOLb1IcKPDRGU8a9CIHIwF2MTCopVGsf7mqIhdeiYdmLh7kFdxsIO 2BSFsXklrjHRrY7HogGYJbV+38Jq89RZ+AhMkjWKWyjIgiaO6kj0vt04C+IZKh5LkN0ceXYDnDv k66B/DPnB0fBj3N+1IxxkwkaK9qbM9I6ARZ2YtCEnuCfEgSC9cS6TSMNdxvbR7yyqHN0do03Eyh c9c0UUbiKsJq8cU1QGTn8nWWfV4Be+XqhSnZjBNfrhMszkwYOcPGVxySjOpmSrTgP0sQ0yrmnSr ZY1N718DzxUJmVjW/NTfpiUnwXh/dQjhA317KxUxwjVIuINKOOpim6GvFRwkp3DZBjJnbeyJkuw swnoZjoYg X-Google-Smtp-Source: AGHT+IEXQsqJWKLWQGZe5ZLcgierLHrYIcoc2tKi1mr5aUEqIeK79RNE6hQcET0ZHq2WCbO9zy64v5XIkYpA X-Received: by 2002:a17:903:b90:b0:276:d3e:6844 with SMTP id d9443c01a7336-290ca1218cbmr99558145ad.33.1760860508756; Sun, 19 Oct 2025 00:55:08 -0700 (PDT) Received: from postal.iol.unh.edu (postal.iol.unh.edu. [2606:4100:3880:1234::84]) by smtp-relay.gmail.com with ESMTPS id d9443c01a7336-292471c6202sm6455525ad.45.2025.10.19.00.55.08 (version=TLS1_2 cipher=ECDHE-ECDSA-AES128-GCM-SHA256 bits=128/128); Sun, 19 Oct 2025 00:55:08 -0700 (PDT) X-Relaying-Domain: iol.unh.edu Date: Sun, 19 Oct 2025 00:55:08 -0700 (PDT) Message-ID: <68f4995c.170a0220.2889b3.35baSMTPIN_ADDED_MISSING@mx.google.com> Received: from [172.21.0.4] (unknown [172.18.0.240]) by postal.iol.unh.edu (Postfix) with ESMTP id 46FB66051830; Sun, 19 Oct 2025 03:55:08 -0400 (EDT) Subject: |SUCCESS| [GIT MASTER] b287e404643aeab5bb5db084c142789df187844e From: dpdklab@iol.unh.edu To: Test Report Cc: dpdk-test-reports@iol.unh.edu, Xueming Li , Christian Ehrhardt , Kevin Traynor , Luca Boccassi Content-Type: text/plain X-BeenThere: test-report@dpdk.org X-Mailman-Version: 2.1.29 Precedence: list List-Id: automatic DPDK test reports List-Unsubscribe: , List-Archive: List-Post: List-Help: List-Subscribe: , Errors-To: test-report-bounces@dpdk.org _Testing PASS_ Branch: tags/v24.11 b287e404643aeab5bb5db084c142789df187844e --> testing pass Upstream job id: Generic-DPDK-Compile-Meson#435869 Test environment and result as below: +------------------------------+--------------------+ | Environment | dpdk_meson_compile | +==============================+====================+ | Red Hat Enterprise Linux 9.5 | PASS | +------------------------------+--------------------+ | Fedora Linux 42 | PASS | +------------------------------+--------------------+ | Ubuntu 20.04 | PASS | +------------------------------+--------------------+ | CentOS Stream 9 | PASS | +------------------------------+--------------------+ | Debian GNU/Linux 12 | PASS | +------------------------------+--------------------+ | Ubuntu 24.04 | PASS | +------------------------------+--------------------+ | Ubuntu 22.04 | PASS | +------------------------------+--------------------+ | CentOS Stream 10 | PASS | +------------------------------+--------------------+ Red Hat Enterprise Linux 9.5 Kernel: 5.4 Compiler: gcc gcc (GCC) 11.5.0 20240719 (Red Hat 11.5.0-2) Fedora Linux 42 Kernel: 5.4 Compiler: clang gcc (GCC) 15.2.1 20250808 (Red Hat 15.2.1-1) Ubuntu 20.04 Kernel: 5.15 Compiler: aarch64-linux-gnu-gcc gcc (Ubuntu 9.4.0-1ubuntu1~20.04.2) 9.4.0 CentOS Stream 9 Kernel: 5.4 Compiler: gcc gcc (GCC) 11.5.0 20240719 (Red Hat 11.5.0-11) Debian GNU/Linux 12 Kernel: 5.4 Compiler: gcc gcc (Debian 12.2.0-14+deb12u1) 12.2.0 Ubuntu 24.04 Kernel: 5.4 Compiler: gcc gcc (Ubuntu 13.3.0-6ubuntu2~24.04) 13.3.0 Ubuntu 22.04 Kernel: 5.4 Compiler: gcc gcc (Ubuntu 11.4.0-1ubuntu1~22.04) 11.4.0 CentOS Stream 10 Kernel: 5.4 Compiler: gcc gcc (GCC) 14.2.1 20250110 (Red Hat 14.2.1-8) To view detailed results, visit: https://lab.dpdk.org/results/dashboard/tarballs/35270/ UNH-IOL DPDK Community Lab To manage your email subscriptions, visit: https://lab.dpdk.org/results/dashboard/preferences/subscriptions/