From mboxrd@z Thu Jan 1 00:00:00 1970 Return-Path: Received: from mails.dpdk.org (mails.dpdk.org [217.70.189.124]) by inbox.dpdk.org (Postfix) with ESMTP id 1723048977 for ; Sun, 19 Oct 2025 09:56:09 +0200 (CEST) Received: from mails.dpdk.org (localhost [127.0.0.1]) by mails.dpdk.org (Postfix) with ESMTP id 0F9944013F; Sun, 19 Oct 2025 09:56:09 +0200 (CEST) Received: from mail-vk1-f225.google.com (mail-vk1-f225.google.com [209.85.221.225]) by mails.dpdk.org (Postfix) with ESMTP id 2B99F4013F for ; Sun, 19 Oct 2025 09:56:07 +0200 (CEST) Received: by mail-vk1-f225.google.com with SMTP id 71dfb90a1353d-54c0bac7d6bso2277879e0c.0 for ; Sun, 19 Oct 2025 00:56:07 -0700 (PDT) DKIM-Signature: v=1; a=rsa-sha256; c=relaxed/relaxed; d=iol.unh.edu; s=unh-iol; t=1760860566; x=1761465366; darn=dpdk.org; h=cc:to:from:subject:message-id:date:from:to:cc:subject:date :message-id:reply-to; bh=GNr1l9PoI6hvP4hrs9KfZidgPnb6WHhqTZliJlYcu6w=; b=cCgVmlbdXKa05YR1YwjM5ZbVeZ0yBOdZ/OB8FQ7kGCD9tvyObxp4jXnDWRuVladAFf DcafaJB6IDDHp83hS6Unu1swug5b3G/8vmZKgqctw1JGjCe7z4JRAx2Z8Z87eA/bsta+ LVxbD9/gO4hf6WwKsTufQ1aBXwTwXzbj5UTTI= X-Google-DKIM-Signature: v=1; a=rsa-sha256; c=relaxed/relaxed; d=1e100.net; s=20230601; t=1760860566; x=1761465366; h=cc:to:from:subject:message-id:date:x-gm-message-state:from:to:cc :subject:date:message-id:reply-to; bh=GNr1l9PoI6hvP4hrs9KfZidgPnb6WHhqTZliJlYcu6w=; b=dTx8FoENqjpHUUSK2rzifXA6fIRe66IhO8uCLCt+epm3bBvywXFz2Nt2Z54Tvt0rP/ nQI+B7M7WqkS7W/3gJ3L75tLXoi6LJSQrUQ2W0uepKzGPTagl45EzLAzeuELfW6CQkg7 RmLLpMP+4rUgYfufjLXcVPNnwHQ6lFkAmDI06FnXA1IaFZyXsESlX5VA+qsyceJCIYp3 3QaoFRx0MpHw3WhPijziPoISSgfhLcjuhipE5jmM5rR4VJXvkrPPudHQIYTZCJFxmoHP cvuMg8VO8KSeF5amVhhU4LM4NATwWB9UrJg6QZt9ZP6WryHqskRF6r6/NzC+zU0He7P2 ULLQ== X-Gm-Message-State: AOJu0YwQVmiT4jv2jH6zq8RXscPm38F0770wsEhrFUsVlJWqsic65L9+ TJGXHEJKhB6YqD/PaRWAHvgVKDqnId3IqW8dY0hTSjt3u2MsRz0lwOy9xjT6ueltsna5MTecs3l crEoPoy+NS2zPno+aQajTwp0czb1EBpp7y8y6 X-Gm-Gg: ASbGncsO6IyRYHa5dPoCGjzx7h64vWbHaEyyEaJgt8FQ34CbdBKxnIuViBPXG/x3ubr Ljmw878wzUe+WsmebBDDZfeOhZ3+gIO2XhxM11lLa5A/4pUvCWzxpZV4u1GaeJycrkTppeODpqO QMEfxVgie7JFGyUp+BVT4PMENUn/nthaa69PqB61tahpqpztnZKHc2/gkDKSiZDDXYkVi4RoePB wRtUtfzcC8T+KP2J799j0R0sF3VMeKlU+zIgiVRNp4yv8Tor4uHBaxakKtM7H6nNVCwRcgAr9bc u+1qa/mICkxk+RmTefuFoNftyfzawUNApvboaKE7+8gR3rIxuPvDcbr6334TpqWmJ/+ooKxiGVX Z4ewfu4jADa34ypffe5cPiXHjlPBHITw= X-Google-Smtp-Source: AGHT+IHIOFzJbExtwFkatLWcwSJdLMxkzsGxOvc0csXHcyDGoqTyR23zxo8/se0e/G/sNzoYhXVJwMRb+oNW X-Received: by 2002:a05:6122:893:b0:54a:9e47:7625 with SMTP id 71dfb90a1353d-5564eeeb9c7mr3227026e0c.11.1760860566470; Sun, 19 Oct 2025 00:56:06 -0700 (PDT) Received: from postal.iol.unh.edu (postal.iol.unh.edu. [132.177.123.84]) by smtp-relay.gmail.com with ESMTPS id 71dfb90a1353d-5566203ec14sm696403e0c.4.2025.10.19.00.56.06 (version=TLS1_2 cipher=ECDHE-ECDSA-AES128-GCM-SHA256 bits=128/128); Sun, 19 Oct 2025 00:56:06 -0700 (PDT) X-Relaying-Domain: iol.unh.edu Date: Sun, 19 Oct 2025 00:56:06 -0700 (PDT) Message-ID: <68f49996.050a0220.484b2.5287SMTPIN_ADDED_MISSING@mx.google.com> Received: from [172.21.0.3] (unknown [172.18.0.240]) by postal.iol.unh.edu (Postfix) with ESMTP id 2934F6051830; Sun, 19 Oct 2025 03:56:06 -0400 (EDT) Subject: |SUCCESS| [GIT MASTER] b287e404643aeab5bb5db084c142789df187844e From: dpdklab@iol.unh.edu To: Test Report Cc: dpdk-test-reports@iol.unh.edu, Xueming Li , Christian Ehrhardt , Kevin Traynor , Luca Boccassi Content-Type: text/plain X-BeenThere: test-report@dpdk.org X-Mailman-Version: 2.1.29 Precedence: list List-Id: automatic DPDK test reports List-Unsubscribe: , List-Archive: List-Post: List-Help: List-Subscribe: , Errors-To: test-report-bounces@dpdk.org _Testing PASS_ Branch: tags/v24.11 b287e404643aeab5bb5db084c142789df187844e --> testing pass Upstream job id: Generic-DPDK-Compile-Meson#435874 Test environment and result as below: +-------------------------------+--------------------+-------------------+------------------+-------------------+-------------------------+----------------------+ | Environment | dpdk_meson_compile | dpdk_compile_spdk | dpdk_compile_ovs | dpdk_msvc_compile | dpdk_llvm_clang_compile | dpdk_mingw64_compile | +===============================+====================+===================+==================+===================+=========================+======================+ | CentOS Stream 10 | PASS | SKIPPED | SKIPPED | SKIPPED | SKIPPED | SKIPPED | +-------------------------------+--------------------+-------------------+------------------+-------------------+-------------------------+----------------------+ | CentOS Stream 9 | PASS | PASS | SKIPPED | SKIPPED | SKIPPED | SKIPPED | +-------------------------------+--------------------+-------------------+------------------+-------------------+-------------------------+----------------------+ | Debian GNU/Linux 12 | PASS | PASS | SKIPPED | SKIPPED | SKIPPED | SKIPPED | +-------------------------------+--------------------+-------------------+------------------+-------------------+-------------------------+----------------------+ | Fedora Linux 42 | PASS | PASS | PASS | SKIPPED | SKIPPED | SKIPPED | +-------------------------------+--------------------+-------------------+------------------+-------------------+-------------------------+----------------------+ | openSUSE Leap 15.6 | PASS | SKIPPED | SKIPPED | SKIPPED | SKIPPED | SKIPPED | +-------------------------------+--------------------+-------------------+------------------+-------------------+-------------------------+----------------------+ | Ubuntu 20.04 | PASS | SKIPPED | SKIPPED | SKIPPED | SKIPPED | SKIPPED | +-------------------------------+--------------------+-------------------+------------------+-------------------+-------------------------+----------------------+ | Red Hat Enterprise Linux 8.10 | PASS | SKIPPED | SKIPPED | SKIPPED | SKIPPED | SKIPPED | +-------------------------------+--------------------+-------------------+------------------+-------------------+-------------------------+----------------------+ | Ubuntu 24.04 | PASS | PASS | PASS | SKIPPED | SKIPPED | SKIPPED | +-------------------------------+--------------------+-------------------+------------------+-------------------+-------------------------+----------------------+ | Alpine Linux 3.22.0 | PASS | SKIPPED | SKIPPED | SKIPPED | SKIPPED | SKIPPED | +-------------------------------+--------------------+-------------------+------------------+-------------------+-------------------------+----------------------+ | Red Hat Enterprise Linux 9.5 | PASS | SKIPPED | SKIPPED | SKIPPED | SKIPPED | SKIPPED | +-------------------------------+--------------------+-------------------+------------------+-------------------+-------------------------+----------------------+ | Ubuntu 22.04 | PASS | PASS | SKIPPED | SKIPPED | SKIPPED | SKIPPED | +-------------------------------+--------------------+-------------------+------------------+-------------------+-------------------------+----------------------+ | FreeBSD 14.2 | PASS | SKIPPED | SKIPPED | SKIPPED | SKIPPED | SKIPPED | +-------------------------------+--------------------+-------------------+------------------+-------------------+-------------------------+----------------------+ | Windows Server 2022 | SKIPPED | SKIPPED | SKIPPED | PASS | PASS | PASS | +-------------------------------+--------------------+-------------------+------------------+-------------------+-------------------------+----------------------+ CentOS Stream 10 Kernel: 5.15 Compiler: gcc gcc (GCC) 14.2.1 20250110 (Red Hat 14.2.1-8) CentOS Stream 9 Kernel: 5.15 Compiler: gcc gcc (GCC) 11.5.0 20240719 (Red Hat 11.5.0-11) Debian GNU/Linux 12 Kernel: 5.15 Compiler: gcc gcc (Debian 12.2.0-14+deb12u1) 12.2.0 Fedora Linux 42 Kernel: 5.15 Compiler: clang gcc (GCC) 15.2.1 20250808 (Red Hat 15.2.1-1) openSUSE Leap 15.6 Kernel: 5.15 Compiler: gcc gcc (SUSE Linux) 7.5.0 Ubuntu 20.04 Kernel: 5.15 Compiler: gcc gcc (Ubuntu 9.4.0-1ubuntu1~20.04.2) 9.4.0 Red Hat Enterprise Linux 8.10 Kernel: 5.15 Compiler: gcc gcc (GCC) 8.5.0 20210514 (Red Hat 8.5.0-22) Ubuntu 24.04 Kernel: 5.15 Compiler: gcc gcc (Ubuntu 13.3.0-6ubuntu2~24.04) 13.3.0 Alpine Linux 3.22.0 Kernel: 5.15 Compiler: gcc gcc (Alpine 14.2.0) 14.2.0 Red Hat Enterprise Linux 9.5 Kernel: 5.15 Compiler: gcc gcc (GCC) 11.5.0 20240719 (Red Hat 11.5.0-2) Ubuntu 22.04 Kernel: 5.15 Compiler: gcc gcc (Ubuntu 11.4.0-1ubuntu1~22.04) 11.4.0 FreeBSD 14.2 Kernel: 14.2-RELEASE Compiler: clang 18.1.6 Windows Server 2022 Kernel: 10.0.20348.2031 Compiler: clang 15.0.7, gcc 14.1.0 (MinGW), and MSVC VS 19.39.33521 To view detailed results, visit: https://lab.dpdk.org/results/dashboard/tarballs/35270/ UNH-IOL DPDK Community Lab To manage your email subscriptions, visit: https://lab.dpdk.org/results/dashboard/preferences/subscriptions/