From mboxrd@z Thu Jan 1 00:00:00 1970 Return-Path: Received: from mails.dpdk.org (mails.dpdk.org [217.70.189.124]) by inbox.dpdk.org (Postfix) with ESMTP id B48554897B for ; Sun, 19 Oct 2025 10:14:07 +0200 (CEST) Received: from mails.dpdk.org (localhost [127.0.0.1]) by mails.dpdk.org (Postfix) with ESMTP id 923A64013F; Sun, 19 Oct 2025 10:14:07 +0200 (CEST) Received: from mail-il1-f227.google.com (mail-il1-f227.google.com [209.85.166.227]) by mails.dpdk.org (Postfix) with ESMTP id 065EC4013F for ; Sun, 19 Oct 2025 10:14:07 +0200 (CEST) Received: by mail-il1-f227.google.com with SMTP id e9e14a558f8ab-42e2c336adcso14686545ab.1 for ; Sun, 19 Oct 2025 01:14:06 -0700 (PDT) DKIM-Signature: v=1; a=rsa-sha256; c=relaxed/relaxed; d=iol.unh.edu; s=unh-iol; t=1760861646; x=1761466446; darn=dpdk.org; h=cc:to:from:subject:message-id:date:from:to:cc:subject:date :message-id:reply-to; bh=mKjg/VeE56SBK6OrMENShLerkk9ckGpOVjw2TTOE76Y=; b=NEB6JGG7pUbuz8TjLUrRgrlC/n48sQNwfqcvnGilFRGoXclxyUDV987usaF069Fd+/ HNgFLqIQP77X9jkQiqoygwqYK4WhwSne+j90ckJwftoZwrv93Lfg95CAqTMdlnYfvDqv g/m4NkOUaHY+Ju5ZgLXV+aGe1FNvn/Ejlq3EU= X-Google-DKIM-Signature: v=1; a=rsa-sha256; c=relaxed/relaxed; d=1e100.net; s=20230601; t=1760861646; x=1761466446; h=cc:to:from:subject:message-id:date:x-gm-message-state:from:to:cc :subject:date:message-id:reply-to; bh=mKjg/VeE56SBK6OrMENShLerkk9ckGpOVjw2TTOE76Y=; b=ZBj3K5kecwa1T2qGu3+OpTBl+M6SpMX1qhsta/afEYd4/i/Xh9IGVyYBljMNBrMcXN Lb2vsht4Zs1pcuBkk3Grn+lgMnrH/AAxW8Yvt5xaYXfK9ceo/ngUi4/y+K0az9NJFf/1 8TuPBxmpwZZ8mHDg5vysYhEEIG0GK6d8E31TOvx1B81URRbvuHIpS539Pl47GjTUtFMF 2hqLZ/0yEDclJCYcHrpDhtB5mYfsd3JGF0lM/AHbL3n87rKf7ZrNuEqbn6AQhis4jHbb J69YYG2y19x0vL4rP1HAoN4PUS9uQNmUhPbM+J6w8lbtEYBiAFQCwNGyfEF5zBBvUKYO cbFQ== X-Gm-Message-State: AOJu0YypvVWx1JCTmj1+S7zNvxB4hUJOEi8laxHhzE4nwF1rcMXUmsLo e9YJtSX4SHHoj1InBOlHa90E50vz0dA/z23alwazNaND8dOcCLDsD2Cl5mtiXtdl+FYHNQaaiUs vL26Z5+A77ov6kOzPU0YKg5xnFppgvOtpwPxmD8bbFZmcbZEC7O/m X-Gm-Gg: ASbGncsc9ZpRKcrNsiB9pfmorLSLxiJmZew8oupr1D4SaJz06IdubR46qtJncUbaTDN kcdFLknRAqT6sV0dQ3fXfP7MJErtqcGzfsYMeqSmnw2QWhvALSNb9Pz6U+ugdcAuL0NgQsdK19z KKz89D0i5k98jJWR1PP/nhmCoF5D3PAVrAAzQphEvCDseqfbkaGwBNBrzkvwa0e4S4V7dSBHl/V 19garvVHPeiEKE8583Brq65x06seyN5f4Nw2ovSVGDt/pHvAO3P5GCDKFg/R1SvG3VV0EpSwycO BYc1BKkd+tchh27nbxnZDBO7m9d2j2Sszv4EXZQAi9qA95Gq4/rb1/Tbecd33hhcrVBWSzPiBp+ COmqNcKFQ X-Google-Smtp-Source: AGHT+IGLF9ARVc4HSXTQsD02VuGStVS8LqzqkFjjiNnxgcQ2pSPpWLjtgoEwSyTJsYbuGXKWgeMjuzXPC/Cg X-Received: by 2002:a05:6e02:3e04:b0:425:8744:de7d with SMTP id e9e14a558f8ab-430c5292336mr147182025ab.30.1760861646321; Sun, 19 Oct 2025 01:14:06 -0700 (PDT) Received: from postal.iol.unh.edu (postal.iol.unh.edu. [2606:4100:3880:1234::84]) by smtp-relay.gmail.com with ESMTPS id e9e14a558f8ab-430d0700a1csm5612865ab.3.2025.10.19.01.14.06 (version=TLS1_2 cipher=ECDHE-ECDSA-AES128-GCM-SHA256 bits=128/128); Sun, 19 Oct 2025 01:14:06 -0700 (PDT) X-Relaying-Domain: iol.unh.edu Date: Sun, 19 Oct 2025 01:14:06 -0700 (PDT) Message-ID: <68f49dce.050a0220.26300.133bSMTPIN_ADDED_MISSING@mx.google.com> Received: from [172.21.0.2] (unknown [172.18.0.240]) by postal.iol.unh.edu (Postfix) with ESMTP id 9AB516051830; Sun, 19 Oct 2025 04:14:05 -0400 (EDT) Subject: |SUCCESS| [GIT MASTER] 3b43ce3f4a54468e7ef65760c2fd7b4d6ee6d9fc From: dpdklab@iol.unh.edu To: Test Report Cc: dpdk-test-reports@iol.unh.edu, Xueming Li , Christian Ehrhardt , Kevin Traynor , Luca Boccassi Content-Type: text/plain X-BeenThere: test-report@dpdk.org X-Mailman-Version: 2.1.29 Precedence: list List-Id: automatic DPDK test reports List-Unsubscribe: , List-Archive: List-Post: List-Help: List-Subscribe: , Errors-To: test-report-bounces@dpdk.org _Testing PASS_ Branch: tags/v22.11 3b43ce3f4a54468e7ef65760c2fd7b4d6ee6d9fc --> testing pass Upstream job id: Generic-DPDK-Compile-Meson#435849 Test environment and result as below: +------------------------------+--------------------+ | Environment | dpdk_meson_compile | +==============================+====================+ | Red Hat Enterprise Linux 9.5 | PASS | +------------------------------+--------------------+ | Ubuntu 20.04 | PASS | +------------------------------+--------------------+ | Fedora Linux 42 | PASS | +------------------------------+--------------------+ | Ubuntu 24.04 | PASS | +------------------------------+--------------------+ | Debian GNU/Linux 12 | PASS | +------------------------------+--------------------+ | Ubuntu 22.04 | PASS | +------------------------------+--------------------+ | CentOS Stream 9 | PASS | +------------------------------+--------------------+ | CentOS Stream 10 | PASS | +------------------------------+--------------------+ Red Hat Enterprise Linux 9.5 Kernel: 5.4 Compiler: gcc gcc (GCC) 11.5.0 20240719 (Red Hat 11.5.0-2) Ubuntu 20.04 Kernel: 5.4 Compiler: gcc gcc (Ubuntu 9.4.0-1ubuntu1~20.04.2) 9.4.0 Fedora Linux 42 Kernel: 5.4 Compiler: clang gcc (GCC) 15.2.1 20250808 (Red Hat 15.2.1-1) Ubuntu 24.04 Kernel: 5.4 Compiler: gcc gcc (Ubuntu 13.3.0-6ubuntu2~24.04) 13.3.0 Debian GNU/Linux 12 Kernel: 5.4 Compiler: gcc gcc (Debian 12.2.0-14+deb12u1) 12.2.0 Ubuntu 22.04 Kernel: 5.4 Compiler: gcc gcc (Ubuntu 11.4.0-1ubuntu1~22.04) 11.4.0 CentOS Stream 9 Kernel: 5.4 Compiler: gcc gcc (GCC) 11.5.0 20240719 (Red Hat 11.5.0-11) CentOS Stream 10 Kernel: 5.4 Compiler: gcc gcc (GCC) 14.2.1 20250110 (Red Hat 14.2.1-8) To view detailed results, visit: https://lab.dpdk.org/results/dashboard/tarballs/35268/ UNH-IOL DPDK Community Lab To manage your email subscriptions, visit: https://lab.dpdk.org/results/dashboard/preferences/subscriptions/