From mboxrd@z Thu Jan 1 00:00:00 1970 Return-Path: Received: from mails.dpdk.org (mails.dpdk.org [217.70.189.124]) by inbox.dpdk.org (Postfix) with ESMTP id 600644897B for ; Sun, 19 Oct 2025 10:40:56 +0200 (CEST) Received: from mails.dpdk.org (localhost [127.0.0.1]) by mails.dpdk.org (Postfix) with ESMTP id 4DB0B4013F; Sun, 19 Oct 2025 10:40:55 +0200 (CEST) Received: from mail-yx1-f98.google.com (mail-yx1-f98.google.com [74.125.224.98]) by mails.dpdk.org (Postfix) with ESMTP id 6D7634013F for ; Sun, 19 Oct 2025 10:40:54 +0200 (CEST) Received: by mail-yx1-f98.google.com with SMTP id 956f58d0204a3-63605f6f64eso2846425d50.1 for ; Sun, 19 Oct 2025 01:40:54 -0700 (PDT) DKIM-Signature: v=1; a=rsa-sha256; c=relaxed/relaxed; d=iol.unh.edu; s=unh-iol; t=1760863252; x=1761468052; darn=dpdk.org; h=cc:to:from:subject:message-id:date:from:to:cc:subject:date :message-id:reply-to; bh=Sj41eu2l8FC/mfROx/Rgo+sQwXx5/synGPlgKg6Dxt0=; b=I/1MmrFrS+RX70sNj0JOqpnirWcU2DqGXrirQvXle8AiIe/VpFbpsNfTXs3oTVJkGr GeQmRofHQBQSGKqMyHpl+LABHC6vr6rDx8tlhsflRwRicG7A8FlqhnL7A6UzkZ5jQpJK pe15sW4DjL4yhE2nuXSZ1wCwHmgyw1jc5zqSI= X-Google-DKIM-Signature: v=1; a=rsa-sha256; c=relaxed/relaxed; d=1e100.net; s=20230601; t=1760863252; x=1761468052; h=cc:to:from:subject:message-id:date:x-gm-message-state:from:to:cc :subject:date:message-id:reply-to; bh=Sj41eu2l8FC/mfROx/Rgo+sQwXx5/synGPlgKg6Dxt0=; b=WFPf+a6kSraCA/PZcAcO8b0QWyKnxNdtbU48e8derwuQUbuU++2yL24j8sB35YmnOf +KQ/ccI7jSl3iraCh0onAtAuy2iC607M0kKBCcWFkwH/qmCWJ2mgkzi1V55lj1CpuvY3 F3fIy0VOU1JxIKoLFkeaVMzCJ1Q2OFQd8NGPJQJamTjNKuhtA1p9A0GZYHAlusmfqdWZ B3CNABRZdscFvh6W++vOlcNZFZp+5j7lbrZuDwgU91KbVlyDL+4Z2ymM3RLS/yO3pPvX 21/UZJl2P6CyeMti+EdLtjpQSWdTURLc1P7xmdpa2/nXxH5lkza+VpJqppWCBWGMHOy6 2UIA== X-Gm-Message-State: AOJu0YyZM1e6mgyfuVgKDOZX+5vXu2WwA2PhtnZeF/zNgBhCnbSBiOXI wkyPLoo4Nsof2SUE5aA1xXRgrZr8MUAQRfXOwLNHAg021TkxIqppw3ExSAJiYUZ9ejjaMcijO0Y /sMerQLD9jL8as5Id03BzUEfRyVQJH5vJm/VeCjUP90jS X-Gm-Gg: ASbGncsDqJH/8TvmcPrVevJcTlciAEkpHxwoooH+b8NDQtrrOz+b/qIWPdQ0bkVC8Mt UDzIQrPkDGrbzQ19WQrSLSKaweqbalsYpTM/RfbJChLW2btDmEwumNAnf4DkF55AF4ctzz58RSN fb46erVS8T/k5S8UufkaKnI7TzVueKbArtyu/00vlcJLGWusxN0Mp/gQHMAkp3hlUxH81BEBrGp Daal+dcNarGQaTC3JWz2pp+RMZmbqLTWF1LxWMjHJAeUjMqvYNy1Lw2GsIB3tTKUUaXtPEXqFUV lklK/uvK1kmW7knjEPMK1z34DmSjOOJfjJtsBiOWjN9HTUQdloV8UStVzTMWmyqff9BHSXiPk9V r/O11ho2A5TRaTxFGg08X6igAkTMWJys= X-Google-Smtp-Source: AGHT+IFn52oHsVohxF3n2kYxEEpBuMcEZ85D2jq+Pne8cJPu2mYtFLku4NIYM92bXztXSlpEovolIMHjn1eD X-Received: by 2002:a53:acd5:0:20b0:63e:c1c:4af1 with SMTP id 956f58d0204a3-63e1616832cmr7521066d50.8.1760863252598; Sun, 19 Oct 2025 01:40:52 -0700 (PDT) Received: from postal.iol.unh.edu (postal.iol.unh.edu. [132.177.123.84]) by smtp-relay.gmail.com with ESMTPS id 00721157ae682-784674b25e8sm4092457b3.21.2025.10.19.01.40.52 (version=TLS1_2 cipher=ECDHE-ECDSA-AES128-GCM-SHA256 bits=128/128); Sun, 19 Oct 2025 01:40:52 -0700 (PDT) X-Relaying-Domain: iol.unh.edu Date: Sun, 19 Oct 2025 01:40:52 -0700 (PDT) Message-ID: <68f4a414.050a0220.13fd11.ca8bSMTPIN_ADDED_MISSING@mx.google.com> Received: from [172.21.0.2] (unknown [172.18.0.240]) by postal.iol.unh.edu (Postfix) with ESMTP id 44F4F6051830; Sun, 19 Oct 2025 04:40:52 -0400 (EDT) Subject: |WARNING| [GIT MASTER] 56ae5c3b19a60b0b8bc71fda3e45376e390468b2 From: dpdklab@iol.unh.edu To: Test Report Cc: dpdk-test-reports@iol.unh.edu, Stephen Hemminger Content-Type: text/plain X-BeenThere: test-report@dpdk.org X-Mailman-Version: 2.1.29 Precedence: list List-Id: automatic DPDK test reports List-Unsubscribe: , List-Archive: List-Post: List-Help: List-Subscribe: , Errors-To: test-report-bounces@dpdk.org _Testing issues_ Branch: dpdk-next-net 56ae5c3b19a60b0b8bc71fda3e45376e390468b2 --> testing issues Upstream job id: Generic-DPDK-Compile-Meson#435912 Test environment and result as below: +-------------------------------+--------------------+-------------------------+-------------------+----------------------+-------------------+------------------+ | Environment | dpdk_meson_compile | dpdk_llvm_clang_compile | dpdk_msvc_compile | dpdk_mingw64_compile | dpdk_compile_spdk | dpdk_compile_ovs | +===============================+====================+=========================+===================+======================+===================+==================+ | Ubuntu 20.04 | PASS | SKIPPED | SKIPPED | SKIPPED | SKIPPED | SKIPPED | +-------------------------------+--------------------+-------------------------+-------------------+----------------------+-------------------+------------------+ | FreeBSD 14.2 | PASS | SKIPPED | SKIPPED | SKIPPED | SKIPPED | SKIPPED | +-------------------------------+--------------------+-------------------------+-------------------+----------------------+-------------------+------------------+ | CentOS Stream 9 | PASS | SKIPPED | SKIPPED | SKIPPED | WARN | SKIPPED | +-------------------------------+--------------------+-------------------------+-------------------+----------------------+-------------------+------------------+ | CentOS Stream 10 | PASS | SKIPPED | SKIPPED | SKIPPED | SKIPPED | SKIPPED | +-------------------------------+--------------------+-------------------------+-------------------+----------------------+-------------------+------------------+ | Debian GNU/Linux 12 | PASS | SKIPPED | SKIPPED | SKIPPED | WARN | SKIPPED | +-------------------------------+--------------------+-------------------------+-------------------+----------------------+-------------------+------------------+ | Fedora Linux 42 | PASS | SKIPPED | SKIPPED | SKIPPED | WARN | PASS | +-------------------------------+--------------------+-------------------------+-------------------+----------------------+-------------------+------------------+ | openSUSE Leap 15.6 | PASS | SKIPPED | SKIPPED | SKIPPED | SKIPPED | SKIPPED | +-------------------------------+--------------------+-------------------------+-------------------+----------------------+-------------------+------------------+ | Red Hat Enterprise Linux 8.10 | PASS | SKIPPED | SKIPPED | SKIPPED | SKIPPED | SKIPPED | +-------------------------------+--------------------+-------------------------+-------------------+----------------------+-------------------+------------------+ | Red Hat Enterprise Linux 9.5 | PASS | SKIPPED | SKIPPED | SKIPPED | SKIPPED | SKIPPED | +-------------------------------+--------------------+-------------------------+-------------------+----------------------+-------------------+------------------+ | Ubuntu 22.04 | PASS | SKIPPED | SKIPPED | SKIPPED | WARN | SKIPPED | +-------------------------------+--------------------+-------------------------+-------------------+----------------------+-------------------+------------------+ | Ubuntu 24.04 | PASS | SKIPPED | SKIPPED | SKIPPED | WARN | PASS | +-------------------------------+--------------------+-------------------------+-------------------+----------------------+-------------------+------------------+ | Alpine Linux 3.22.0 | PASS | SKIPPED | SKIPPED | SKIPPED | SKIPPED | SKIPPED | +-------------------------------+--------------------+-------------------------+-------------------+----------------------+-------------------+------------------+ | Windows Server 2022 | SKIPPED | PASS | PASS | PASS | SKIPPED | SKIPPED | +-------------------------------+--------------------+-------------------------+-------------------+----------------------+-------------------+------------------+ ==== 20 line log output for Ubuntu 24.04 (dpdk_compile_spdk): ==== --- Failed to get log output --- ==== End log output ==== Ubuntu 20.04 Kernel: 4.19 Compiler: gcc gcc (Ubuntu 9.4.0-1ubuntu1~20.04.2) 9.4.0 FreeBSD 14.2 Kernel: 14.2-RELEASE Compiler: clang 18.1.6 CentOS Stream 9 Kernel: 5.15 Compiler: gcc gcc (GCC) 11.5.0 20240719 (Red Hat 11.5.0-11) CentOS Stream 10 Kernel: 5.15 Compiler: gcc gcc (GCC) 14.2.1 20250110 (Red Hat 14.2.1-8) Debian GNU/Linux 12 Kernel: 5.15 Compiler: gcc gcc (Debian 12.2.0-14+deb12u1) 12.2.0 Fedora Linux 42 Kernel: 5.15 Compiler: clang gcc (GCC) 15.2.1 20250808 (Red Hat 15.2.1-1) openSUSE Leap 15.6 Kernel: 5.15 Compiler: gcc gcc (SUSE Linux) 7.5.0 Red Hat Enterprise Linux 8.10 Kernel: 5.15 Compiler: gcc gcc (GCC) 8.5.0 20210514 (Red Hat 8.5.0-22) Red Hat Enterprise Linux 9.5 Kernel: 5.15 Compiler: gcc gcc (GCC) 11.5.0 20240719 (Red Hat 11.5.0-2) Ubuntu 22.04 Kernel: 5.15 Compiler: gcc gcc (Ubuntu 11.4.0-1ubuntu1~22.04) 11.4.0 Ubuntu 24.04 Kernel: 5.15 Compiler: gcc gcc (Ubuntu 13.3.0-6ubuntu2~24.04) 13.3.0 Alpine Linux 3.22.0 Kernel: 5.15 Compiler: gcc gcc (Alpine 14.2.0) 14.2.0 Windows Server 2022 Kernel: 10.0.20348.2031 Compiler: clang 15.0.7, gcc 14.1.0 (MinGW), and MSVC VS 19.39.33521 To view detailed results, visit: https://lab.dpdk.org/results/dashboard/tarballs/35271/ UNH-IOL DPDK Community Lab To manage your email subscriptions, visit: https://lab.dpdk.org/results/dashboard/preferences/subscriptions/