From mboxrd@z Thu Jan 1 00:00:00 1970 Return-Path: Received: from mails.dpdk.org (mails.dpdk.org [217.70.189.124]) by inbox.dpdk.org (Postfix) with ESMTP id C6E9C4897B for ; Sun, 19 Oct 2025 11:04:43 +0200 (CEST) Received: from mails.dpdk.org (localhost [127.0.0.1]) by mails.dpdk.org (Postfix) with ESMTP id A2BE24013F; Sun, 19 Oct 2025 11:04:43 +0200 (CEST) Received: from mail-il1-f227.google.com (mail-il1-f227.google.com [209.85.166.227]) by mails.dpdk.org (Postfix) with ESMTP id 1539E4013F for ; Sun, 19 Oct 2025 11:04:42 +0200 (CEST) Received: by mail-il1-f227.google.com with SMTP id e9e14a558f8ab-42d7ef9a402so21377005ab.0 for ; Sun, 19 Oct 2025 02:04:41 -0700 (PDT) DKIM-Signature: v=1; a=rsa-sha256; c=relaxed/relaxed; d=iol.unh.edu; s=unh-iol; t=1760864681; x=1761469481; darn=dpdk.org; h=cc:to:from:subject:message-id:date:from:to:cc:subject:date :message-id:reply-to; bh=L/i9HlXGHuMAoCMz38Cr0DNPDPQzSaFKNsu69Wc2sWk=; b=HQt+gvYuXh65YGNj1NMVg59VOXfxl3RV8Tj2VFSmnn+SshffElywHN64WdUt6faAhv 7qIa0MXEwlVctCzN7z5xwZ0W1JcsW1blKfUlhdE9k/37MJqDCeAlng9En2tgtWYjoccH haz/9TUgjB9p6Xshpx2TWgOYSdZPAQ+k8DfY4= X-Google-DKIM-Signature: v=1; a=rsa-sha256; c=relaxed/relaxed; d=1e100.net; s=20230601; t=1760864681; x=1761469481; h=cc:to:from:subject:message-id:date:x-gm-message-state:from:to:cc :subject:date:message-id:reply-to; bh=L/i9HlXGHuMAoCMz38Cr0DNPDPQzSaFKNsu69Wc2sWk=; b=PoH/YQBG8k9cVLfgFmqq1G2DuNpBp5cN2WrYV7bCqGBYrWhisnc4GoV5MblY2HKNmK jsV8Lgcwa+eNZCQfdlMdEVKjdzi4QUVtPoHCdtWEPPTxNOq8R1EY0wB6DCpv5QpmnGKV lQSWukMzKbJWCVr2BawkBapd7s3Gvuceof0/ncofxCCqjqZc8tMsxpMcXbHPrs0BxCyq 9YWm52/WmktdMIv7OfKHuFFxKIqZiRuFiLeWExbPZaLUoQW0e/MuU4RNAlTaGEC5FZD3 RNlh3Vqqtu6VUIIalQ6N9EWrnlONF/g+itL14urDRxL2/3UURaE9OoRt3nohAcSZXDzA o2xw== X-Gm-Message-State: AOJu0Yy3S7IaK2R8eiQd9u9c8UfigX6WSnYf5M/a13yj5vFcgcT2A2sR GWI4+/JpemhD0lC7HpuEW+/J35DdsxDfRl5EBTio61UMjh2P5uoMqU1MdcqJY5ZcoN3dd6OoC32 y3lK5+61nhdKpCy3hblSlK/hdpHEcM8CYJu6bnNM53okqcEmVuvXe2B1IOX9D X-Gm-Gg: ASbGncuVAbki0uSCCJL7o66H+8IfRomImTion3jQhV37R0PyOZMIimXVPh5BWGA3vXz XrzGfNRiEIvfqJuhugNJvqciOhDf1pDNVEbFe+ubkdoFM/iYSFF/S9IuV1Ap+IM/o8XXCHyYmBD leY4+gszDcj7i+YLWZjGSiqoUlfZcub4FHFKJvRSEA4aNY9C0PtmI3hRReembFKIKuflvrKc0L+ zfETOkEfUDmtvF/JM95hMbhkGFIbkj9pDMcn4csqVz3M+PpBCPYpeTOukQ3kowI50brkY+aM88e BDrBMjMscCRZao3zkhyjYcjvRO3xzP7mI4K1Pcr9Pi6VgeuA7Az+BN0ZhyZ7QNatKBoRrwEG+/l wzb4GVHNV X-Google-Smtp-Source: AGHT+IGZ+QEZsqoOrZvdIYk/d1nxS3Nv8g0i2zbvrJVsCj8Cw77+8J5wQZHyOlh+xjhlcoyVySaOiErpeMgr X-Received: by 2002:a05:6e02:3e04:b0:430:bce3:1b72 with SMTP id e9e14a558f8ab-430c529240bmr165571435ab.7.1760864681343; Sun, 19 Oct 2025 02:04:41 -0700 (PDT) Received: from postal.iol.unh.edu (postal.iol.unh.edu. [2606:4100:3880:1234::84]) by smtp-relay.gmail.com with ESMTPS id e9e14a558f8ab-430d072ab18sm5814045ab.16.2025.10.19.02.04.41 (version=TLS1_2 cipher=ECDHE-ECDSA-AES128-GCM-SHA256 bits=128/128); Sun, 19 Oct 2025 02:04:41 -0700 (PDT) X-Relaying-Domain: iol.unh.edu Date: Sun, 19 Oct 2025 02:04:41 -0700 (PDT) Message-ID: <68f4a9a9.920a0220.232233.1e25SMTPIN_ADDED_MISSING@mx.google.com> Received: from [172.21.0.2] (unknown [172.18.0.240]) by postal.iol.unh.edu (Postfix) with ESMTP id D8B906051830; Sun, 19 Oct 2025 05:04:40 -0400 (EDT) Subject: |SUCCESS| [GIT MASTER] 56ae5c3b19a60b0b8bc71fda3e45376e390468b2 From: dpdklab@iol.unh.edu To: Test Report Cc: dpdk-test-reports@iol.unh.edu, Stephen Hemminger Content-Type: text/plain X-BeenThere: test-report@dpdk.org X-Mailman-Version: 2.1.29 Precedence: list List-Id: automatic DPDK test reports List-Unsubscribe: , List-Archive: List-Post: List-Help: List-Subscribe: , Errors-To: test-report-bounces@dpdk.org _Testing PASS_ Branch: dpdk-next-net 56ae5c3b19a60b0b8bc71fda3e45376e390468b2 --> testing pass Upstream job id: Generic-Unit-Test-DPDK#383253 Test environment and result as below: +-------------------------------+----------------+ | Environment | dpdk_unit_test | +===============================+================+ | CentOS Stream 9 | PASS | +-------------------------------+----------------+ | CentOS Stream 10 | PASS | +-------------------------------+----------------+ | Debian GNU/Linux 12 | PASS | +-------------------------------+----------------+ | Red Hat Enterprise Linux 8.10 | PASS | +-------------------------------+----------------+ | Fedora Linux 42 | PASS | +-------------------------------+----------------+ | Fedora Linux 40 | PASS | +-------------------------------+----------------+ | Fedora Linux 41 | PASS | +-------------------------------+----------------+ | Ubuntu 20.04 | PASS | +-------------------------------+----------------+ | Red Hat Enterprise Linux 9.5 | PASS | +-------------------------------+----------------+ | Windows Server 2022 | PASS | +-------------------------------+----------------+ | Ubuntu 22.04 | PASS | +-------------------------------+----------------+ | Ubuntu 24.04 | PASS | +-------------------------------+----------------+ CentOS Stream 9 Kernel: 5.15 Compiler: gcc gcc (GCC) 11.5.0 20240719 (Red Hat 11.5.0-11) CentOS Stream 10 Kernel: 5.15 Compiler: gcc gcc (GCC) 14.2.1 20250110 (Red Hat 14.2.1-8) Debian GNU/Linux 12 Kernel: 5.15 Compiler: gcc gcc (Debian 12.2.0-14+deb12u1) 12.2.0 Red Hat Enterprise Linux 8.10 Kernel: 5.15 Compiler: gcc gcc (GCC) 8.5.0 20210514 (Red Hat 8.5.0-22) Fedora Linux 42 Kernel: 5.15 Compiler: gcc gcc (GCC) 15.2.1 20250808 (Red Hat 15.2.1-1) Fedora Linux 40 Kernel: 5.15 Compiler: gcc gcc (GCC) 14.2.1 20240912 (Red Hat 14.2.1-3) Fedora Linux 41 Kernel: 5.15 Compiler: clang gcc (GCC) 14.3.1 20250523 (Red Hat 14.3.1-1) Ubuntu 20.04 Kernel: 5.15 Compiler: gcc gcc (Ubuntu 9.4.0-1ubuntu1~20.04.2) 9.4.0 Red Hat Enterprise Linux 9.5 Kernel: 5.15 Compiler: gcc gcc (GCC) 11.5.0 20240719 (Red Hat 11.5.0-2) Windows Server 2022 Kernel: 10.0.20348.2031 Compiler: clang 15.0.7, gcc 14.1.0 (MinGW), and MSVC VS 19.39.33521 Ubuntu 22.04 Kernel: 5.15 Compiler: gcc gcc (Ubuntu 11.4.0-1ubuntu1~22.04) 11.4.0 Ubuntu 24.04 Kernel: 5.15 Compiler: gcc gcc (Ubuntu 13.3.0-6ubuntu2~24.04) 13.3.0 To view detailed results, visit: https://lab.dpdk.org/results/dashboard/tarballs/35271/ UNH-IOL DPDK Community Lab To manage your email subscriptions, visit: https://lab.dpdk.org/results/dashboard/preferences/subscriptions/