From mboxrd@z Thu Jan 1 00:00:00 1970 Return-Path: Received: from mails.dpdk.org (mails.dpdk.org [217.70.189.124]) by inbox.dpdk.org (Postfix) with ESMTP id 2C4D94897C for ; Sun, 19 Oct 2025 12:56:29 +0200 (CEST) Received: from mails.dpdk.org (localhost [127.0.0.1]) by mails.dpdk.org (Postfix) with ESMTP id 0E3C84013F; Sun, 19 Oct 2025 12:56:29 +0200 (CEST) Received: from mail-pf1-f227.google.com (mail-pf1-f227.google.com [209.85.210.227]) by mails.dpdk.org (Postfix) with ESMTP id CC6964013F for ; Sun, 19 Oct 2025 12:56:27 +0200 (CEST) Received: by mail-pf1-f227.google.com with SMTP id d2e1a72fcca58-76e2ea933b7so3112404b3a.1 for ; Sun, 19 Oct 2025 03:56:27 -0700 (PDT) DKIM-Signature: v=1; a=rsa-sha256; c=relaxed/relaxed; d=iol.unh.edu; s=unh-iol; t=1760871387; x=1761476187; darn=dpdk.org; h=cc:to:from:subject:message-id:date:from:to:cc:subject:date :message-id:reply-to; bh=1qQW6VqFDjJ4O+AmC2lcGHSfNO3TBNSW8zbWHDSVcmw=; b=GAqbpdamSDchNDZwx4BW4mGzLN9tZ6lKN/xUFTyvUXV23wZr8cHBfIp4aF1aEufy0f bNC8kB6ubZuHKD8Z5htBXPZ1M74ZoFSnnVoONUJHlxjQK97fzmWWIoLhleBJQECXpC9h X6oiml7BEBxPVOB0QZEqVErmOknNpi+K1JU4c= X-Google-DKIM-Signature: v=1; a=rsa-sha256; c=relaxed/relaxed; d=1e100.net; s=20230601; t=1760871387; x=1761476187; h=cc:to:from:subject:message-id:date:x-gm-message-state:from:to:cc :subject:date:message-id:reply-to; bh=1qQW6VqFDjJ4O+AmC2lcGHSfNO3TBNSW8zbWHDSVcmw=; b=eXcQF9CcSnNgYq+zbsZy6XegweZmULxrmW+WfSNedX1mDv5lG1ykBwreNObGNRVkG2 uVDxbh2Qb4z0Na3JUIM4l7a0GHG6Qc1vxbUMEBNXO2ASO7R43QwOB9x+tOJ7hupxAc1p c5QCmfx6NwcwlEIP76/xG8zwQYNoa40RUFWsKYODAc/5z+6cpjvL+nBkU1oTysSg0BMK MfNkGwyiucoL6bKM7StG42EsUeaH15EXkL7qJffe/DSbqMLWIACYXkKJFqQ7ceiQ/SWH v3NKFfcyDRrzxbq4E0DMSm17HNyFLQtrxmS87Yq5uE9BZtPT9KQUUYYmqQeE/D3OpK7S 6Rhw== X-Gm-Message-State: AOJu0YxhgX7cDa2ax/u5eVmXlkdIET7bZ2F3EXW41dz8qfwMCV/HnS6t jtbfTgiGGKfz83mqS/Ozu/4EzXSKdWNebFt8G1SKongKvLmfsQ3Hq65v5LT7NTa7X7Gm6TWEJjK +QKQN7F2W8txTmIvV1UZtL3xGHY5P+/ZdfXfvNTLxV45/VYt2uoqalN8/AA4h X-Gm-Gg: ASbGnctw39irZoi9GZq2WsuC8ZRB3ZnECJlxpRQr1OiNe6iwrc9QwlIdvNAJoHpsoE5 /2qN8RDAHN0RTDcOGEUxsz6W8Ua2dnGuCIwoo8+WbWSZyWHoGSRuiEr4AIjGuh0QUVcV3Wv6kzW BTUb2MBv6lJYgsrIuUbey6nBqmnfHf0D1qXP59aE4mICvPhAjJ7hWLBxYrHHOifRPw5ux9PWJkl bNbZwCVBVcXys7jwWFiPkMxSChH2eJLJf+Kg03Lje0YFdSq8+rDCZ9p2N9iFDjLE81Hngmf2yTs 7xaqYp/O7QjsxDsLlfpo9szzJhs//UthEIP8ryp+1afF28bghNO+KpQGK7LMcxhXLMj5mJxvkhj 5pRt0nPKv X-Google-Smtp-Source: AGHT+IFz4ILL/XMKx6eUPumb3jMGbi+qmS5X07NmEF8qewaQ/xrOakdFg1T7etFoz7zKCvS6ua2QhF2IOnti X-Received: by 2002:a05:6a21:329f:b0:2b9:6b0b:66be with SMTP id adf61e73a8af0-334a78fbd57mr13439927637.14.1760871386940; Sun, 19 Oct 2025 03:56:26 -0700 (PDT) Received: from postal.iol.unh.edu (postal.iol.unh.edu. [2606:4100:3880:1234::84]) by smtp-relay.gmail.com with ESMTPS id 41be03b00d2f7-b6a76b2fe5esm560369a12.11.2025.10.19.03.56.26 (version=TLS1_2 cipher=ECDHE-ECDSA-AES128-GCM-SHA256 bits=128/128); Sun, 19 Oct 2025 03:56:26 -0700 (PDT) X-Relaying-Domain: iol.unh.edu Date: Sun, 19 Oct 2025 03:56:26 -0700 (PDT) Message-ID: <68f4c3da.050a0220.186361.03c7SMTPIN_ADDED_MISSING@mx.google.com> Received: from [172.21.0.2] (unknown [172.18.0.240]) by postal.iol.unh.edu (Postfix) with ESMTP id 8D4F36051830; Sun, 19 Oct 2025 06:56:25 -0400 (EDT) Subject: |SUCCESS| [GIT MASTER] 56ae5c3b19a60b0b8bc71fda3e45376e390468b2 From: dpdklab@iol.unh.edu To: Test Report Cc: dpdk-test-reports@iol.unh.edu, Stephen Hemminger Content-Type: text/plain X-BeenThere: test-report@dpdk.org X-Mailman-Version: 2.1.29 Precedence: list List-Id: automatic DPDK test reports List-Unsubscribe: , List-Archive: List-Post: List-Help: List-Subscribe: , Errors-To: test-report-bounces@dpdk.org _Testing PASS_ Branch: dpdk-next-net 56ae5c3b19a60b0b8bc71fda3e45376e390468b2 --> testing pass Upstream job id: Generic-DPDK-Compile-Meson#435932 Test environment and result as below: +------------------------------+--------------------+ | Environment | dpdk_meson_compile | +==============================+====================+ | Ubuntu 20.04 | PASS | +------------------------------+--------------------+ | Red Hat Enterprise Linux 9.5 | PASS | +------------------------------+--------------------+ | Fedora Linux 42 | PASS | +------------------------------+--------------------+ | Debian GNU/Linux 12 | PASS | +------------------------------+--------------------+ | Ubuntu 22.04 | PASS | +------------------------------+--------------------+ | Ubuntu 24.04 | PASS | +------------------------------+--------------------+ | CentOS Stream 10 | PASS | +------------------------------+--------------------+ | CentOS Stream 9 | PASS | +------------------------------+--------------------+ Ubuntu 20.04 Kernel: 5.15 Compiler: aarch64-linux-gnu-gcc gcc (Ubuntu 9.4.0-1ubuntu1~20.04.2) 9.4.0 Red Hat Enterprise Linux 9.5 Kernel: 5.4 Compiler: gcc gcc (GCC) 11.5.0 20240719 (Red Hat 11.5.0-2) Fedora Linux 42 Kernel: 5.4 Compiler: gcc gcc (GCC) 15.2.1 20250808 (Red Hat 15.2.1-1) Debian GNU/Linux 12 Kernel: 5.4 Compiler: gcc gcc (Debian 12.2.0-14+deb12u1) 12.2.0 Ubuntu 22.04 Kernel: 5.4 Compiler: gcc gcc (Ubuntu 11.4.0-1ubuntu1~22.04) 11.4.0 Ubuntu 24.04 Kernel: 5.4 Compiler: gcc gcc (Ubuntu 13.3.0-6ubuntu2~24.04) 13.3.0 CentOS Stream 10 Kernel: 5.4 Compiler: gcc gcc (GCC) 14.2.1 20250110 (Red Hat 14.2.1-8) CentOS Stream 9 Kernel: 5.4 Compiler: gcc gcc (GCC) 11.5.0 20240719 (Red Hat 11.5.0-11) To view detailed results, visit: https://lab.dpdk.org/results/dashboard/tarballs/35271/ UNH-IOL DPDK Community Lab To manage your email subscriptions, visit: https://lab.dpdk.org/results/dashboard/preferences/subscriptions/