From mboxrd@z Thu Jan 1 00:00:00 1970 Return-Path: Received: from mails.dpdk.org (mails.dpdk.org [217.70.189.124]) by inbox.dpdk.org (Postfix) with ESMTP id 711E34897E for ; Sun, 19 Oct 2025 16:51:48 +0200 (CEST) Received: from mails.dpdk.org (localhost [127.0.0.1]) by mails.dpdk.org (Postfix) with ESMTP id 48DED4013F; Sun, 19 Oct 2025 16:51:48 +0200 (CEST) Received: from mail-yw1-f228.google.com (mail-yw1-f228.google.com [209.85.128.228]) by mails.dpdk.org (Postfix) with ESMTP id 338A64013F for ; Sun, 19 Oct 2025 16:51:47 +0200 (CEST) Received: by mail-yw1-f228.google.com with SMTP id 00721157ae682-780fe76f457so40439547b3.0 for ; Sun, 19 Oct 2025 07:51:47 -0700 (PDT) DKIM-Signature: v=1; a=rsa-sha256; c=relaxed/relaxed; d=iol.unh.edu; s=unh-iol; t=1760885506; x=1761490306; darn=dpdk.org; h=cc:to:from:subject:message-id:date:from:to:cc:subject:date :message-id:reply-to; bh=i+8sqVJuJ5fAOVejLHI/SnHQkCFEK2pD59KCU2hiGvY=; b=HU5XhfJVg+7Yodv4pcDIBJrTMkuhRbQXsl6+sF0l3qqqkfc4ZcHhOb1HsWltguJnsT A9DbEcsgjmvrWDMgm61v7d1xB19wpCI3+SBuaynQoEm9tAThsu+el6C4dKRWot+5lpJW IlRsKxoDze8kKHJ927DeoIe+1LPjUgnWzPYZ8= X-Google-DKIM-Signature: v=1; a=rsa-sha256; c=relaxed/relaxed; d=1e100.net; s=20230601; t=1760885506; x=1761490306; h=cc:to:from:subject:message-id:date:x-gm-message-state:from:to:cc :subject:date:message-id:reply-to; bh=i+8sqVJuJ5fAOVejLHI/SnHQkCFEK2pD59KCU2hiGvY=; b=jS5RZyXDcK3CODohSdfBrQUfQiVTeyON9wv1hXbcXfFcRoCn+UvGcDdIB+JyZsVG2X Sf2JvL+VuZgGHEgfm3ICrXpKJn2ehkJJ6ctGrREkiL5GBacnRitX6dW0e/NekGSaoEz5 Xc4jaa5MwaOO4lpLOKVLLcuNZgIavGWPWCAZK1lK9GKHhF19sSBMSQht081rkgY0OMjM +Ru1rfW7S6aq7QRE7i1EBwrBaj2a/sRK7wG8cSaG/j/Llmm+ou4ij9f8Rk+/1Ww4FOdH EAuGIUOJpSytusbx0dlMYcIJwjrJlkI923RW1gsK0H+Zm9keFZkWxv4jOfzA0WgsdtCU evsQ== X-Gm-Message-State: AOJu0YyKjFyEmR/d2AkTf+75LXzKbuADAA/jG8sjTyTJb8J67n1Q1epI weK+YMJQV5FFHo/41LIjg9GbtxJgBR42OoddYCJz1tgdNWi6ECM9XDNtpNADmDxgM5rzAcyparU 78Jc0k4PNfVr0nFUZG1dM/pGyC9xYv8lhIJ1e7+ERBQpnJlzGjPpl30VIGoee X-Gm-Gg: ASbGnctve4E3T5JbcPtUdgw71wg0bsZ7EZbWlniWFFYhdaKzJnf2ho4DOdUFgiOODjW XoBiVSG0z305uwmRRtd1goIWQcySj2FIDl3tW/ElK0cB+slxj601IeU1S9N8io9Loiah7hGUdP/ n6PmlFB0aI5StS6IehMQFrLL0GKhaRvEmj9zNeOGAvlEIR2qHmKXxPYkfGl9brZQRjiFH9ReF0l SFVS6rDr5ynf/AOmKTPQdnpQD050XXILbmfpM6NqqGVAzuYX9Gk0xD7S2d4NanFUMj+0a1cVtzQ aa7jbQQKLXZGbUYtuRCOdcLqPNtOnyY/ydRXRJxqAuIGlwQgS+xxu2CQ7j4wMd1eAiveTjjQDHE RaWBIbFXO X-Google-Smtp-Source: AGHT+IHq8cfMCwSdxkya5H2sq75ij4AZk9q0ioDF1EjzRW/bP5+Owi08y9htyr9AOMiVxhrfE3HvEF/vTsA6 X-Received: by 2002:a05:690c:6ac2:b0:783:7081:c483 with SMTP id 00721157ae682-7837081cb71mr160666157b3.63.1760885506408; Sun, 19 Oct 2025 07:51:46 -0700 (PDT) Received: from postal.iol.unh.edu (postal.iol.unh.edu. [2606:4100:3880:1234::84]) by smtp-relay.gmail.com with ESMTPS id 00721157ae682-784674b3015sm4773167b3.18.2025.10.19.07.51.46 (version=TLS1_2 cipher=ECDHE-ECDSA-AES128-GCM-SHA256 bits=128/128); Sun, 19 Oct 2025 07:51:46 -0700 (PDT) X-Relaying-Domain: iol.unh.edu Date: Sun, 19 Oct 2025 07:51:46 -0700 (PDT) Message-ID: <68f4fb02.050a0220.140bdd.ed34SMTPIN_ADDED_MISSING@mx.google.com> Received: from [172.21.0.2] (unknown [172.18.0.240]) by postal.iol.unh.edu (Postfix) with ESMTP id D1B286051830; Sun, 19 Oct 2025 10:51:45 -0400 (EDT) Subject: |SUCCESS| [GIT MASTER] 56ae5c3b19a60b0b8bc71fda3e45376e390468b2 From: dpdklab@iol.unh.edu To: Test Report Cc: dpdk-test-reports@iol.unh.edu, Stephen Hemminger Content-Type: text/plain X-BeenThere: test-report@dpdk.org X-Mailman-Version: 2.1.29 Precedence: list List-Id: automatic DPDK test reports List-Unsubscribe: , List-Archive: List-Post: List-Help: List-Subscribe: , Errors-To: test-report-bounces@dpdk.org _Testing PASS_ Branch: dpdk-next-net 56ae5c3b19a60b0b8bc71fda3e45376e390468b2 --> testing pass Upstream job id: Generic-Unit-Test-DPDK#383256 Test environment and result as below: +------------------------------+--------------+----------------+---------------------------+------------------------------+ | Environment | lpm_autotest | dpdk_unit_test | cryptodev_sw_zuc_autotest | cryptodev_sw_snow3g_autotest | +==============================+==============+================+===========================+==============================+ | Ubuntu 20.04 | PASS | PASS | SKIPPED | SKIPPED | +------------------------------+--------------+----------------+---------------------------+------------------------------+ | CentOS Stream 9 | SKIPPED | PASS | SKIPPED | SKIPPED | +------------------------------+--------------+----------------+---------------------------+------------------------------+ | CentOS Stream 10 | SKIPPED | PASS | SKIPPED | SKIPPED | +------------------------------+--------------+----------------+---------------------------+------------------------------+ | Fedora Linux 40 | SKIPPED | PASS | SKIPPED | SKIPPED | +------------------------------+--------------+----------------+---------------------------+------------------------------+ | Fedora Linux 41 | SKIPPED | PASS | SKIPPED | SKIPPED | +------------------------------+--------------+----------------+---------------------------+------------------------------+ | Debian GNU/Linux 12 | SKIPPED | PASS | SKIPPED | SKIPPED | +------------------------------+--------------+----------------+---------------------------+------------------------------+ | Fedora Linux 42 | SKIPPED | PASS | SKIPPED | SKIPPED | +------------------------------+--------------+----------------+---------------------------+------------------------------+ | Ubuntu 22.04 | SKIPPED | PASS | SKIPPED | SKIPPED | +------------------------------+--------------+----------------+---------------------------+------------------------------+ | Red Hat Enterprise Linux 9.5 | SKIPPED | PASS | SKIPPED | SKIPPED | +------------------------------+--------------+----------------+---------------------------+------------------------------+ | Ubuntu 24.04 | SKIPPED | PASS | SKIPPED | SKIPPED | +------------------------------+--------------+----------------+---------------------------+------------------------------+ | Debian 12 (arm) | SKIPPED | SKIPPED | PASS | PASS | +------------------------------+--------------+----------------+---------------------------+------------------------------+ Ubuntu 20.04 Kernel: 5.4 Compiler: gcc gcc (Ubuntu 9.4.0-1ubuntu1~20.04.2) 9.4.0 CentOS Stream 9 Kernel: 5.4 Compiler: gcc gcc (GCC) 11.5.0 20240719 (Red Hat 11.5.0-11) CentOS Stream 10 Kernel: 5.4 Compiler: gcc gcc (GCC) 14.2.1 20250110 (Red Hat 14.2.1-8) Fedora Linux 40 Kernel: 5.4 Compiler: gcc gcc (GCC) 14.2.1 20240912 (Red Hat 14.2.1-3) Fedora Linux 41 Kernel: 5.4 Compiler: clang gcc (GCC) 14.3.1 20250523 (Red Hat 14.3.1-1) Debian GNU/Linux 12 Kernel: 5.4 Compiler: gcc gcc (Debian 12.2.0-14+deb12u1) 12.2.0 Fedora Linux 42 Kernel: 5.4 Compiler: clang gcc (GCC) 15.2.1 20250808 (Red Hat 15.2.1-1) Ubuntu 22.04 Kernel: 5.15 Compiler: gcc gcc (Ubuntu 11.4.0-1ubuntu1~22.04.2) 11.4.0 Red Hat Enterprise Linux 9.5 Kernel: 5.4 Compiler: gcc gcc (GCC) 11.5.0 20240719 (Red Hat 11.5.0-2) Ubuntu 24.04 Kernel: 5.4 Compiler: gcc gcc (Ubuntu 13.3.0-6ubuntu2~24.04) 13.3.0 Debian 12 (arm) Kernel: Depends on container host Compiler: gcc (Debian 12.2.0-14) 12.2.0 To view detailed results, visit: https://lab.dpdk.org/results/dashboard/tarballs/35271/ UNH-IOL DPDK Community Lab To manage your email subscriptions, visit: https://lab.dpdk.org/results/dashboard/preferences/subscriptions/